Workbook

Sheet 入力用
A1: 【入力欄】 | D1: ↓下記セルに入力ください。
A2: 年度(令和〇年) | D2: 7 | E2: ←数字をお書きください。(例)令和4年度→「4」
A3: 基礎情報 | B3: カフェ | C3: 認知症カフェの名称 | E3: ←登録時の正式名称でお書きください。
C4: 認知症カフェの種類 | E4: ←（プルダウン）
C5: 毎月の開催頻度 | E5: ←実績報告時には実績回数でお書きください。（プルダウン）
B6: 団体 | C6: 団体・事業者名称
C7: 事業所名称（あれば）
C8: 団体住所
C9: 代表者職・氏名 | E9: ←氏名だけでなく代表者職までお書きください。
B10: 担当者 | C10: 担当者職・氏名
C11: 連絡電話番号
C12: Fax番号
C13: Eメールアドレス
A14: 交付申請 | C14: 交付申請額 | E14: ←数字のみでお書きください。例：「123000」
A15: 交付決定 | C15: 交付決定日 | E15: ←区からの交付決定通知に記載の決定日、番号をお書きください。例：「2023/6/3」
C16: 交付決定番号 | E16: ←数字のみでお書きください。例：品福地収第56号→「56」

Sheet １－①助成金交付申請書【自動入力】
B2: 第5号様式（第15条関係）
K3: 年 月 日
B4: 品川区長様
E5: 団体・事業者名称： | H5: =入力用!D6 -> 0
E6: （事業所名称： | H6: =入力用!D7 -> 0 | P6: ）
E7: 住所・所在地： | H7: =入力用!D8 -> 0
E8: 代表者職・氏名： | H8: =入力用!D9 -> 0
C10: 令和 | D10: =入力用!D2 -> 7 | E10: 年度品川区認知症カフェ助成金交付申請書
B12: 品川区認知症カフェ助成金について、下記のとおり関係書類を添えて申請します。
G14: 記
B16: １．認知症カフェの名称 「 | G16: 「 | I16: =入力用!D3 -> 0 | P16: 」
B18: ２．認知症カフェの種類 | F18: =IF(入力用!D4="一般形認知症カフェ","■","□") -> □ | G18: 一般型認知症カフェ | L18: =IF(入力用!D4="","□", IF(入力用!D4="一般形認知症カフェ","□","■")) -> □ | M18: 医療機関連携型認知症カフェ
B20: ３．開催頻度
B21: =IF(入力用!D5="月１回","■","□") -> □ | C21: １月につき１回 | F21: =IF(入力用!D5="月２～３回","■","□") -> □ | G21: １月につき２回または３回 | N21: =IF(入力用!D5="月４回以上","■","□") -> □ | O21: １月につき４回以上
B23: ４．交付申請額 | F23: 金 | G23: =入力用!D14 -> 0 | I23: 円
B25: ５．関係書類
B26: 収支計算書
B28: ６．連絡先等
B29: (1) 担当者職・氏名 | F29: =入力用!D10 -> 0
B30: (2) 連絡電話番号 | F30: =入力用!D11 -> 0
B31: (3) Fax番号 | F31: =入力用!D12 -> 0
B32: (4) Eメールアドレス | F32: =入力用!D13 -> 0

Sheet １－②収支計算書（申請時）
C1: 収 支 計 算 書
A3: 【収入】
B4: 費用項目 | E4: 金額（円） | G4: 内訳
B8: ①合計 | E8: =SUM(E5:F7) -> 0
B10: 【支出】
B11: 助成対象費用
B12: 費用項目 | E12: 金額（円） | G12: 内訳
B13: 報償費（講師、ボランティア等への謝礼）
B14: 需用費（物品等）
B15: 役務費（保険料、切手代）
B16: 使用料及び賃借料（会場使用料、機材の使用料等）
B17: 交通費（講師、ボランティア等）
B18: ②小計 | E18: =SUM(E12:F16) -> 0
B20: 【交付申請額】
B21: 助成対象費用 (②-①) | E21: 交付申請額（助成上限額と左記助成対象費用を比較し、少ない方の額）
B22: =SUM(E18-E8) -> 0

Sheet ２－①実績報告書【自動入力】
B2: 第10号様式（第18条関係）
K3: 年 月 日
B4: 品川区長様
E5: 団体・事業者名称： | H5: =入力用!D6 -> 0
E6: （事業所名称： | H6: =入力用!D7 -> 0 | M6: ）
E7: 住所・所在地： | H7: =入力用!D8 -> 0
E8: 代表者職・氏名： | H8: =入力用!D9 -> 0
C10: 令和 | D10: =入力用!D2 -> 7 | E10: 年度品川区認知症カフェ実績報告書
B12: =入力用!D15 -> 0 | E12: 付品福地収第 | G12: =入力用!D16 -> 0 | H12: 号にて交付決定を受けた品川区認知症カフェ
B13: 助成金にかかる事業について、下記のとおり完了したので、実績を報告します。
H15: 記
B17: １．認知症カフェの名称 | F17: 「 | G17: =入力用!D3 -> 0 | M17: 」
B19: ２．認知症カフェの種類 | F19: =IF(入力用!D4="一般形認知症カフェ","■","□") -> □ | G19: 一般型認知症カフェ | J19: =IF(入力用!D4="","□", IF(入力用!D4="一般形認知症カフェ","□","■")) -> □ | K19: 医療機関連携型認知症カフェ
B21: ３．関係書類
B22: (1) 実施状況報告書
B23: (2) 収支報告書
B24: (3) 領収書
B25: (4) その他 | E25: （ | M25: ）
B27: ４．連絡先等
B28: (1) 担当者職・氏名 | G28: =入力用!D10 -> 0
B29: (2) 連絡電話番号 | G29: =入力用!D11 -> 0
B30: (3) Fax番号 | G30: =入力用!D12 -> 0
B31: (4) Eメールアドレス | G31: =入力用!D13 -> 0

Sheet ２－②実施状況報告書　
A1: 認知症カフェ実施状況報告書
A3: 年 月 日
A4: カフェの 名称 | C4: =入力用!D3 -> 0
A5: 運営主体 | C5: =入力用!D6 -> 0
A6: 実施内容
A7: 参加者＋運営スタッフ | C7: =SUM(J7:J9,M7) -> 0 | F7: 内訳 | G7: ①認知症の人と思われる方 | J7: =SUM(G15:G30) -> 0 | K7: 当日の運営スタッフ 合計 | M7: =SUM(N15:N38) -> 0
G8: ② ①の家族(介護者) | J8: =SUM(H15:H38) -> 0
G9: ③その他参加者 | J9: =SUM(I15:I38) -> 0
A10: 開催日時等
A11: 回数 | B11: 月日 | D11: 時間 | E11: 会場 | G11: 参加者 | J11: 参加者 合計 (自動) | K11: 当日の運営スタッフ | N11: ｽﾀｯﾌ 合計 (自動)
G12: ① 認知症の人と 思われる方 | H12: ② ①の家族 | I12: ③ その他 | K12: 団体構成員 | M12: ボランティア
K13: 専門職等 | L13: 左記以外
A14: 例 | B14: 45748 | D14: 10:00-12:00 | E14: ●● | G14: 1 | H14: 1 | I14: 1 | J14: =SUM(G14:I14) -> 3 | K14: 1 | L14: 1 | M14: 1 | N14: =SUM(K14:M14) -> 3
A15: 1 | J15: =SUM(G15:I15) -> 0 | N15: =SUM(K15:M15) -> 0
A16: 2 | J16: =SUM(G16:I16) -> 0 | N16: =SUM(K16:M16) -> 0
A17: 3 | J17: =SUM(G17:I17) -> 0 | N17: =SUM(K17:M17) -> 0
A18: 4 | J18: =SUM(G18:I18) -> 0 | N18: =SUM(K18:M18) -> 0
A19: 5 | J19: =SUM(G19:I19) -> 0 | N19: =SUM(K19:M19) -> 0
A20: 6 | J20: =SUM(G20:I20) -> 0 | N20: =SUM(K20:M20) -> 0
A21: 7 | J21: =SUM(G21:I21) -> 0 | N21: =SUM(K21:M21) -> 0
A22: 8 | J22: =SUM(G22:I22) -> 0 | N22: =SUM(K22:M22) -> 0
A23: 9 | J23: =SUM(G23:I23) -> 0 | N23: =SUM(K23:M23) -> 0
A24: 10 | J24: =SUM(G24:I24) -> 0 | N24: =SUM(K24:M24) -> 0
A25: 11 | J25: =SUM(G25:I25) -> 0 | N25: =SUM(K25:M25) -> 0
A26: 12 | J26: =SUM(G26:I26) -> 0 | N26: =SUM(K26:M26) -> 0
... A38: 24 | J38: =SUM(G38:I38) -> 0 | N38: =SUM(K38:M38) -> 0
A39: 記載欄が不足する場合は、コピーしてご使用ください。

Sheet ２－③収支報告書
C1: 収 支 報 告 書
A3: 【収入】
B4: 費用項目 | E4: 金額（円） | G4: 内訳
B8: ①合計 | E8: =SUM(E5:F7) -> 0
B10: 【支出】
B11: 助成対象費用
B12: 費用項目 | E12: 金額（円） | G12: 内訳
B13: 報償費（講師、ボランティア等への謝礼）
B14: 需用費（物品等）
B15: 役務費（保険料、切手代）
B16: 使用料及び賃借料（会場使用料、機材の使用料等）
B17: 交通費（講師、ボランティア等）
B18: ②小計 | E18: =SUM(E13:F17) -> 0
B20: 【交付申請額】
B21: 助成対象費用 ②-① | E21: 交付申請額（助成上限額と左記助成対象費用を比較し、少ない方の額）
B22: =E18-E8 -> 0

Sheet ２－④支払計算書
A1: 支 払 計 算 書
A2: （ 費 ）
A5: 支払内訳
A6: 日 付 | C6: 摘 要 | D6: 金額 | E6: 日 付 | G6: 摘 要 | H6: 金額
E22: 計 | H22: =SUM(D7:D22,H7:H21) -> 0
A23: 備 考

Sheet 2ー⑤支払証明書
A2: 支 払 計 算 書
C4: ※ここに領収書を添付してください。
H37: （ 費）
A38: カフェ名： | C38: =入力用!D3 -> 0 | H38: （ 枚／ 枚中）

Sheet 実施計画書
A1: 認知症カフェ【 | I1: 】実施計画書
B3: ▼現在の活動状況について、お知らせください。
B4: □ | C4: 活動している
B5: □ | C5: 休止している （再開時期目安： | K5: ）
A6: Ｎｏ． | B6: 実施年月日 | D6: 実施時間 | E6: 実施場所 | G6: 実施内容
A7: 1
A8: 2
A9: 3
A10: 4
A11: 5
A12: 6
A13: 7
A14: 8
A15: 9
A16: 10
A17: 11
A18: 12
... A30: 24
F31: 記載欄が不足する場合は、欄を追加してご使用ください。
