Workbook
Name _new1: [1]【参考】サービス名一覧!$A$4:$A$27
Name _new1: #REF!
Name erea: #REF!
Name new: #REF!
Name www: #REF!
Name www: #REF!
Name サービス: #REF!
Name サービス: #REF!
Name サービス: #REF!
Name サービス２: #REF!
Name サービス種別: [2]サービス種類一覧!$B$4:$B$20
Name サービス種類: [3]サービス種類一覧!$C$4:$C$20
Name サービス名: 【参考】数式用!#REF!
Name サービス名: #REF!
Name サービス名: #REF!
Name サービス名: #REF!
Name サービス名称: #REF!
Name 愛知県: 【参考】数式用2!$D$993:$D$1046
Name 愛媛県: 【参考】数式用2!$D$1422:$D$1441
Name 一覧: [4]加算率一覧!$A$4:$A$25
Name 茨城県: 【参考】数式用2!$D$415:$D$458
Name 岡山県: 【参考】数式用2!$D$1312:$D$1338
Name 沖縄県: 【参考】数式用2!$D$1709:$D$1749
Name 岩手県: 【参考】数式用2!$D$228:$D$260
Name 岐阜県: 【参考】数式用2!$D$916:$D$957
Name 宮崎県: 【参考】数式用2!$D$1640:$D$1665
Name 宮城県: 【参考】数式用2!$D$261:$D$295
Name 京都府: 【参考】数式用2!$D$1095:$D$1120
Name 熊本県: 【参考】数式用2!$D$1577:$D$1621
Name 群馬県: 【参考】数式用2!$D$484:$D$518
Name 広島県: 【参考】数式用2!$D$1339:$D$1361
Name 香川県: 【参考】数式用2!$D$1405:$D$1421
Name 高知県: 【参考】数式用2!$D$1442:$D$1475
Name 佐賀県: 【参考】数式用2!$D$1536:$D$1555
Name 埼玉県: 【参考】数式用2!$D$519:$D$581
Name 三重県: 【参考】数式用2!$D$1047:$D$1075
Name 山形県: 【参考】数式用2!$D$321:$D$355
Name 山口県: 【参考】数式用2!$D$1362:$D$1380
Name 山梨県: 【参考】数式用2!$D$812:$D$838
Name 滋賀県: 【参考】数式用2!$D$1076:$D$1094
Name 鹿児島県: 【参考】数式用2!$D$1666:$D$1708
Name 種類: [5]サービス種類一覧!$A$4:$A$20
Name 秋田県: 【参考】数式用2!$D$296:$D$320
Name 新潟県: 【参考】数式用2!$D$731:$D$760
Name 神奈川県: 【参考】数式用2!$D$698:$D$730
Name 青森県: 【参考】数式用2!$D$188:$D$227
Name 静岡県: 【参考】数式用2!$D$958:$D$992
Name 石川県: 【参考】数式用2!$D$776:$D$794
Name 千葉県: 【参考】数式用2!$D$582:$D$635
Name 大阪府: 【参考】数式用2!$D$1121:$D$1163
Name 大分県: 【参考】数式用2!$D$1622:$D$1639
Name 長崎県: 【参考】数式用2!$D$1556:$D$1576
Name 長野県: 【参考】数式用2!$D$839:$D$915
Name 鳥取県: 【参考】数式用2!$D$1274:$D$1292
Name 島根県: 【参考】数式用2!$D$1293:$D$1311
Name 東京都: 【参考】数式用2!$D$636:$D$697
Name 徳島県: 【参考】数式用2!$D$1381:$D$1404
Name 特定: #REF!
Name 特定: #REF!
Name 栃木県: 【参考】数式用2!$D$459:$D$483

Sheet 基本情報入力シート
A1: 実績報告書（処遇改善加算）作成用 基本情報入力シート | AC1: ↓隠し列
A3: ●はじめに本シート（基本情報入力シート）の黄色セルに入力することで、介護職員等処遇改善加算（以下、処遇改善加算）の対象事業所等に関する基本的な情報が、各様式に自動的に転記されます。
A4: 【注意】本シートは様式作成用のため、本実績報告書の提出を紙で行う場合、本シートの提出は不要です。ただし、自治体に電子媒体で提出する場合は、 本シートを削除せずそのまま提出してください。
A6: ●「別紙様式3-1」を完成させるには、「基本情報入力シート」「別紙様式3-2」から転記される情報が必要です。まずはこれらのシートを完成させてください。
A14: ●「別紙様式3－1」に記載する処遇改善加算による賃金改善の所要額について、具体的な算出方法は問いませんが、各職員に対し、処遇改善加算を原資として行った 賃金改善額を積み上げる（足し上げる）などの適切な方法により算出してください。 また、「賃金額」を記入する欄には、基本給、手当、賞与等（退職手当を除く。）を含む金額を記入してください。
A16: １ 提出先に関する情報
B17: 処遇改善加算の届出に係る提出先（指定権者）の名称を入力してください。
B18: 提出先の指定権者名 | G18: 東京都
A20: ２ 基本情報
B21: 下表に必要事項を入力してください。記入内容が別紙様式3-1及び3-2に反映されます。
B22: 法人名 | C22: フリガナ | M22: ○○ケアサービス
C23: 名称 | M23: ○○ケアサービス | AC23: 〒結合
B24: 法人住所 | C24: 〒 | M24: 100 | P24: － | Q24: 0001 | AC24: =CONCATENATE(M24,N24,O24,P24,Q24,R24,S24,T24) -> 100－0001
C25: 住所１（番地・住居番号まで） | M25: 東京都千代田区１－１－１－
C26: 住所２（建物名等） | M26: ○○ビル○○号室
B27: 法人代表者 | C27: 職名 | M27: 代表取締役
C28: 氏名 | M28: 厚労 花子
B29: 書類作成 担当者 | C29: フリガナ | M29: コウロウ タロウ
C30: 氏名 | M30: 厚労 太郎
B31: 連絡先 | C31: 電話番号 | M31: 000-0000-0000
C32: E-mail | M32: aaa@aaa.com
A34: ３ 処遇改善加算対象事業所に関する情報
B35: 下表に必要事項を入力してください。記入内容が別紙様式3-2に反映されます。
B37: 通し番号 | C37: 介護保険事業所番号 | M37: 指定権者名 | R37: 事業所の所在地 | X37: 事業所名 | Y37: サービス名 | Z37: サービスコード
R38: 都道府県 | W38: 市区町村
B39: 1 | C39: 1111111111 | M39: 東京都 | R39: 東京都 | W39: 千代田区 | X39: ○○ホームヘルプ | Y39: 訪問介護 | Z39: =IFERROR(VLOOKUP(Y39, 【参考】数式用!$A$2:$B$48, 2, FALSE), "") -> 11
B40: =B39+1 -> 2 | C40: 2222222222 | M40: 東京都 | R40: 東京都 | W40: 千代田区 | X40: ××ホームヘルプ | Y40: 訪問介護 | Z40: =IFERROR(VLOOKUP(Y40, 【参考】数式用!$A$2:$B$48, 2, FALSE), "") -> 11
B41: =B40+1 -> 3 | C41: 3333333333 | M41: 東京都 | R41: 東京都 | W41: 千代田区 | X41: △△ホームヘルプ | Y41: 訪問介護 | Z41: =IFERROR(VLOOKUP(Y41, 【参考】数式用!$A$2:$B$48, 2, FALSE), "") -> 11
B42: =B41+1 -> 4 | C42: 4444444444 | M42: 東京都 | R42: 東京都 | W42: 千代田区 | X42: ■■ホームヘルプ | Y42: 訪問介護 | Z42: =IFERROR(VLOOKUP(Y42, 【参考】数式用!$A$2:$B$48, 2, FALSE), "") -> 11
B43: =B42+1 -> 5 | C43: 1111111111 | M43: 千代田区 | R43: 東京都 | W43: 千代田区 | X43: ◇◇ホームヘルプ | Y43: 夜間対応型訪問介護 | Z43: =IFERROR(VLOOKUP(Y43, 【参考】数式用!$A$2:$B$48, 2, FALSE), "") -> 71
B44: =B43+1 -> 6 | C44: 1111111112 | M44: 千代田区 | R44: 東京都 | W44: 千代田区 | X44: ○○定巡 | Y44: 定期巡回・随時対応型訪問介護看護 | Z44: =IFERROR(VLOOKUP(Y44, 【参考】数式用!$A$2:$B$48, 2, FALSE), "") -> 76
B45: =B44+1 -> 7 | C45: 1111111113 | M45: 東京都 | R45: 東京都 | W45: 千代田区 | X45: ○○訪問入浴介護 | Y45: 訪問入浴介護 | Z45: =IFERROR(VLOOKUP(Y45, 【参考】数式用!$A$2:$B$48, 2, FALSE), "") -> 12
B46: =B45+1 -> 8 | C46: 1111111114 | M46: 東京都 | R46: 東京都 | W46: 千代田区 | X46: ○○訪問入浴介護 | Y46: 介護予防訪問入浴介護 | Z46: =IFERROR(VLOOKUP(Y46, 【参考】数式用!$A$2:$B$48, 2, FALSE), "") -> 62
B47: =B46+1 -> 9 | C47: 1111111115 | M47: 東京都 | R47: 東京都 | W47: 千代田区 | X47: ○○デイケア | Y47: 通所介護 | Z47: =IFERROR(VLOOKUP(Y47, 【参考】数式用!$A$2:$B$48, 2, FALSE), "") -> 15
B48: =B47+1 -> 10 | C48: 1111111116 | M48: 千代田区 | R48: 東京都 | W48: 千代田区 | X48: ○○デイケア | Y48: 地域密着型通所介護 | Z48: =IFERROR(VLOOKUP(Y48, 【参考】数式用!$A$2:$B$48, 2, FALSE), "") -> 78
B49: =B48+1 -> 11 | C49: 1111111117 | M49: 東京都 | R49: 東京都 | W49: 千代田区 | X49: ○○リハ | Y49: 通所リハビリテーション | Z49: =IFERROR(VLOOKUP(Y49, 【参考】数式用!$A$2:$B$48, 2, FALSE), "") -> 16
B50: =B49+1 -> 12 | C50: 1111111118 | M50: 東京都 | R50: 東京都 | W50: 千代田区 | X50: ○○リハ | Y50: 介護予防通所リハビリテーション | Z50: =IFERROR(VLOOKUP(Y50, 【参考】数式用!$A$2:$B$48, 2, FALSE), "") -> 66
B51: =B50+1 -> 13 | C51: 1111111119 | M51: 東京都 | R51: 東京都 | W51: 千代田区 | X51: ○○の杜 | Y51: 特定施設入居者生活介護 | Z51: =IFERROR(VLOOKUP(Y51, 【参考】数式用!$A$2:$B$48, 2, FALSE), "") -> 33
... B85: =B84+1 -> 47 | C85: 1111111153 | M85: 千代田区 | R85: 東京都 | W85: 千代田区 | X85: ○○デイケア | Y85: 通所型サービス（独自／定額） | Z85: =IFERROR(VLOOKUP(Y85, 【参考】数式用!$A$2:$B$48, 2, FALSE), "") -> A8
B86: =B85+1 -> 48 | Z86: =IFERROR(VLOOKUP(Y86, 【参考】数式用!$A$2:$B$48, 2, FALSE), "")
B87: =B86+1 -> 49 | Z87: =IFERROR(VLOOKUP(Y87, 【参考】数式用!$A$2:$B$48, 2, FALSE), "")
B88: =B87+1 -> 50 | Z88: =IFERROR(VLOOKUP(Y88, 【参考】数式用!$A$2:$B$48, 2, FALSE), "")
B89: =B88+1 -> 51 | Z89: =IFERROR(VLOOKUP(Y89, 【参考】数式用!$A$2:$B$48, 2, FALSE), "")
B90: =B89+1 -> 52 | Z90: =IFERROR(VLOOKUP(Y90, 【参考】数式用!$A$2:$B$48, 2, FALSE), "")
B91: =B90+1 -> 53 | Z91: =IFERROR(VLOOKUP(Y91, 【参考】数式用!$A$2:$B$48, 2, FALSE), "")
B92: =B91+1 -> 54 | Z92: =IFERROR(VLOOKUP(Y92, 【参考】数式用!$A$2:$B$48, 2, FALSE), "")
B93: =B92+1 -> 55 | Z93: =IFERROR(VLOOKUP(Y93, 【参考】数式用!$A$2:$B$48, 2, FALSE), "")
B94: =B93+1 -> 56 | Z94: =IFERROR(VLOOKUP(Y94, 【参考】数式用!$A$2:$B$48, 2, FALSE), "")
B95: =B94+1 -> 57 | Z95: =IFERROR(VLOOKUP(Y95, 【参考】数式用!$A$2:$B$48, 2, FALSE), "")
B96: =B95+1 -> 58 | Z96: =IFERROR(VLOOKUP(Y96, 【参考】数式用!$A$2:$B$48, 2, FALSE), "")
B97: =B96+1 -> 59 | Z97: =IFERROR(VLOOKUP(Y97, 【参考】数式用!$A$2:$B$48, 2, FALSE), "")
... B138: =B137+1 -> 100 | Z138: =IFERROR(VLOOKUP(Y138, 【参考】数式用!$A$2:$B$48, 2, FALSE), "")

Sheet 別紙様式3-1（処遇改善加算　総括表）
B1: 別紙様式３－１ | Z1: 提出先 | AD1: =IF(基本情報入力シート!G18="","",基本情報入力シート!G18) -> 東京都
B3: 介護職員等処遇改善加算 実績報告書（令和７年度）
B5: １ 基本情報
B6: フリガナ | H6: =IF(基本情報入力シート!M22="","",基本情報入力シート!M22) -> ○○ケアサービス
B7: 法人名 | H7: =IF(基本情報入力シート!M23="","",基本情報入力シート!M23) -> ○○ケアサービス
B8: 法人所在地 | H8: 〒 | I8: =IF(基本情報入力シート!AC24="－","",基本情報入力シート!AC24) -> 100－0001
H9: =IF(基本情報入力シート!M25="","",基本情報入力シート!M25) -> 東京都千代田区１－１－１－
H10: =IF(基本情報入力シート!M26="","",基本情報入力シート!M26) -> ○○ビル○○号室
B11: フリガナ | H11: =IF(基本情報入力シート!M29="","",基本情報入力シート!M29) -> コウロウ タロウ
B12: 書類作成担当者 | H12: =IF(基本情報入力シート!M30="","",基本情報入力シート!M30) -> 厚労 太郎
B13: 連絡先 | H13: 電話番号 | L13: =IF(基本情報入力シート!M31="","",基本情報入力シート!M31) -> 000-0000-0000 | V13: E-mail | Z13: =IF(基本情報入力シート!M32="","",基本情報入力シート!M32) -> aaa@aaa.com
B15: ２ 実績報告について
B16: （１）加算額以上の賃金改善について（全体）
B17: 算定した加算の合計
B18: ① | C18: 令和７年度の加算額 | W18: ='別紙様式3-2（処遇改善加算 個票）'!N5 -> 628382501 | AC18: 円
B19: ② | C19: 令和６年度に令和７年度の賃金改善に充てるために繰り越した額 | W19: 10000000 | AC19: 円 | AD19: ←
B20: ③ | C20: 令和７年度に賃金改善が必要な額（a + b) | W20: =W18+W19 -> 638382501 | AC20: 円 | AD20: ← | AE20: =IF(H7="", "", IFERROR(IF(W21>=W20,"○","×"),"")) -> ○ | AQ20: ！④賃金改善額 (d) が ③賃金改善が必要な額 (c) を下回っています。
B21: ④ | C21: 令和７年度の賃金改善額 （③の額以上となること。介護人材確保・職場環境改善等事業から人件費に充てた額を除く。） | W21: 640000000 | AC21: 円 | AD21: ←
B22: 【記入上の注意】
B23: ・ | C23: (d)には、処遇改善加算の算定により実施する介護職員の賃金改善の額を計算し、記入すること。その際、加算による賃金改善を行った場合の法定福利費等の事業主負担の増加分を含めることができる。
B25: （２）加算以外の部分で賃金水準を下げないことについて
B26: ① | C26: 令和７年度の加算の影響を除いた賃金額 | Q26: =Q27-Q28-Q29 -> 320500000 | W26: 円 | X26: ← | Y26: =IF(H7="", "", IF(Q30="","",IF(Q26="","",IF(Q26>=Q30,"○","×")))) -> ○ | AQ26: ！この欄が「×」の場合、加算以外の部分で賃金水準が引き下げられています。この欄が「×」のまま提出する場合には、別紙様式５「特別な事情に係る届出書」を合わせて提出してください。 ※「処遇改善加算等による賃金改善以外の部分で賃金水準を引き下げない」とは、令和７年度と令和６年度の加算等を除いた賃金総額を比較した上で、当該賃金総額が引き下がっていないことをいいます。 具体的には、「令和７年度の賃金の総額（f）」から「令和７年度の賃金改善額(g)」及び「介護人材確保・職場環境改善等事業から人件費に充てた額(h)」を除いた額（e = f - g - h）と、「令和６年度の賃金の総額(j)」から令和６年度の各加算額、補助金額及び独自の賃金改善額 (k + l + m) 」を除いた額 {i = j - (k + l + m)} を比較した上で、加算等の影響を除いた賃金額の水準を引き下げないことをいいます。
C27: （ア）令和７年度の賃金の総額 | Q27: 1000000000 | W27: 円
C28: （イ）令和７年度の賃金改善額（再掲） | Q28: =W21 -> 640000000 | W28: 円
C29: （ウ）介護人材確保・職場環境改善等事業から 人件費に充てた額 | Q29: 39500000 | W29: 円
B30: ② | C30: 令和６年度の加算及び独自の賃金改善の影響を除いた賃金額（①の額は②の額を下回らないこと） | Q30: =Q31-Q32-Q33-Q34 -> 315000000 | W30: 円 | X30: ←
C31: (ア)令和６年度の賃金の総額 | Q31: 950000000 | W31: 円
C32: (イ)令和６年度の旧３加算及び処遇改善加算の総額 | Q32: 600000000 | W32: 円
C33: (ウ)令和６年４・５月分の処遇改善支援補助金 の総額 | Q33: 5000000 | W33: 円
C34: (エ)令和６年度の各介護サービス事業者等の 独自の賃金改善額 | Q34: 30000000 | W34: 円
B36: 【記入上の注意】
B37: ・ | C37: (j) には、職員構成が変わった等の事由により、例えば、本年度に入職（退職）した職員と同等の賃金水準の職員が前年度から在籍していた（いなかった）ものと仮定して計算するなどの方法により、今年度との比較に適した値に修正することが可能である。
B38: ・ | C38: (k)は、国民健康保険団体連合会から送付される「介護職員処遇改善加算等総額のお知らせ」及び「介護職員処遇改善加算等内訳のお知らせ」に基づいて記入すること。(l)は、国民健康保険団体連合会から送付される「介護職員処遇改善支援補助金 支払額通知書」及び「介護職員処遇改善支援補助金 支払額内訳書」に基づいて記載すること。
B39: ・ | C39: (m)の独自の賃金改善額とは、令和６年度における独自の賃金改善分（初めて処遇改善加算を取得した年度以降に新たに行ったものに限る。旧３加算・処遇改善加算そのものの配分を除く。）をいうものであり、処遇改善加算等の加算額を超えて賃金改善を行った場合にはその金額も含む。(m)に計上する金額がある場合には、必ず「２（３） 令和６年度の独自の賃金改善（処遇改善加算等の配分以外の独自の賃金額）」欄に支給額、方法等の具体的な賃金改善の内容を記載すること。
B41: （３）令和６年度の独自の賃金改善（処遇改善加算等の配分以外の独自の賃金額）
B42: ・ | C42: ２（2) ②(エ)の「令和６年度の各介護サービス事業者等の独自の賃金改善額」に計上する場合は記載すること。
B43: 独自の賃金改善の具体的な取組内容 | F43: （例） ・令和６年度の旧３加算及び処遇改善加算並びに補助金を上回るために行った賃金改善（余剰分） ○○○円 ・加算等を原資としない△△手当の創設・維持に要する費用 ○○○円 | AQ43: ！「独自の賃金改善の具体的な取組内容」及び「独自の賃金改善額の算定根拠」を記載してください。
B44: 独自の賃金改善額の算定根拠 | F44: （例） ・基本給の処遇改善加算等を原資とする部分と処遇改善手当の総額（○○○円）から２（２）②イ・ウの総額（○○○円）を除して、○○○円 ・加算等を原資としない△△手当は、対象者〇人×○円×１２か月＝○○○円
B46: ３ 介護職員等処遇改善加算の要件について
B47: （１）月額賃金改善要件Ⅰ（処遇改善加算Ⅳの１/２以上の月額賃金改善） 【処遇改善加算Ⅰ～Ⅳ】 | AM47: 処遇改善加算Ⅰ～Ⅳ | AN47: =COUNTIF('別紙様式3-2（処遇改善加算 個票）'!P:P,"処遇改善加算Ⅰ")+COUNTIF('別紙様式3-2（処遇改善加算 個票）'!P:P,"処遇改善加算Ⅱ")+COUNTIF('別紙様式3-2（処遇改善加算 個票）'!P:P,"処遇改善加算Ⅲ")+COUNTIF('別紙様式3-2（処遇改善加算 個票）'!P:P,"処遇改善加算Ⅳ")+COUNTIF('別紙様式3-2（処遇改善加算 個票）'!Y:Y,"処遇改善加算Ⅰ")+COUNTIF('別紙様式3-2（処遇改善加算 個票）'!Y:Y,"処遇改善加算Ⅱ")+COUNTIF('別紙様式3-2（処遇改善加算 個票）'!Y:Y,"処遇改善加算Ⅲ")+COUNTIF('別紙様式3-2（処遇改善加算 個票）'!Y:Y,"処遇改善加算Ⅳ") -> 47
B48: すべての事業所において要件を満たす。（別紙様式３－２から転記） | AK48: =IF(H7="", "", IF(AN47=AN51, "○", "×")) -> ○ | AM48: 処遇改善加算Ⅰ～Ⅲ | AN48: =$AN$47-(COUNTIF('別紙様式3-2（処遇改善加算 個票）'!P:P,"処遇改善加算Ⅳ")+COUNTIF('別紙様式3-2（処遇改善加算 個票）'!Y:Y, "処遇改善加算Ⅳ")) -> 46
B49: ① 処遇改善加算Ⅳ相当の加算額の１/２ | T49: ='別紙様式3-2（処遇改善加算 個票）'!N6 -> 215743105 | Y49: 円 | AM49: 処遇改善加算Ⅰ～Ⅱ | AN49: =AN48-(COUNTIF('別紙様式3-2（処遇改善加算 個票）'!P:P,"処遇改善加算Ⅲ")+COUNTIF('別紙様式3-2（処遇改善加算 個票）'!Y:Y, "処遇改善加算Ⅲ")) -> 45
B50: ② 処遇改善加算による賃金改善額のうち、月額賃金改善による額 （①の額以上となること） | T50: 220000000 | Y50: 円 | Z50: ← | AA50: =IF(H7="", "", IF(T50>=T49, "○", "×")) -> ○ | AM50: 処遇改善加算Ⅰ | AN50: =AN49-(COUNTIF('別紙様式3-2（処遇改善加算 個票）'!P:P,"処遇改善加算Ⅱ")+COUNTIF('別紙様式3-2（処遇改善加算 個票）'!Y:Y, "処遇改善加算Ⅱ")) -> 1
AM51: 月額賃金改善要件Ⅰを満たしている事業所数 | AN51: =COUNTIF('別紙様式3-2（処遇改善加算 個票）'!T:T, "○")+COUNTIF('別紙様式3-2（処遇改善加算 個票）'!AB:AB, "○") -> 47
B52: （２）月額賃金改善要件Ⅱ（旧ベア加算相当の2/3以上の新規の月額賃金改善） 【処遇改善加算Ⅰ～Ⅳ】 ※令和７年３月時点で処遇改善加算Ⅴ(1)・(3)・(5)・(6)・(8)・(10)・(11)・(12)・(14)を算定していた事業所のみ
B53: すべての対象事業所において要件をみたす。（別紙様式３－２から転記） | AK53: =IF(H7="", "", IF(AN53=AN54, "○", "×")) -> ○ | AM53: 月額賃金改善要件Ⅱの対象事業所数 | AN53: =COUNT('別紙様式3-2（処遇改善加算 個票）'!U:U)+COUNT('別紙様式3-2（処遇改善加算 個票）'!AC:AD) -> 9
B54: ① 処遇改善加算への移行に伴い、新たに増加する旧ベースアップ等加算 相当の額 | T54: ='別紙様式3-2（処遇改善加算 個票）'!N7 -> 13884189 | Y54: 円 | Z54: ← | AG54: ← | AH54: =IF(T55<T54,"×","") | AM54: 要件を満たしている事業所数 | AN54: =COUNTIF('別紙様式3-2（処遇改善加算 個票）'!V:V, "○")+COUNTIF('別紙様式3-2（処遇改善加算 個票）'!AE:AE, "○") -> 9 | AQ54: ！この欄は直接要件には影響しませんが、②が①以上となっていません。
B55: ② 新たに増加する旧ベースアップ等加算相当を原資として実施する 新たな賃金改善額（①の額以上となること） | T55: 13885000 | Y55: 円 | AA55: （ | AB55: =IFERROR(T56/T54*100,0) -> 93.631684 | AE55: ） | AF55: ％ | AG55: ← | AH55: =IF(T54=0,"",(IF(AND(AB55>=200/3,T56<=T55),"○","×"))) -> ○ | AQ55: ！旧ベースアップ等加算相当の加算額の2/3以上の新規の月額賃金改善を行っていない又は② i)の値が②の値よりも大きくなっています。
C56: i）うち、ベースアップ等（基本給又は毎月決まって支払われる手当の 引上げ）による賃金改善の額（総額） | T56: 13000000 | Y56: 円 | Z56: ←
B58: （３）キャリアパス要件Ⅰ・Ⅱ【処遇改善加算Ⅰ～Ⅳ】※要件Ⅰ・Ⅱの両方を満たすこと。
D60: 計画書で記載した内容から変更がない場合は左欄にチェック（✓）すること。 | AM60: TRUE
C63: キャリアパス要件Ⅰ（任用要件・賃金体系の整備等）
E64: 次のイからハまでのすべての基準を満たす。 | S64: ← | T64: =IF(H7="", "",IF(AM60=TRUE, "", IF(AM64=TRUE,"○","×"))) | AM64: FALSE
C65: イ | D65: 介護職員の任用における職位、職責又は職務内容等の要件を定めている。
C66: ロ | D66: イに掲げる職位、職責又は職務内容等に応じた賃金体系を定めている。
C67: ハ | D67: イ、ロについて、就業規則等の明確な根拠規定を書面で整備し、全ての介護職員に周知している。
C69: キャリアパス要件Ⅱ（研修の実施等）
E70: 次のイとロの両方の基準を満たす。 | S70: ← | T70: =IF(H7="", "",IF(AM60=TRUE,"",IF(AND(AM70=TRUE,OR(AND(AN70=TRUE,J73<>""),AND(AO71=TRUE,J75<>""))),"○","×"))) | AM70: FALSE | AN70: FALSE
C71: イ | D71: 介護職員の職務内容等を踏まえ、介護職員と意見交換しながら、資質向上の目標及び①・②のうち少なくともいずれかに関する具体的な計画を策定し、研修の実施又は研修の機会を確保している。 | AM71: TRUE | AO71: FALSE
D72: イの実現のための具体的な取組内容 （該当する項目にチェック（✔）した上で、具体的な内容を記載） | I72: ① | J72: 資質向上のための計画に沿って、研修機会の提供又は技術指導等を実施するとともに、介護職員の能力評価を行う。 ※当該取組の内容について以下に記載すること
AQ73: ！チェックボックスにチェック（✔）するだけでなく、右側の自由記載欄に具体的な内容を記載してください。 また、自由記載欄に記載した場合は、左側のチェックボックスにチェック（✓）を入れてください。
I74: ② | J74: 資格取得のための支援の実施 | S74: ※当該取組の内容について以下に記載すること
AQ75: ！チェックボックスにチェック（✔）するだけでなく、右側の自由記載欄に具体的な内容を記載してください。 また、自由記載欄に記載した場合は、左側のチェックボックスにチェック（✓）を入れてください。
C76: ロ | D76: イについて、全ての介護職員に周知している。
B78: （４）キャリアパス要件Ⅲ（昇給の仕組みの整備等） 【処遇改善加算Ⅰ～Ⅲ】
C80: 計画書で記載した内容から変更がない場合は左欄にチェック（✓）すること。 | AM80: FALSE
D82: 次のイとロの両方の基準を満たす。 | R82: ← | S82: =IF(H7="", "", IF(AM80=TRUE,"",IF(AM83="記入不要","",IF(AND(AM84=TRUE,OR(AN84=TRUE,AO84=TRUE,AP84=TRUE)),"○","×")))) -> ×
B83: イ | C83: 介護職員について、経験若しくは資格等に応じて昇給する仕組み又は一定の基準に基づき定期に昇給を判定する仕組みを設けている。
C84: 具体的な仕組みの内容（該当するもの全てにチェック（✔）すること。） | H84: ① | I84: 経験に応じて昇給する仕組み ※「勤続年数」や「経験年数」などに応じて昇給する仕組みを指す。 | AM84: TRUE | AN84: FALSE | AO84: FALSE | AP84: FALSE
H85: ② | I85: 資格等に応じて昇給する仕組み ※「介護福祉士」や「実務者研修修了者」などの取得に応じて昇給する仕組みを指す。ただし、介護福祉士資格を有して就業する者についても昇給が図られる仕組みであることを要する。
H86: ③ | I86: 一定の基準に基づき定期に昇給を判定する仕組み ※「実技試験」や「人事評価」などの結果に基づき昇給する仕組みを指す。ただし、客観的な評価基準や昇給条件が明文化されていることを要する。
B87: ロ | C87: イについて、全ての介護職員に周知している。
B89: （５）キャリアパス要件Ⅳ（改善後の賃金要件） 【処遇改善加算Ⅰ・Ⅱ】
B91: 処遇改善加算Ⅰ・Ⅱ (「令和７年度の算定期間①」の期間について) | R91: ⇒ | S91: ='別紙様式3-2（処遇改善加算 個票）'!AC5 -> × | T91: （別紙様式3-2「キャリアパス要件Ⅳ」の欄から転記） | AM91: =IF(COUNTIF(S91:S92, "×")>0, "設定できない", "要件を満たす") -> 設定できない
B92: 処遇改善加算Ⅰ・Ⅱの要件 (「令和７年度の算定予定②」の期間について) | R92: ⇒ | S92: ='別紙様式3-2（処遇改善加算 個票）'!AC7 | T92: （別紙様式3-2「キャリアパス要件Ⅳ」の欄から転記）
B94: ⇒上記に「×」が付いた場合、この欄に記入すること | AK94: =IF(H7="", "",IF(AK92="○", "", IF(OR(AM96=TRUE,AM97=TRUE,AM98=TRUE,AND(AM99=TRUE,G99<>"")), "○", "×"))) -> ○
B95: 「改善後の賃金が年額440万円以上となる者」を設定できない場合その理由 | AQ95: ！キャリアパス要件Ⅳの欄に「×」があるのに、左のチェックボックスにチェック（✔）が入っていません。
D96: 小規模事業所等で職員間の賃金バランスに配慮が必要のため。 | AM96: TRUE
D97: 職員全体の賃金水準が低い、地域の賃金水準が低い等の理由により、直ちに年額440万円まで賃金を引き上げることが困難であるため。 | AM97: FALSE
D98: 年額440万円の賃金改善を行うに当たり、規程の整備や研修・実務経験の蓄積などに一定期間を要するため。 | AM98: FALSE
D99: その他（ | AK99: ） | AM99: FALSE | AQ99: ！「その他」にチェック（✔）した場合は、具体的な内容を記載してください。
B101: （６）職場環境等要件
B102: 介護人材確保・職場環境改善等補助金の要件を満たしており、補助金を申請済であるため、 令和７年度中の職場環境等要件の適用が猶予される。 | AM102: FALSE
B103: 補助金を申請しなかった場合、各加算区分の算定に必要な職場環境等要件を満たす。 ※こちらを選択する場合には、下記の職場環境等要件の表にチェックをしてください。 | AK103: =IF(H7="", "", IF(AM102=TRUE, "", IF(OR(AND(AI105="該当", AN112>=2, AN116>=2, AN120>=2, AN124>=2, AN128>=3, OR(AM128=TRUE,AM129= TRUE), AN136>=2), AND(AI105="", AI108="該当", AN112>=1, AN116>=1, AN120>=1, AN124>=1, AN128>=2, AN136>=1)), "○", "×"))) -> ○
B105: 【処遇改善加算Ⅰ・Ⅱ】 | AI105: =IF(AN49<>0, "該当", "") -> 該当
B106: ⇒ | C106: ・計画書の時点で実施済みだった項目及び令和７年度中に対応すると誓約していた項目にチェック（✔）すること。 ・ 「入職促進に向けた取組」、「資質の向上やキャリアアップに向けた支援」、「両立支援・多様な働き方の推進」、「腰痛を含む心身の健康管理」 及び「やりがい・働きがいの醸成」の区分ごとに２以上の取組を実施すること。 ・「生産性向上のための取組」のうち３以上の取組（うち⑰又は⑱は必須）を実施すること。
B108: 【処遇改善加算Ⅲ・Ⅳ】 | AI108: =IF(AN47=AN49, "", "該当") -> 該当
B109: ⇒ | C109: ・計画書の時点で実施済みだった項目及び令和７年度中に対応すると誓約していた項目にチェック（✔）すること。 ・「入職促進に向けた取組」、「資質の向上やキャリアアップに向けた支援」、「両立支援・多様な働き方の推進」、「腰痛を含む心身の健康管理」 及び「やりがい・働きがいの醸成」の区分ごとに１以上を実施すること。 ・「生産性向上のための取組」のうち２以上の取組を実施すること。
B111: 区分 | F111: 内容
B112: 入職促進に向けた取組 | G112: ①法人や事業所の経営理念やケア方針・人材育成方針、その実現のための施策・仕組みなどの明確化 | AM112: TRUE | AN112: =COUNTIF(AM112:AM115, TRUE) -> 2 | AQ112: =IF(AI105="該当", "！この区分（４項目）から２つ以上の取組が選択されていません。", "！この区分（４項目）から１つ以上の取組が選択されていません。") -> ！この区分（４項目）から２つ以上の取組が選択されていません。
G113: ②事業者の共同による採用・人事ローテーション・研修のための制度構築 | AM113: TRUE
G114: ③他産業からの転職者、主婦層、中高年齢者等、経験者・有資格者等にこだわらない幅広い採用の仕組みの構築（採用の実績でも可） | AM114: FALSE
G115: ④職業体験の受入れや地域行事への参加や主催等による職業魅力度向上の取組の実施 | AM115: FALSE
B116: 資質の向上やキャリアアップに向けた支援 | G116: ⑤働きながら介護福祉士取得を目指す者に対する実務者研修受講支援や、より専門性の高い介護技術を取得しようとする者に対するユニットリーダー研修、ファーストステップ研修、喀痰吸引、認知症ケア、サービス提供責任者研修、中堅職員に対するマネジメント研修の受講支援等 | AM116: TRUE | AN116: =COUNTIF(AM116:AM119, TRUE) -> 2 | AQ116: =IF(AI105="該当", "！この区分（４項目）から２つ以上の取組が選択されていません。", "！この区分（４項目）から１つ以上の取組が選択されていません。") -> ！この区分（４項目）から２つ以上の取組が選択されていません。
G117: ⑥研修の受講やキャリア段位制度と人事考課との連動 | AM117: TRUE
G118: ⑦エルダー・メンター（仕事やメンタル面のサポート等をする担当者）制度等導入 | AM118: FALSE
G119: ⑧上位者・担当者等によるキャリア面談など、キャリアアップ・働き方等に関する定期的な相談の機会の確保 | AM119: FALSE
B120: 両立支援・多様な働き方の推進 | G120: ⑨子育てや家族等の介護等と仕事の両立を目指す者のための休業制度等の充実、事業所内託児施設の整備 | AM120: TRUE | AN120: =COUNTIF(AM120:AM123, TRUE) -> 2 | AQ120: =IF(AI105="該当", "！この区分（４項目）から２つ以上の取組が選択されていません。", "！この区分（４項目）から１つ以上の取組が選択されていません。") -> ！この区分（４項目）から２つ以上の取組が選択されていません。
G121: ⑩職員の事情等の状況に応じた勤務シフトや短時間正規職員制度の導入、職員の希望に即した非正規職員から正規職員への転換の制度等の整備 | AM121: TRUE
G122: ⑪有給休暇を取得しやすい雰囲気・意識作りのため、具体的な取得目標（例えば、１週間以上の休暇を年に●回取得、付与日数のうち●％以上を取得）を定めた上で、取得状況を定期的に確認し、身近な上司等からの積極的な声かけを行っている | AM122: FALSE
...

Sheet 別紙様式3-2（処遇改善加算　個票）
A1: 別紙様式３－２個票（令和７年４月以降分） | AB1: 提出先 | AD1: =IF(基本情報入力シート!G18="","",基本情報入力シート!G18) -> 東京都
A3: 法人名 | F3: =IF(基本情報入力シート!M23="","",基本情報入力シート!M23) -> ○○ケアサービス
W4: キャリアパス要件Ⅳについて
B5: 処遇改善加算の加算額［円］ | N5: =IFERROR(SUM(Q:R)+SUM(Z:Z),"") -> 628382501 | O5: 円 | W5: 処遇改善加算 （令和７年度の算定期間①） | X5: 改善後の賃金が年額440万円以上となる者の数 | AB5: =SUM(W:X) -> 17 | AC5: =IF(AB6=0, "", IF(AB5>=AB6,"○","×")) -> × | AD5: ⇒この欄が「×」の場合、 別紙様式3-1 ３（５）に特別な事情を記入
D6: うち、処遇改善加算Ⅳ相当の加算額の１/２［円］ （別紙様式3-1 ３⑴に転記） | N6: =SUM(S:S, AA:AA) -> 215743105 | O6: 円 | X6: 処遇改善加算Ⅰ・Ⅱの算定を届け出た事業所数 （短期入所・予防・総合事業での重複除く） | AB6: =SUM(AI:AI) -> 18
D7: うち、新規に増加する旧ベースアップ等加算相当の加算額［円］ （別紙様式3-1 ３⑵に転記） | N7: =ROUNDDOWN(SUM(U:U,AC:AD),0) -> 13884189 | O7: 円 | W7: 処遇改善加算 （令和７年度の算定期間② （区分変更後）） | X7: 改善後の賃金が年額440万円以上となる者の数 | AB7: =SUM(AF:AF) -> 0 | AC7: =IF(AB8=0, "", IF(AB7>=AB8,"○","×")) | AD7: ⇒この欄が「×」の場合、 別紙様式3-1 ３（５）に特別な事情を記入
B8: 【記入上の注意】 ・本表に記載する事業所は、計画書の「別紙様式２－２」に記載した事業所と一致しなければならない。 ・事業所ごとの加算の総額は、国民健康保険団体連合会から送付される「介護職員等処遇改善加算総額のお知らせ」及び「介護職員等処遇改善加算内訳のお知らせ」に基づいて記入すること。 | X8: 処遇改善加算Ⅰ・Ⅱの算定を届け出た事業所数 （短期入所・予防・総合事業での重複除く） | AB8: =SUM(AJ:AJ) -> 0
B10: 介護保険 事業所 番号 | J10: 指定権者 | K10: 事業所の所在地 | M10: 事業所名 | N10: サービス名 | O10: 令和７年３月 時点の算定状況 | P10: 介護職員等処遇改善加算 | AG10: 月額賃金改善要件Ⅱの対応要否 （令和７年３月時点の区分が算定対象であれば加算区分を表示） | AH10: キャリアパス要件Ⅳの適用 | AI10: キャリアパス要件Ⅳの必要数チェック （併設の場合０）
P11: 令和７年度の算定期間① | Y11: 令和７年度の算定期間②（令和７年度内の区分変更後）
P12: 算定した 加算区分 | Q12: 加算の総額 ［円］ | S12: 加算Ⅳ相当の加算額の１/２ | T12: 月額賃金改善要件Ⅰ | U12: 新規に増加する旧ベースアップ等加算相当の加算の見込額［円］ | V12: 月額賃金要件Ⅱ | W12: キャリアパス 要件Ⅳ | Y12: 令和７年度内の区分変更後に 算定した加算区分 | Z12: 加算の総額 ［円］ | AA12: 加算Ⅳ相当の加算額の１/２ | AB12: 月額賃金改善要件Ⅰ | AC12: 新規に増加する旧ベースアップ等加算相当の加算の見込額［円］ | AE12: 月額賃金要件Ⅱ | AF12: キャリアパス 要件Ⅳ
K13: 都道府県 | L13: 市区町村 | W13: 改善後の賃金要件（年額440万円以上）を満たす職員数［人］ | AF13: 改善後の賃金要件（年額440万円以上）を満たす職員数［人］ | AI13: 処遇改善加算（令和７年度の算定期間①） | AJ13: 処遇改善加算（令和７年度の算定期間②（期中移行後））
A14: 1 | B14: =IF(基本情報入力シート!C39="","",基本情報入力シート!C39) -> 1111111111 | J14: =IF(基本情報入力シート!M39="","",基本情報入力シート!M39) -> 東京都 | K14: =IF(基本情報入力シート!R39="","",基本情報入力シート!R39) -> 東京都 | L14: =IF(基本情報入力シート!W39="","",基本情報入力シート!W39) -> 千代田区 | M14: =IF(基本情報入力シート!X39="","",基本情報入力シート!X39) -> ○○ホームヘルプ | N14: =IF(基本情報入力シート!Y39="","",基本情報入力シート!Y39) -> 訪問介護 | O14: 処遇改善加算Ⅰ | P14: 処遇改善加算Ⅰ | Q14: 25140000 | S14: =IFERROR(ROUNDDOWN(Q14*VLOOKUP(N14,【参考】数式用!$AR$2:$AW$48,MATCH(P14,【参考】数式用!$AT$4:$AW$4)+2,FALSE)*0.5, 0), "") -> 7439387 | T14: ○ | U14: =IFERROR(IF(AG14<>"",Q14*VLOOKUP(N14,【参考】数式用!$AG$2:$AL$48,MATCH(P14,【参考】数式用!$AI$4:$AL$4,0)+2,0), ""), "") | Y14: ― | AA14: =IFERROR(IF(Y14="ー", "", ROUNDDOWN(Z14*VLOOKUP(N14,【参考】数式用!$AR$2:$AW$48,MATCH(Y14,【参考】数式用!$AT$4:$AW$4)+2,FALSE)*0.5, 0)), "") | AC14: =IFERROR(IF(AG14<>"",Z14*VLOOKUP(N14,【参考】数式用!$AG$2:$AL$48,MATCH(Y14,【参考】数式用!$AI$4:$AL$4,0)+2,0), ""), "") | AG14: =IFERROR(VLOOKUP(O14, 【参考】数式用!$AY$5:$AY$13, 1, FALSE), "") | AH14: =IFERROR(VLOOKUP(N14, 【参考】数式用!$BA$2:$BB$48, 2, FALSE), "") -> 対象 | AI14: =IF(AND(OR(P14="処遇改善加算Ⅰ",P14="処遇改善加算Ⅱ"),AH14="対象"), 1,"") -> 1 | AJ14: =IF(OR(Y14="処遇改善加算Ⅰ",Y14="処遇改善加算Ⅱ"),IF(AND(N14<>"訪問型サービス（総合事業）",N14<>"通所型サービス（総合事業）",N14<>"（介護予防）短期入所生活介護",N14<>"（介護予防）短期入所療養介護（老健）",N14<>"（介護予防）短期入所療養介護 （病院等（老健以外）)",N14<>"（介護予防）短期入所療養介護（医療院）"),1,""),"")
A15: 2 | B15: =IF(基本情報入力シート!C40="","",基本情報入力シート!C40) -> 2222222222 | J15: =IF(基本情報入力シート!M40="","",基本情報入力シート!M40) -> 東京都 | K15: =IF(基本情報入力シート!R40="","",基本情報入力シート!R40) -> 東京都 | L15: =IF(基本情報入力シート!W40="","",基本情報入力シート!W40) -> 千代田区 | M15: =IF(基本情報入力シート!X40="","",基本情報入力シート!X40) -> ××ホームヘルプ | N15: =IF(基本情報入力シート!Y40="","",基本情報入力シート!Y40) -> 訪問介護 | O15: 処遇改善加算Ⅱ | P15: 処遇改善加算Ⅱ | Q15: 20000000 | S15: =IFERROR(ROUNDDOWN(Q15*VLOOKUP(N15,【参考】数式用!$AR$2:$AW$48,MATCH(P15,【参考】数式用!$AT$4:$AW$4)+2,FALSE)*0.5, 0), "") -> 6473214 | T15: ○ | U15: =IFERROR(IF(AG15<>"",Q15*VLOOKUP(N15,【参考】数式用!$AG$2:$AL$48,MATCH(P15,【参考】数式用!$AI$4:$AL$4,0)+2,0), ""), "") | W15: 1 | Y15: ― | AA15: =IFERROR(IF(Y15="ー", "", ROUNDDOWN(Z15*VLOOKUP(N15,【参考】数式用!$AR$2:$AW$48,MATCH(Y15,【参考】数式用!$AT$4:$AW$4)+2,FALSE)*0.5, 0)), "") | AC15: =IFERROR(IF(AG15<>"",Z15*VLOOKUP(N15,【参考】数式用!$AG$2:$AL$48,MATCH(Y15,【参考】数式用!$AI$4:$AL$4,0)+2,0), ""), "") | AG15: =IFERROR(VLOOKUP(O15, 【参考】数式用!$AY$5:$AY$13, 1, FALSE), "") | AH15: =IFERROR(VLOOKUP(N15, 【参考】数式用!$BA$2:$BB$48, 2, FALSE), "") -> 対象 | AI15: =IF(AND(OR(P15="処遇改善加算Ⅰ",P15="処遇改善加算Ⅱ"),AH15="対象"), 1,"") -> 1 | AJ15: =IF(OR(Y15="処遇改善加算Ⅰ",Y15="処遇改善加算Ⅱ"),IF(AND(N15<>"訪問型サービス（総合事業）",N15<>"通所型サービス（総合事業）",N15<>"（介護予防）短期入所生活介護",N15<>"（介護予防）短期入所療養介護（老健）",N15<>"（介護予防）短期入所療養介護 （病院等（老健以外）)",N15<>"（介護予防）短期入所療養介護（医療院）"),1,""),"")
A16: 3 | B16: =IF(基本情報入力シート!C41="","",基本情報入力シート!C41) -> 3333333333 | J16: =IF(基本情報入力シート!M41="","",基本情報入力シート!M41) -> 東京都 | K16: =IF(基本情報入力シート!R41="","",基本情報入力シート!R41) -> 東京都 | L16: =IF(基本情報入力シート!W41="","",基本情報入力シート!W41) -> 千代田区 | M16: =IF(基本情報入力シート!X41="","",基本情報入力シート!X41) -> △△ホームヘルプ | N16: =IF(基本情報入力シート!Y41="","",基本情報入力シート!Y41) -> 訪問介護 | O16: 処遇改善加算Ⅲ | P16: 処遇改善加算Ⅲ | Q16: 15000000 | S16: =IFERROR(ROUNDDOWN(Q16*VLOOKUP(N16,【参考】数式用!$AR$2:$AW$48,MATCH(P16,【参考】数式用!$AT$4:$AW$4)+2,FALSE)*0.5, 0), "") -> 5975274 | T16: ○ | U16: =IFERROR(IF(AG16<>"",Q16*VLOOKUP(N16,【参考】数式用!$AG$2:$AL$48,MATCH(P16,【参考】数式用!$AI$4:$AL$4,0)+2,0), ""), "") | Y16: ― | AA16: =IFERROR(IF(Y16="ー", "", ROUNDDOWN(Z16*VLOOKUP(N16,【参考】数式用!$AR$2:$AW$48,MATCH(Y16,【参考】数式用!$AT$4:$AW$4)+2,FALSE)*0.5, 0)), "") | AC16: =IFERROR(IF(AG16<>"",Z16*VLOOKUP(N16,【参考】数式用!$AG$2:$AL$48,MATCH(Y16,【参考】数式用!$AI$4:$AL$4,0)+2,0), ""), "") | AG16: =IFERROR(VLOOKUP(O16, 【参考】数式用!$AY$5:$AY$13, 1, FALSE), "") | AH16: =IFERROR(VLOOKUP(N16, 【参考】数式用!$BA$2:$BB$48, 2, FALSE), "") -> 対象 | AI16: =IF(AND(OR(P16="処遇改善加算Ⅰ",P16="処遇改善加算Ⅱ"),AH16="対象"), 1,"") | AJ16: =IF(OR(Y16="処遇改善加算Ⅰ",Y16="処遇改善加算Ⅱ"),IF(AND(N16<>"訪問型サービス（総合事業）",N16<>"通所型サービス（総合事業）",N16<>"（介護予防）短期入所生活介護",N16<>"（介護予防）短期入所療養介護（老健）",N16<>"（介護予防）短期入所療養介護 （病院等（老健以外）)",N16<>"（介護予防）短期入所療養介護（医療院）"),1,""),"")
A17: 4 | B17: =IF(基本情報入力シート!C42="","",基本情報入力シート!C42) -> 4444444444 | J17: =IF(基本情報入力シート!M42="","",基本情報入力シート!M42) -> 東京都 | K17: =IF(基本情報入力シート!R42="","",基本情報入力シート!R42) -> 東京都 | L17: =IF(基本情報入力シート!W42="","",基本情報入力シート!W42) -> 千代田区 | M17: =IF(基本情報入力シート!X42="","",基本情報入力シート!X42) -> ■■ホームヘルプ | N17: =IF(基本情報入力シート!Y42="","",基本情報入力シート!Y42) -> 訪問介護 | O17: 処遇改善加算Ⅳ | P17: 処遇改善加算Ⅳ | Q17: 11000000 | S17: =IFERROR(ROUNDDOWN(Q17*VLOOKUP(N17,【参考】数式用!$AR$2:$AW$48,MATCH(P17,【参考】数式用!$AT$4:$AW$4)+2,FALSE)*0.5, 0), "") -> 5500000 | T17: ○ | U17: =IFERROR(IF(AG17<>"",Q17*VLOOKUP(N17,【参考】数式用!$AG$2:$AL$48,MATCH(P17,【参考】数式用!$AI$4:$AL$4,0)+2,0), ""), "") | Y17: ― | AA17: =IFERROR(IF(Y17="ー", "", ROUNDDOWN(Z17*VLOOKUP(N17,【参考】数式用!$AR$2:$AW$48,MATCH(Y17,【参考】数式用!$AT$4:$AW$4)+2,FALSE)*0.5, 0)), "") | AC17: =IFERROR(IF(AG17<>"",Z17*VLOOKUP(N17,【参考】数式用!$AG$2:$AL$48,MATCH(Y17,【参考】数式用!$AI$4:$AL$4,0)+2,0), ""), "") | AG17: =IFERROR(VLOOKUP(O17, 【参考】数式用!$AY$5:$AY$13, 1, FALSE), "") | AH17: =IFERROR(VLOOKUP(N17, 【参考】数式用!$BA$2:$BB$48, 2, FALSE), "") -> 対象 | AI17: =IF(AND(OR(P17="処遇改善加算Ⅰ",P17="処遇改善加算Ⅱ"),AH17="対象"), 1,"") | AJ17: =IF(OR(Y17="処遇改善加算Ⅰ",Y17="処遇改善加算Ⅱ"),IF(AND(N17<>"訪問型サービス（総合事業）",N17<>"通所型サービス（総合事業）",N17<>"（介護予防）短期入所生活介護",N17<>"（介護予防）短期入所療養介護（老健）",N17<>"（介護予防）短期入所療養介護 （病院等（老健以外）)",N17<>"（介護予防）短期入所療養介護（医療院）"),1,""),"")
A18: 5 | B18: =IF(基本情報入力シート!C43="","",基本情報入力シート!C43) -> 1111111111 | J18: =IF(基本情報入力シート!M43="","",基本情報入力シート!M43) -> 千代田区 | K18: =IF(基本情報入力シート!R43="","",基本情報入力シート!R43) -> 東京都 | L18: =IF(基本情報入力シート!W43="","",基本情報入力シート!W43) -> 千代田区 | M18: =IF(基本情報入力シート!X43="","",基本情報入力シート!X43) -> ◇◇ホームヘルプ | N18: =IF(基本情報入力シート!Y43="","",基本情報入力シート!Y43) -> 夜間対応型訪問介護 | O18: 処遇改善加算Ⅴ（１） | P18: 処遇改善加算Ⅱ | Q18: 25137000 | S18: =IFERROR(ROUNDDOWN(Q18*VLOOKUP(N18,【参考】数式用!$AR$2:$AW$48,MATCH(P18,【参考】数式用!$AT$4:$AW$4)+2,FALSE)*0.5, 0), "") -> 8135859 | T18: ○ | U18: =IFERROR(IF(AG18<>"",Q18*VLOOKUP(N18,【参考】数式用!$AG$2:$AL$48,MATCH(P18,【参考】数式用!$AI$4:$AL$4,0)+2,0), ""), "") -> 2693250 | V18: ○ | W18: 1 | Y18: ― | AA18: =IFERROR(IF(Y18="ー", "", ROUNDDOWN(Z18*VLOOKUP(N18,【参考】数式用!$AR$2:$AW$48,MATCH(Y18,【参考】数式用!$AT$4:$AW$4)+2,FALSE)*0.5, 0)), "") | AC18: =IFERROR(IF(AG18<>"",Z18*VLOOKUP(N18,【参考】数式用!$AG$2:$AL$48,MATCH(Y18,【参考】数式用!$AI$4:$AL$4,0)+2,0), ""), "") | AG18: =IFERROR(VLOOKUP(O18, 【参考】数式用!$AY$5:$AY$13, 1, FALSE), "") -> 処遇改善加算Ⅴ（１） | AH18: =IFERROR(VLOOKUP(N18, 【参考】数式用!$BA$2:$BB$48, 2, FALSE), "") -> 対象 | AI18: =IF(AND(OR(P18="処遇改善加算Ⅰ",P18="処遇改善加算Ⅱ"),AH18="対象"), 1,"") -> 1 | AJ18: =IF(OR(Y18="処遇改善加算Ⅰ",Y18="処遇改善加算Ⅱ"),IF(AND(N18<>"訪問型サービス（総合事業）",N18<>"通所型サービス（総合事業）",N18<>"（介護予防）短期入所生活介護",N18<>"（介護予防）短期入所療養介護（老健）",N18<>"（介護予防）短期入所療養介護 （病院等（老健以外）)",N18<>"（介護予防）短期入所療養介護（医療院）"),1,""),"")
A19: 6 | B19: =IF(基本情報入力シート!C44="","",基本情報入力シート!C44) -> 1111111112 | J19: =IF(基本情報入力シート!M44="","",基本情報入力シート!M44) -> 千代田区 | K19: =IF(基本情報入力シート!R44="","",基本情報入力シート!R44) -> 東京都 | L19: =IF(基本情報入力シート!W44="","",基本情報入力シート!W44) -> 千代田区 | M19: =IF(基本情報入力シート!X44="","",基本情報入力シート!X44) -> ○○定巡 | N19: =IF(基本情報入力シート!Y44="","",基本情報入力シート!Y44) -> 定期巡回・随時対応型訪問介護看護 | O19: 処遇改善加算Ⅴ（２） | P19: 処遇改善加算Ⅱ | Q19: 25137000 | S19: =IFERROR(ROUNDDOWN(Q19*VLOOKUP(N19,【参考】数式用!$AR$2:$AW$48,MATCH(P19,【参考】数式用!$AT$4:$AW$4)+2,FALSE)*0.5, 0), "") -> 8135859 | T19: ○ | U19: =IFERROR(IF(AG19<>"",Q19*VLOOKUP(N19,【参考】数式用!$AG$2:$AL$48,MATCH(P19,【参考】数式用!$AI$4:$AL$4,0)+2,0), ""), "") | W19: 1 | Y19: ― | AA19: =IFERROR(IF(Y19="ー", "", ROUNDDOWN(Z19*VLOOKUP(N19,【参考】数式用!$AR$2:$AW$48,MATCH(Y19,【参考】数式用!$AT$4:$AW$4)+2,FALSE)*0.5, 0)), "") | AC19: =IFERROR(IF(AG19<>"",Z19*VLOOKUP(N19,【参考】数式用!$AG$2:$AL$48,MATCH(Y19,【参考】数式用!$AI$4:$AL$4,0)+2,0), ""), "") | AG19: =IFERROR(VLOOKUP(O19, 【参考】数式用!$AY$5:$AY$13, 1, FALSE), "") | AH19: =IFERROR(VLOOKUP(N19, 【参考】数式用!$BA$2:$BB$48, 2, FALSE), "") -> 対象 | AI19: =IF(AND(OR(P19="処遇改善加算Ⅰ",P19="処遇改善加算Ⅱ"),AH19="対象"), 1,"") -> 1 | AJ19: =IF(OR(Y19="処遇改善加算Ⅰ",Y19="処遇改善加算Ⅱ"),IF(AND(N19<>"訪問型サービス（総合事業）",N19<>"通所型サービス（総合事業）",N19<>"（介護予防）短期入所生活介護",N19<>"（介護予防）短期入所療養介護（老健）",N19<>"（介護予防）短期入所療養介護 （病院等（老健以外）)",N19<>"（介護予防）短期入所療養介護（医療院）"),1,""),"")
A20: 7 | B20: =IF(基本情報入力シート!C45="","",基本情報入力シート!C45) -> 1111111113 | J20: =IF(基本情報入力シート!M45="","",基本情報入力シート!M45) -> 東京都 | K20: =IF(基本情報入力シート!R45="","",基本情報入力シート!R45) -> 東京都 | L20: =IF(基本情報入力シート!W45="","",基本情報入力シート!W45) -> 千代田区 | M20: =IF(基本情報入力シート!X45="","",基本情報入力シート!X45) -> ○○訪問入浴介護 | N20: =IF(基本情報入力シート!Y45="","",基本情報入力シート!Y45) -> 訪問入浴介護 | O20: 処遇改善加算Ⅴ（３） | P20: 処遇改善加算Ⅱ | Q20: 9000000 | S20: =IFERROR(ROUNDDOWN(Q20*VLOOKUP(N20,【参考】数式用!$AR$2:$AW$48,MATCH(P20,【参考】数式用!$AT$4:$AW$4)+2,FALSE)*0.5, 0), "") -> 3015957 | T20: ○ | U20: =IFERROR(IF(AG20<>"",Q20*VLOOKUP(N20,【参考】数式用!$AG$2:$AL$48,MATCH(P20,【参考】数式用!$AI$4:$AL$4,0)+2,0), ""), "") -> 1053191.5 | V20: ○ | W20: 1 | Y20: ― | AA20: =IFERROR(IF(Y20="ー", "", ROUNDDOWN(Z20*VLOOKUP(N20,【参考】数式用!$AR$2:$AW$48,MATCH(Y20,【参考】数式用!$AT$4:$AW$4)+2,FALSE)*0.5, 0)), "") | AC20: =IFERROR(IF(AG20<>"",Z20*VLOOKUP(N20,【参考】数式用!$AG$2:$AL$48,MATCH(Y20,【参考】数式用!$AI$4:$AL$4,0)+2,0), ""), "") | AG20: =IFERROR(VLOOKUP(O20, 【参考】数式用!$AY$5:$AY$13, 1, FALSE), "") -> 処遇改善加算Ⅴ（３） | AH20: =IFERROR(VLOOKUP(N20, 【参考】数式用!$BA$2:$BB$48, 2, FALSE), "") -> 対象 | AI20: =IF(AND(OR(P20="処遇改善加算Ⅰ",P20="処遇改善加算Ⅱ"),AH20="対象"), 1,"") -> 1 | AJ20: =IF(OR(Y20="処遇改善加算Ⅰ",Y20="処遇改善加算Ⅱ"),IF(AND(N20<>"訪問型サービス（総合事業）",N20<>"通所型サービス（総合事業）",N20<>"（介護予防）短期入所生活介護",N20<>"（介護予防）短期入所療養介護（老健）",N20<>"（介護予防）短期入所療養介護 （病院等（老健以外）)",N20<>"（介護予防）短期入所療養介護（医療院）"),1,""),"")
A21: 8 | B21: =IF(基本情報入力シート!C46="","",基本情報入力シート!C46) -> 1111111114 | J21: =IF(基本情報入力シート!M46="","",基本情報入力シート!M46) -> 東京都 | K21: =IF(基本情報入力シート!R46="","",基本情報入力シート!R46) -> 東京都 | L21: =IF(基本情報入力シート!W46="","",基本情報入力シート!W46) -> 千代田区 | M21: =IF(基本情報入力シート!X46="","",基本情報入力シート!X46) -> ○○訪問入浴介護 | N21: =IF(基本情報入力シート!Y46="","",基本情報入力シート!Y46) -> 介護予防訪問入浴介護 | O21: 処遇改善加算Ⅴ（４） | P21: 処遇改善加算Ⅱ | Q21: 9000001 | S21: =IFERROR(ROUNDDOWN(Q21*VLOOKUP(N21,【参考】数式用!$AR$2:$AW$48,MATCH(P21,【参考】数式用!$AT$4:$AW$4)+2,FALSE)*0.5, 0), "") -> 3015957 | T21: ○ | U21: =IFERROR(IF(AG21<>"",Q21*VLOOKUP(N21,【参考】数式用!$AG$2:$AL$48,MATCH(P21,【参考】数式用!$AI$4:$AL$4,0)+2,0), ""), "") | Y21: ― | AA21: =IFERROR(IF(Y21="ー", "", ROUNDDOWN(Z21*VLOOKUP(N21,【参考】数式用!$AR$2:$AW$48,MATCH(Y21,【参考】数式用!$AT$4:$AW$4)+2,FALSE)*0.5, 0)), "") | AC21: =IFERROR(IF(AG21<>"",Z21*VLOOKUP(N21,【参考】数式用!$AG$2:$AL$48,MATCH(Y21,【参考】数式用!$AI$4:$AL$4,0)+2,0), ""), "") | AG21: =IFERROR(VLOOKUP(O21, 【参考】数式用!$AY$5:$AY$13, 1, FALSE), "") | AH21: =IFERROR(VLOOKUP(N21, 【参考】数式用!$BA$2:$BB$48, 2, FALSE), "") -> 対象外 | AI21: =IF(AND(OR(P21="処遇改善加算Ⅰ",P21="処遇改善加算Ⅱ"),AH21="対象"), 1,"") | AJ21: =IF(OR(Y21="処遇改善加算Ⅰ",Y21="処遇改善加算Ⅱ"),IF(AND(N21<>"訪問型サービス（総合事業）",N21<>"通所型サービス（総合事業）",N21<>"（介護予防）短期入所生活介護",N21<>"（介護予防）短期入所療養介護（老健）",N21<>"（介護予防）短期入所療養介護 （病院等（老健以外）)",N21<>"（介護予防）短期入所療養介護（医療院）"),1,""),"")
A22: 9 | B22: =IF(基本情報入力シート!C47="","",基本情報入力シート!C47) -> 1111111115 | J22: =IF(基本情報入力シート!M47="","",基本情報入力シート!M47) -> 東京都 | K22: =IF(基本情報入力シート!R47="","",基本情報入力シート!R47) -> 東京都 | L22: =IF(基本情報入力シート!W47="","",基本情報入力シート!W47) -> 千代田区 | M22: =IF(基本情報入力シート!X47="","",基本情報入力シート!X47) -> ○○デイケア | N22: =IF(基本情報入力シート!Y47="","",基本情報入力シート!Y47) -> 通所介護 | O22: 処遇改善加算Ⅴ（５） | P22: 処遇改善加算Ⅱ | Q22: 8000000 | S22: =IFERROR(ROUNDDOWN(Q22*VLOOKUP(N22,【参考】数式用!$AR$2:$AW$48,MATCH(P22,【参考】数式用!$AT$4:$AW$4)+2,FALSE)*0.5, 0), "") -> 2844444 | T22: ○ | U22: =IFERROR(IF(AG22<>"",Q22*VLOOKUP(N22,【参考】数式用!$AG$2:$AL$48,MATCH(P22,【参考】数式用!$AI$4:$AL$4,0)+2,0), ""), "") -> 977777.78 | V22: ○ | W22: 1 | Y22: ― | AA22: =IFERROR(IF(Y22="ー", "", ROUNDDOWN(Z22*VLOOKUP(N22,【参考】数式用!$AR$2:$AW$48,MATCH(Y22,【参考】数式用!$AT$4:$AW$4)+2,FALSE)*0.5, 0)), "") | AC22: =IFERROR(IF(AG22<>"",Z22*VLOOKUP(N22,【参考】数式用!$AG$2:$AL$48,MATCH(Y22,【参考】数式用!$AI$4:$AL$4,0)+2,0), ""), "") | AG22: =IFERROR(VLOOKUP(O22, 【参考】数式用!$AY$5:$AY$13, 1, FALSE), "") -> 処遇改善加算Ⅴ（５） | AH22: =IFERROR(VLOOKUP(N22, 【参考】数式用!$BA$2:$BB$48, 2, FALSE), "") -> 対象 | AI22: =IF(AND(OR(P22="処遇改善加算Ⅰ",P22="処遇改善加算Ⅱ"),AH22="対象"), 1,"") -> 1 | AJ22: =IF(OR(Y22="処遇改善加算Ⅰ",Y22="処遇改善加算Ⅱ"),IF(AND(N22<>"訪問型サービス（総合事業）",N22<>"通所型サービス（総合事業）",N22<>"（介護予防）短期入所生活介護",N22<>"（介護予防）短期入所療養介護（老健）",N22<>"（介護予防）短期入所療養介護 （病院等（老健以外）)",N22<>"（介護予防）短期入所療養介護（医療院）"),1,""),"")
A23: 10 | B23: =IF(基本情報入力シート!C48="","",基本情報入力シート!C48) -> 1111111116 | J23: =IF(基本情報入力シート!M48="","",基本情報入力シート!M48) -> 千代田区 | K23: =IF(基本情報入力シート!R48="","",基本情報入力シート!R48) -> 東京都 | L23: =IF(基本情報入力シート!W48="","",基本情報入力シート!W48) -> 千代田区 | M23: =IF(基本情報入力シート!X48="","",基本情報入力シート!X48) -> ○○デイケア | N23: =IF(基本情報入力シート!Y48="","",基本情報入力シート!Y48) -> 地域密着型通所介護 | O23: 処遇改善加算Ⅴ（６） | P23: 処遇改善加算Ⅱ | Q23: 9025200 | S23: =IFERROR(ROUNDDOWN(Q23*VLOOKUP(N23,【参考】数式用!$AR$2:$AW$48,MATCH(P23,【参考】数式用!$AT$4:$AW$4)+2,FALSE)*0.5, 0), "") -> 3208960 | T23: ○ | U23: =IFERROR(IF(AG23<>"",Q23*VLOOKUP(N23,【参考】数式用!$AG$2:$AL$48,MATCH(P23,【参考】数式用!$AI$4:$AL$4,0)+2,0), ""), "") -> 1103080 | V23: ○ | W23: 1 | Y23: ― | AA23: =IFERROR(IF(Y23="ー", "", ROUNDDOWN(Z23*VLOOKUP(N23,【参考】数式用!$AR$2:$AW$48,MATCH(Y23,【参考】数式用!$AT$4:$AW$4)+2,FALSE)*0.5, 0)), "") | AC23: =IFERROR(IF(AG23<>"",Z23*VLOOKUP(N23,【参考】数式用!$AG$2:$AL$48,MATCH(Y23,【参考】数式用!$AI$4:$AL$4,0)+2,0), ""), "") | AG23: =IFERROR(VLOOKUP(O23, 【参考】数式用!$AY$5:$AY$13, 1, FALSE), "") -> 処遇改善加算Ⅴ（６） | AH23: =IFERROR(VLOOKUP(N23, 【参考】数式用!$BA$2:$BB$48, 2, FALSE), "") -> 対象 | AI23: =IF(AND(OR(P23="処遇改善加算Ⅰ",P23="処遇改善加算Ⅱ"),AH23="対象"), 1,"") -> 1 | AJ23: =IF(OR(Y23="処遇改善加算Ⅰ",Y23="処遇改善加算Ⅱ"),IF(AND(N23<>"訪問型サービス（総合事業）",N23<>"通所型サービス（総合事業）",N23<>"（介護予防）短期入所生活介護",N23<>"（介護予防）短期入所療養介護（老健）",N23<>"（介護予防）短期入所療養介護 （病院等（老健以外）)",N23<>"（介護予防）短期入所療養介護（医療院）"),1,""),"")
A24: 11 | B24: =IF(基本情報入力シート!C49="","",基本情報入力シート!C49) -> 1111111117 | J24: =IF(基本情報入力シート!M49="","",基本情報入力シート!M49) -> 東京都 | K24: =IF(基本情報入力シート!R49="","",基本情報入力シート!R49) -> 東京都 | L24: =IF(基本情報入力シート!W49="","",基本情報入力シート!W49) -> 千代田区 | M24: =IF(基本情報入力シート!X49="","",基本情報入力シート!X49) -> ○○リハ | N24: =IF(基本情報入力シート!Y49="","",基本情報入力シート!Y49) -> 通所リハビリテーション | O24: 処遇改善加算Ⅴ（７） | P24: 処遇改善加算Ⅱ | Q24: 8591000 | S24: =IFERROR(ROUNDDOWN(Q24*VLOOKUP(N24,【参考】数式用!$AR$2:$AW$48,MATCH(P24,【参考】数式用!$AT$4:$AW$4)+2,FALSE)*0.5, 0), "") -> 2742909 | T24: ○ | U24: =IFERROR(IF(AG24<>"",Q24*VLOOKUP(N24,【参考】数式用!$AG$2:$AL$48,MATCH(P24,【参考】数式用!$AI$4:$AL$4,0)+2,0), ""), "") | W24: 1 | Y24: ― | AA24: =IFERROR(IF(Y24="ー", "", ROUNDDOWN(Z24*VLOOKUP(N24,【参考】数式用!$AR$2:$AW$48,MATCH(Y24,【参考】数式用!$AT$4:$AW$4)+2,FALSE)*0.5, 0)), "") | AC24: =IFERROR(IF(AG24<>"",Z24*VLOOKUP(N24,【参考】数式用!$AG$2:$AL$48,MATCH(Y24,【参考】数式用!$AI$4:$AL$4,0)+2,0), ""), "") | AG24: =IFERROR(VLOOKUP(O24, 【参考】数式用!$AY$5:$AY$13, 1, FALSE), "") | AH24: =IFERROR(VLOOKUP(N24, 【参考】数式用!$BA$2:$BB$48, 2, FALSE), "") -> 対象 | AI24: =IF(AND(OR(P24="処遇改善加算Ⅰ",P24="処遇改善加算Ⅱ"),AH24="対象"), 1,"") -> 1 | AJ24: =IF(OR(Y24="処遇改善加算Ⅰ",Y24="処遇改善加算Ⅱ"),IF(AND(N24<>"訪問型サービス（総合事業）",N24<>"通所型サービス（総合事業）",N24<>"（介護予防）短期入所生活介護",N24<>"（介護予防）短期入所療養介護（老健）",N24<>"（介護予防）短期入所療養介護 （病院等（老健以外）)",N24<>"（介護予防）短期入所療養介護（医療院）"),1,""),"")
A25: 12 | B25: =IF(基本情報入力シート!C50="","",基本情報入力シート!C50) -> 1111111118 | J25: =IF(基本情報入力シート!M50="","",基本情報入力シート!M50) -> 東京都 | K25: =IF(基本情報入力シート!R50="","",基本情報入力シート!R50) -> 東京都 | L25: =IF(基本情報入力シート!W50="","",基本情報入力シート!W50) -> 千代田区 | M25: =IF(基本情報入力シート!X50="","",基本情報入力シート!X50) -> ○○リハ | N25: =IF(基本情報入力シート!Y50="","",基本情報入力シート!Y50) -> 介護予防通所リハビリテーション | O25: 処遇改善加算Ⅴ（８） | P25: 処遇改善加算Ⅱ | Q25: 8591000 | S25: =IFERROR(ROUNDDOWN(Q25*VLOOKUP(N25,【参考】数式用!$AR$2:$AW$48,MATCH(P25,【参考】数式用!$AT$4:$AW$4)+2,FALSE)*0.5, 0), "") -> 2742909 | T25: ○ | U25: =IFERROR(IF(AG25<>"",Q25*VLOOKUP(N25,【参考】数式用!$AG$2:$AL$48,MATCH(P25,【参考】数式用!$AI$4:$AL$4,0)+2,0), ""), "") -> 1035060.2 | V25: ○ | Y25: ― | AA25: =IFERROR(IF(Y25="ー", "", ROUNDDOWN(Z25*VLOOKUP(N25,【参考】数式用!$AR$2:$AW$48,MATCH(Y25,【参考】数式用!$AT$4:$AW$4)+2,FALSE)*0.5, 0)), "") | AC25: =IFERROR(IF(AG25<>"",Z25*VLOOKUP(N25,【参考】数式用!$AG$2:$AL$48,MATCH(Y25,【参考】数式用!$AI$4:$AL$4,0)+2,0), ""), "") | AG25: =IFERROR(VLOOKUP(O25, 【参考】数式用!$AY$5:$AY$13, 1, FALSE), "") -> 処遇改善加算Ⅴ（８） | AH25: =IFERROR(VLOOKUP(N25, 【参考】数式用!$BA$2:$BB$48, 2, FALSE), "") -> 対象外 | AI25: =IF(AND(OR(P25="処遇改善加算Ⅰ",P25="処遇改善加算Ⅱ"),AH25="対象"), 1,"") | AJ25: =IF(OR(Y25="処遇改善加算Ⅰ",Y25="処遇改善加算Ⅱ"),IF(AND(N25<>"訪問型サービス（総合事業）",N25<>"通所型サービス（総合事業）",N25<>"（介護予防）短期入所生活介護",N25<>"（介護予防）短期入所療養介護（老健）",N25<>"（介護予防）短期入所療養介護 （病院等（老健以外）)",N25<>"（介護予防）短期入所療養介護（医療院）"),1,""),"")
A26: 13 | B26: =IF(基本情報入力シート!C51="","",基本情報入力シート!C51) -> 1111111119 | J26: =IF(基本情報入力シート!M51="","",基本情報入力シート!M51) -> 東京都 | K26: =IF(基本情報入力シート!R51="","",基本情報入力シート!R51) -> 東京都 | L26: =IF(基本情報入力シート!W51="","",基本情報入力シート!W51) -> 千代田区 | M26: =IF(基本情報入力シート!X51="","",基本情報入力シート!X51) -> ○○の杜 | N26: =IF(基本情報入力シート!Y51="","",基本情報入力シート!Y51) -> 特定施設入居者生活介護 | O26: 処遇改善加算Ⅴ（９） | P26: 処遇改善加算Ⅱ | Q26: 12557000 | S26: =IFERROR(ROUNDDOWN(Q26*VLOOKUP(N26,【参考】数式用!$AR$2:$AW$48,MATCH(P26,【参考】数式用!$AT$4:$AW$4)+2,FALSE)*0.5, 0), "") -> 4528754 | T26: ○ | U26: =IFERROR(IF(AG26<>"",Q26*VLOOKUP(N26,【参考】数式用!$AG$2:$AL$48,MATCH(P26,【参考】数式用!$AI$4:$AL$4,0)+2,0), ""), "") | W26: 1 | Y26: ― | AA26: =IFERROR(IF(Y26="ー", "", ROUNDDOWN(Z26*VLOOKUP(N26,【参考】数式用!$AR$2:$AW$48,MATCH(Y26,【参考】数式用!$AT$4:$AW$4)+2,FALSE)*0.5, 0)), "") | AC26: =IFERROR(IF(AG26<>"",Z26*VLOOKUP(N26,【参考】数式用!$AG$2:$AL$48,MATCH(Y26,【参考】数式用!$AI$4:$AL$4,0)+2,0), ""), "") | AG26: =IFERROR(VLOOKUP(O26, 【参考】数式用!$AY$5:$AY$13, 1, FALSE), "") | AH26: =IFERROR(VLOOKUP(N26, 【参考】数式用!$BA$2:$BB$48, 2, FALSE), "") -> 対象 | AI26: =IF(AND(OR(P26="処遇改善加算Ⅰ",P26="処遇改善加算Ⅱ"),AH26="対象"), 1,"") -> 1 | AJ26: =IF(OR(Y26="処遇改善加算Ⅰ",Y26="処遇改善加算Ⅱ"),IF(AND(N26<>"訪問型サービス（総合事業）",N26<>"通所型サービス（総合事業）",N26<>"（介護予防）短期入所生活介護",N26<>"（介護予防）短期入所療養介護（老健）",N26<>"（介護予防）短期入所療養介護 （病院等（老健以外）)",N26<>"（介護予防）短期入所療養介護（医療院）"),1,""),"")
A27: 14 | B27: =IF(基本情報入力シート!C52="","",基本情報入力シート!C52) -> 1111111120 | J27: =IF(基本情報入力シート!M52="","",基本情報入力シート!M52) -> 東京都 | K27: =IF(基本情報入力シート!R52="","",基本情報入力シート!R52) -> 東京都 | L27: =IF(基本情報入力シート!W52="","",基本情報入力シート!W52) -> 千代田区 | M27: =IF(基本情報入力シート!X52="","",基本情報入力シート!X52) -> ○○の杜 | N27: =IF(基本情報入力シート!Y52="","",基本情報入力シート!Y52) -> 特定施設入居者生活介護（短期利用型） | O27: 処遇改善加算Ⅴ（10） | P27: 処遇改善加算Ⅱ | Q27: 12557000 | S27: =IFERROR(ROUNDDOWN(Q27*VLOOKUP(N27,【参考】数式用!$AR$2:$AW$48,MATCH(P27,【参考】数式用!$AT$4:$AW$4)+2,FALSE)*0.5, 0), "") -> 4528754 | T27: ○ | U27: =IFERROR(IF(AG27<>"",Q27*VLOOKUP(N27,【参考】数式用!$AG$2:$AL$48,MATCH(P27,【参考】数式用!$AI$4:$AL$4,0)+2,0), ""), "") -> 1543893.4 | V27: ○ | Y27: ― | AA27: =IFERROR(IF(Y27="ー", "", ROUNDDOWN(Z27*VLOOKUP(N27,【参考】数式用!$AR$2:$AW$48,MATCH(Y27,【参考】数式用!$AT$4:$AW$4)+2,FALSE)*0.5, 0)), "") | AC27: =IFERROR(IF(AG27<>"",Z27*VLOOKUP(N27,【参考】数式用!$AG$2:$AL$48,MATCH(Y27,【参考】数式用!$AI$4:$AL$4,0)+2,0), ""), "") | AG27: =IFERROR(VLOOKUP(O27, 【参考】数式用!$AY$5:$AY$13, 1, FALSE), "") -> 処遇改善加算Ⅴ（10） | AH27: =IFERROR(VLOOKUP(N27, 【参考】数式用!$BA$2:$BB$48, 2, FALSE), "") -> 対象外 | AI27: =IF(AND(OR(P27="処遇改善加算Ⅰ",P27="処遇改善加算Ⅱ"),AH27="対象"), 1,"") | AJ27: =IF(OR(Y27="処遇改善加算Ⅰ",Y27="処遇改善加算Ⅱ"),IF(AND(N27<>"訪問型サービス（総合事業）",N27<>"通所型サービス（総合事業）",N27<>"（介護予防）短期入所生活介護",N27<>"（介護予防）短期入所療養介護（老健）",N27<>"（介護予防）短期入所療養介護 （病院等（老健以外）)",N27<>"（介護予防）短期入所療養介護（医療院）"),1,""),"")
A28: 15 | B28: =IF(基本情報入力シート!C53="","",基本情報入力シート!C53) -> 1111111121 | J28: =IF(基本情報入力シート!M53="","",基本情報入力シート!M53) -> 東京都 | K28: =IF(基本情報入力シート!R53="","",基本情報入力シート!R53) -> 東京都 | L28: =IF(基本情報入力シート!W53="","",基本情報入力シート!W53) -> 千代田区 | M28: =IF(基本情報入力シート!X53="","",基本情報入力シート!X53) -> ○○の杜 | N28: =IF(基本情報入力シート!Y53="","",基本情報入力シート!Y53) -> 介護予防特定施設入居者生活介護 | O28: 処遇改善加算Ⅴ（11） | P28: 処遇改善加算Ⅱ | Q28: 12557000 | S28: =IFERROR(ROUNDDOWN(Q28*VLOOKUP(N28,【参考】数式用!$AR$2:$AW$48,MATCH(P28,【参考】数式用!$AT$4:$AW$4)+2,FALSE)*0.5, 0), "") -> 4528754 | T28: ○ | U28: =IFERROR(IF(AG28<>"",Q28*VLOOKUP(N28,【参考】数式用!$AG$2:$AL$48,MATCH(P28,【参考】数式用!$AI$4:$AL$4,0)+2,0), ""), "") -> 1543893.4 | V28: ○ | Y28: ― | AA28: =IFERROR(IF(Y28="ー", "", ROUNDDOWN(Z28*VLOOKUP(N28,【参考】数式用!$AR$2:$AW$48,MATCH(Y28,【参考】数式用!$AT$4:$AW$4)+2,FALSE)*0.5, 0)), "") | AC28: =IFERROR(IF(AG28<>"",Z28*VLOOKUP(N28,【参考】数式用!$AG$2:$AL$48,MATCH(Y28,【参考】数式用!$AI$4:$AL$4,0)+2,0), ""), "") | AG28: =IFERROR(VLOOKUP(O28, 【参考】数式用!$AY$5:$AY$13, 1, FALSE), "") -> 処遇改善加算Ⅴ（11） | AH28: =IFERROR(VLOOKUP(N28, 【参考】数式用!$BA$2:$BB$48, 2, FALSE), "") -> 対象外 | AI28: =IF(AND(OR(P28="処遇改善加算Ⅰ",P28="処遇改善加算Ⅱ"),AH28="対象"), 1,"") | AJ28: =IF(OR(Y28="処遇改善加算Ⅰ",Y28="処遇改善加算Ⅱ"),IF(AND(N28<>"訪問型サービス（総合事業）",N28<>"通所型サービス（総合事業）",N28<>"（介護予防）短期入所生活介護",N28<>"（介護予防）短期入所療養介護（老健）",N28<>"（介護予防）短期入所療養介護 （病院等（老健以外）)",N28<>"（介護予防）短期入所療養介護（医療院）"),1,""),"")
A29: 16 | B29: =IF(基本情報入力シート!C54="","",基本情報入力シート!C54) -> 1111111122 | J29: =IF(基本情報入力シート!M54="","",基本情報入力シート!M54) -> 千代田区 | K29: =IF(基本情報入力シート!R54="","",基本情報入力シート!R54) -> 東京都 | L29: =IF(基本情報入力シート!W54="","",基本情報入力シート!W54) -> 千代田区 | M29: =IF(基本情報入力シート!X54="","",基本情報入力シート!X54) -> ○○の杜 | N29: =IF(基本情報入力シート!Y54="","",基本情報入力シート!Y54) -> 地域密着型特定施設入居者生活介護 | O29: 処遇改善加算Ⅴ（12） | P29: 処遇改善加算Ⅱ | Q29: 12557000 | S29: =IFERROR(ROUNDDOWN(Q29*VLOOKUP(N29,【参考】数式用!$AR$2:$AW$48,MATCH(P29,【参考】数式用!$AT$4:$AW$4)+2,FALSE)*0.5, 0), "") -> 4528754 | T29: ○ | U29: =IFERROR(IF(AG29<>"",Q29*VLOOKUP(N29,【参考】数式用!$AG$2:$AL$48,MATCH(P29,【参考】数式用!$AI$4:$AL$4,0)+2,0), ""), "") -> 1543893.4 | V29: ○ | W29: 1 | Y29: ― | AA29: =IFERROR(IF(Y29="ー", "", ROUNDDOWN(Z29*VLOOKUP(N29,【参考】数式用!$AR$2:$AW$48,MATCH(Y29,【参考】数式用!$AT$4:$AW$4)+2,FALSE)*0.5, 0)), "") | AC29: =IFERROR(IF(AG29<>"",Z29*VLOOKUP(N29,【参考】数式用!$AG$2:$AL$48,MATCH(Y29,【参考】数式用!$AI$4:$AL$4,0)+2,0), ""), "") | AG29: =IFERROR(VLOOKUP(O29, 【参考】数式用!$AY$5:$AY$13, 1, FALSE), "") -> 処遇改善加算Ⅴ（12） | AH29: =IFERROR(VLOOKUP(N29, 【参考】数式用!$BA$2:$BB$48, 2, FALSE), "") -> 対象 | AI29: =IF(AND(OR(P29="処遇改善加算Ⅰ",P29="処遇改善加算Ⅱ"),AH29="対象"), 1,"") -> 1 | AJ29: =IF(OR(Y29="処遇改善加算Ⅰ",Y29="処遇改善加算Ⅱ"),IF(AND(N29<>"訪問型サービス（総合事業）",N29<>"通所型サービス（総合事業）",N29<>"（介護予防）短期入所生活介護",N29<>"（介護予防）短期入所療養介護（老健）",N29<>"（介護予防）短期入所療養介護 （病院等（老健以外）)",N29<>"（介護予防）短期入所療養介護（医療院）"),1,""),"")
A30: 17 | B30: =IF(基本情報入力シート!C55="","",基本情報入力シート!C55) -> 1111111123 | J30: =IF(基本情報入力シート!M55="","",基本情報入力シート!M55) -> 千代田区 | K30: =IF(基本情報入力シート!R55="","",基本情報入力シート!R55) -> 東京都 | L30: =IF(基本情報入力シート!W55="","",基本情報入力シート!W55) -> 千代田区 | M30: =IF(基本情報入力シート!X55="","",基本情報入力シート!X55) -> ○○の杜 | N30: =IF(基本情報入力シート!Y55="","",基本情報入力シート!Y55) -> 地域密着型特定施設入居者生活介護（短期利用型） | O30: 処遇改善加算Ⅴ（13） | P30: 処遇改善加算Ⅱ | Q30: 12557000 | S30: =IFERROR(ROUNDDOWN(Q30*VLOOKUP(N30,【参考】数式用!$AR$2:$AW$48,MATCH(P30,【参考】数式用!$AT$4:$AW$4)+2,FALSE)*0.5, 0), "") -> 4528754 | T30: ○ | U30: =IFERROR(IF(AG30<>"",Q30*VLOOKUP(N30,【参考】数式用!$AG$2:$AL$48,MATCH(P30,【参考】数式用!$AI$4:$AL$4,0)+2,0), ""), "") | Y30: ― | AA30: =IFERROR(IF(Y30="ー", "", ROUNDDOWN(Z30*VLOOKUP(N30,【参考】数式用!$AR$2:$AW$48,MATCH(Y30,【参考】数式用!$AT$4:$AW$4)+2,FALSE)*0.5, 0)), "") | AC30: =IFERROR(IF(AG30<>"",Z30*VLOOKUP(N30,【参考】数式用!$AG$2:$AL$48,MATCH(Y30,【参考】数式用!$AI$4:$AL$4,0)+2,0), ""), "") | AG30: =IFERROR(VLOOKUP(O30, 【参考】数式用!$AY$5:$AY$13, 1, FALSE), "") | AH30: =IFERROR(VLOOKUP(N30, 【参考】数式用!$BA$2:$BB$48, 2, FALSE), "") -> 対象外 | AI30: =IF(AND(OR(P30="処遇改善加算Ⅰ",P30="処遇改善加算Ⅱ"),AH30="対象"), 1,"") | AJ30: =IF(OR(Y30="処遇改善加算Ⅰ",Y30="処遇改善加算Ⅱ"),IF(AND(N30<>"訪問型サービス（総合事業）",N30<>"通所型サービス（総合事業）",N30<>"（介護予防）短期入所生活介護",N30<>"（介護予防）短期入所療養介護（老健）",N30<>"（介護予防）短期入所療養介護 （病院等（老健以外）)",N30<>"（介護予防）短期入所療養介護（医療院）"),1,""),"")
A31: 18 | B31: =IF(基本情報入力シート!C56="","",基本情報入力シート!C56) -> 1111111124 | J31: =IF(基本情報入力シート!M56="","",基本情報入力シート!M56) -> 千代田区 | K31: =IF(基本情報入力シート!R56="","",基本情報入力シート!R56) -> 東京都 | L31: =IF(基本情報入力シート!W56="","",基本情報入力シート!W56) -> 千代田区 | M31: =IF(基本情報入力シート!X56="","",基本情報入力シート!X56) -> ○○デイケア | N31: =IF(基本情報入力シート!Y56="","",基本情報入力シート!Y56) -> 認知症対応型通所介護 | O31: 処遇改善加算Ⅴ（14） | P31: 処遇改善加算Ⅱ | Q31: 18082000 | S31: =IFERROR(ROUNDDOWN(Q31*VLOOKUP(N31,【参考】数式用!$AR$2:$AW$48,MATCH(P31,【参考】数式用!$AT$4:$AW$4)+2,FALSE)*0.5, 0), "") -> 6339091 | T31: ○ | U31: =IFERROR(IF(AG31<>"",Q31*VLOOKUP(N31,【参考】数式用!$AG$2:$AL$48,MATCH(P31,【参考】数式用!$AI$4:$AL$4,0)+2,0), ""), "") -> 2390149.4 | V31: ○ | W31: 1 | Y31: ― | AA31: =IFERROR(IF(Y31="ー", "", ROUNDDOWN(Z31*VLOOKUP(N31,【参考】数式用!$AR$2:$AW$48,MATCH(Y31,【参考】数式用!$AT$4:$AW$4)+2,FALSE)*0.5, 0)), "") | AC31: =IFERROR(IF(AG31<>"",Z31*VLOOKUP(N31,【参考】数式用!$AG$2:$AL$48,MATCH(Y31,【参考】数式用!$AI$4:$AL$4,0)+2,0), ""), "") | AG31: =IFERROR(VLOOKUP(O31, 【参考】数式用!$AY$5:$AY$13, 1, FALSE), "") -> 処遇改善加算Ⅴ（14） | AH31: =IFERROR(VLOOKUP(N31, 【参考】数式用!$BA$2:$BB$48, 2, FALSE), "") -> 対象 | AI31: =IF(AND(OR(P31="処遇改善加算Ⅰ",P31="処遇改善加算Ⅱ"),AH31="対象"), 1,"") -> 1 | AJ31: =IF(OR(Y31="処遇改善加算Ⅰ",Y31="処遇改善加算Ⅱ"),IF(AND(N31<>"訪問型サービス（総合事業）",N31<>"通所型サービス（総合事業）",N31<>"（介護予防）短期入所生活介護",N31<>"（介護予防）短期入所療養介護（老健）",N31<>"（介護予防）短期入所療養介護 （病院等（老健以外）)",N31<>"（介護予防）短期入所療養介護（医療院）"),1,""),"")
A32: 19 | B32: =IF(基本情報入力シート!C57="","",基本情報入力シート!C57) -> 1111111125 | J32: =IF(基本情報入力シート!M57="","",基本情報入力シート!M57) -> 千代田区 | K32: =IF(基本情報入力シート!R57="","",基本情報入力シート!R57) -> 東京都 | L32: =IF(基本情報入力シート!W57="","",基本情報入力シート!W57) -> 千代田区 | M32: =IF(基本情報入力シート!X57="","",基本情報入力シート!X57) -> ○○デイケア | N32: =IF(基本情報入力シート!Y57="","",基本情報入力シート!Y57) -> 介護予防認知症対応型通所介護 | O32: 処遇改善加算なし | P32: 処遇改善加算Ⅱ | Q32: 18082000 | S32: =IFERROR(ROUNDDOWN(Q32*VLOOKUP(N32,【参考】数式用!$AR$2:$AW$48,MATCH(P32,【参考】数式用!$AT$4:$AW$4)+2,FALSE)*0.5, 0), "") -> 6339091 | T32: ○ | U32: =IFERROR(IF(AG32<>"",Q32*VLOOKUP(N32,【参考】数式用!$AG$2:$AL$48,MATCH(P32,【参考】数式用!$AI$4:$AL$4,0)+2,0), ""), "") | Y32: ― | AA32: =IFERROR(IF(Y32="ー", "", ROUNDDOWN(Z32*VLOOKUP(N32,【参考】数式用!$AR$2:$AW$48,MATCH(Y32,【参考】数式用!$AT$4:$AW$4)+2,FALSE)*0.5, 0)), "") | AC32: =IFERROR(IF(AG32<>"",Z32*VLOOKUP(N32,【参考】数式用!$AG$2:$AL$48,MATCH(Y32,【参考】数式用!$AI$4:$AL$4,0)+2,0), ""), "") | AG32: =IFERROR(VLOOKUP(O32, 【参考】数式用!$AY$5:$AY$13, 1, FALSE), "") | AH32: =IFERROR(VLOOKUP(N32, 【参考】数式用!$BA$2:$BB$48, 2, FALSE), "") -> 対象外 | AI32: =IF(AND(OR(P32="処遇改善加算Ⅰ",P32="処遇改善加算Ⅱ"),AH32="対象"), 1,"") | AJ32: =IF(OR(Y32="処遇改善加算Ⅰ",Y32="処遇改善加算Ⅱ"),IF(AND(N32<>"訪問型サービス（総合事業）",N32<>"通所型サービス（総合事業）",N32<>"（介護予防）短期入所生活介護",N32<>"（介護予防）短期入所療養介護（老健）",N32<>"（介護予防）短期入所療養介護 （病院等（老健以外）)",N32<>"（介護予防）短期入所療養介護（医療院）"),1,""),"")
A33: 20 | B33: =IF(基本情報入力シート!C58="","",基本情報入力シート!C58) -> 1111111126 | J33: =IF(基本情報入力シート!M58="","",基本情報入力シート!M58) -> 千代田区 | K33: =IF(基本情報入力シート!R58="","",基本情報入力シート!R58) -> 東京都 | L33: =IF(基本情報入力シート!W58="","",基本情報入力シート!W58) -> 千代田区 | M33: =IF(基本情報入力シート!X58="","",基本情報入力シート!X58) -> ○○小多機 | N33: =IF(基本情報入力シート!Y58="","",基本情報入力シート!Y58) -> 小規模多機能型居宅介護 | O33: 処遇改善加算Ⅳ | P33: 処遇改善加算Ⅱ | Q33: 14885000 | S33: =IFERROR(ROUNDDOWN(Q33*VLOOKUP(N33,【参考】数式用!$AR$2:$AW$48,MATCH(P33,【参考】数式用!$AT$4:$AW$4)+2,FALSE)*0.5, 0), "") -> 5403458 | T33: ○ | U33: =IFERROR(IF(AG33<>"",Q33*VLOOKUP(N33,【参考】数式用!$AG$2:$AL$48,MATCH(P33,【参考】数式用!$AI$4:$AL$4,0)+2,0), ""), "") | W33: 1 | Y33: ― | AA33: =IFERROR(IF(Y33="ー", "", ROUNDDOWN(Z33*VLOOKUP(N33,【参考】数式用!$AR$2:$AW$48,MATCH(Y33,【参考】数式用!$AT$4:$AW$4)+2,FALSE)*0.5, 0)), "") | AC33: =IFERROR(IF(AG33<>"",Z33*VLOOKUP(N33,【参考】数式用!$AG$2:$AL$48,MATCH(Y33,【参考】数式用!$AI$4:$AL$4,0)+2,0), ""), "") | AG33: =IFERROR(VLOOKUP(O33, 【参考】数式用!$AY$5:$AY$13, 1, FALSE), "") | AH33: =IFERROR(VLOOKUP(N33, 【参考】数式用!$BA$2:$BB$48, 2, FALSE), "") -> 対象 | AI33: =IF(AND(OR(P33="処遇改善加算Ⅰ",P33="処遇改善加算Ⅱ"),AH33="対象"), 1,"") -> 1 | AJ33: =IF(OR(Y33="処遇改善加算Ⅰ",Y33="処遇改善加算Ⅱ"),IF(AND(N33<>"訪問型サービス（総合事業）",N33<>"通所型サービス（総合事業）",N33<>"（介護予防）短期入所生活介護",N33<>"（介護予防）短期入所療養介護（老健）",N33<>"（介護予防）短期入所療養介護 （病院等（老健以外）)",N33<>"（介護予防）短期入所療養介護（医療院）"),1,""),"")
A34: 21 | B34: =IF(基本情報入力シート!C59="","",基本情報入力シート!C59) -> 1111111127 | J34: =IF(基本情報入力シート!M59="","",基本情報入力シート!M59) -> 千代田区 | K34: =IF(基本情報入力シート!R59="","",基本情報入力シート!R59) -> 東京都 | L34: =IF(基本情報入力シート!W59="","",基本情報入力シート!W59) -> 千代田区 | M34: =IF(基本情報入力シート!X59="","",基本情報入力シート!X59) -> ○○小多機 | N34: =IF(基本情報入力シート!Y59="","",基本情報入力シート!Y59) -> 小規模多機能型居宅介護（短期利用型） | O34: 処遇改善加算Ⅳ | P34: 処遇改善加算Ⅱ | Q34: 14885000 | S34: =IFERROR(ROUNDDOWN(Q34*VLOOKUP(N34,【参考】数式用!$AR$2:$AW$48,MATCH(P34,【参考】数式用!$AT$4:$AW$4)+2,FALSE)*0.5, 0), "") -> 5403458 | T34: ○ | U34: =IFERROR(IF(AG34<>"",Q34*VLOOKUP(N34,【参考】数式用!$AG$2:$AL$48,MATCH(P34,【参考】数式用!$AI$4:$AL$4,0)+2,0), ""), "") | Y34: ― | AA34: =IFERROR(IF(Y34="ー", "", ROUNDDOWN(Z34*VLOOKUP(N34,【参考】数式用!$AR$2:$AW$48,MATCH(Y34,【参考】数式用!$AT$4:$AW$4)+2,FALSE)*0.5, 0)), "") | AC34: =IFERROR(IF(AG34<>"",Z34*VLOOKUP(N34,【参考】数式用!$AG$2:$AL$48,MATCH(Y34,【参考】数式用!$AI$4:$AL$4,0)+2,0), ""), "") | AG34: =IFERROR(VLOOKUP(O34, 【参考】数式用!$AY$5:$AY$13, 1, FALSE), "") | AH34: =IFERROR(VLOOKUP(N34, 【参考】数式用!$BA$2:$BB$48, 2, FALSE), "") -> 対象外 | AI34: =IF(AND(OR(P34="処遇改善加算Ⅰ",P34="処遇改善加算Ⅱ"),AH34="対象"), 1,"") | AJ34: =IF(OR(Y34="処遇改善加算Ⅰ",Y34="処遇改善加算Ⅱ"),IF(AND(N34<>"訪問型サービス（総合事業）",N34<>"通所型サービス（総合事業）",N34<>"（介護予防）短期入所生活介護",N34<>"（介護予防）短期入所療養介護（老健）",N34<>"（介護予防）短期入所療養介護 （病院等（老健以外）)",N34<>"（介護予防）短期入所療養介護（医療院）"),1,""),"")
A35: 22 | B35: =IF(基本情報入力シート!C60="","",基本情報入力シート!C60) -> 1111111128 | J35: =IF(基本情報入力シート!M60="","",基本情報入力シート!M60) -> 千代田区 | K35: =IF(基本情報入力シート!R60="","",基本情報入力シート!R60) -> 東京都 | L35: =IF(基本情報入力シート!W60="","",基本情報入力シート!W60) -> 千代田区 | M35: =IF(基本情報入力シート!X60="","",基本情報入力シート!X60) -> ○○小多機 | N35: =IF(基本情報入力シート!Y60="","",基本情報入力シート!Y60) -> 介護予防小規模多機能型居宅介護 | O35: 処遇改善加算Ⅳ | P35: 処遇改善加算Ⅱ | Q35: 14885000 | S35: =IFERROR(ROUNDDOWN(Q35*VLOOKUP(N35,【参考】数式用!$AR$2:$AW$48,MATCH(P35,【参考】数式用!$AT$4:$AW$4)+2,FALSE)*0.5, 0), "") -> 5403458 | T35: ○ | U35: =IFERROR(IF(AG35<>"",Q35*VLOOKUP(N35,【参考】数式用!$AG$2:$AL$48,MATCH(P35,【参考】数式用!$AI$4:$AL$4,0)+2,0), ""), "") | Y35: ― | AA35: =IFERROR(IF(Y35="ー", "", ROUNDDOWN(Z35*VLOOKUP(N35,【参考】数式用!$AR$2:$AW$48,MATCH(Y35,【参考】数式用!$AT$4:$AW$4)+2,FALSE)*0.5, 0)), "") | AC35: =IFERROR(IF(AG35<>"",Z35*VLOOKUP(N35,【参考】数式用!$AG$2:$AL$48,MATCH(Y35,【参考】数式用!$AI$4:$AL$4,0)+2,0), ""), "") | AG35: =IFERROR(VLOOKUP(O35, 【参考】数式用!$AY$5:$AY$13, 1, FALSE), "") | AH35: =IFERROR(VLOOKUP(N35, 【参考】数式用!$BA$2:$BB$48, 2, FALSE), "") -> 対象外 | AI35: =IF(AND(OR(P35="処遇改善加算Ⅰ",P35="処遇改善加算Ⅱ"),AH35="対象"), 1,"") | AJ35: =IF(OR(Y35="処遇改善加算Ⅰ",Y35="処遇改善加算Ⅱ"),IF(AND(N35<>"訪問型サービス（総合事業）",N35<>"通所型サービス（総合事業）",N35<>"（介護予防）短期入所生活介護",N35<>"（介護予防）短期入所療養介護（老健）",N35<>"（介護予防）短期入所療養介護 （病院等（老健以外）)",N35<>"（介護予防）短期入所療養介護（医療院）"),1,""),"")
A36: 23 | B36: =IF(基本情報入力シート!C61="","",基本情報入力シート!C61) -> 1111111129 | J36: =IF(基本情報入力シート!M61="","",基本情報入力シート!M61) -> 千代田区 | K36: =IF(基本情報入力シート!R61="","",基本情報入力シート!R61) -> 東京都 | L36: =IF(基本情報入力シート!W61="","",基本情報入力シート!W61) -> 千代田区 | M36: =IF(基本情報入力シート!X61="","",基本情報入力シート!X61) -> ○○小多機 | N36: =IF(基本情報入力シート!Y61="","",基本情報入力シート!Y61) -> 介護予防小規模多機能型居宅介護（短期利用型） | O36: 処遇改善加算Ⅳ | P36: 処遇改善加算Ⅱ | Q36: 14885000 | S36: =IFERROR(ROUNDDOWN(Q36*VLOOKUP(N36,【参考】数式用!$AR$2:$AW$48,MATCH(P36,【参考】数式用!$AT$4:$AW$4)+2,FALSE)*0.5, 0), "") -> 5403458 | T36: ○ | U36: =IFERROR(IF(AG36<>"",Q36*VLOOKUP(N36,【参考】数式用!$AG$2:$AL$48,MATCH(P36,【参考】数式用!$AI$4:$AL$4,0)+2,0), ""), "") | Y36: ― | AA36: =IFERROR(IF(Y36="ー", "", ROUNDDOWN(Z36*VLOOKUP(N36,【参考】数式用!$AR$2:$AW$48,MATCH(Y36,【参考】数式用!$AT$4:$AW$4)+2,FALSE)*0.5, 0)), "") | AC36: =IFERROR(IF(AG36<>"",Z36*VLOOKUP(N36,【参考】数式用!$AG$2:$AL$48,MATCH(Y36,【参考】数式用!$AI$4:$AL$4,0)+2,0), ""), "") | AG36: =IFERROR(VLOOKUP(O36, 【参考】数式用!$AY$5:$AY$13, 1, FALSE), "") | AH36: =IFERROR(VLOOKUP(N36, 【参考】数式用!$BA$2:$BB$48, 2, FALSE), "") -> 対象外 | AI36: =IF(AND(OR(P36="処遇改善加算Ⅰ",P36="処遇改善加算Ⅱ"),AH36="対象"), 1,"") | AJ36: =IF(OR(Y36="処遇改善加算Ⅰ",Y36="処遇改善加算Ⅱ"),IF(AND(N36<>"訪問型サービス（総合事業）",N36<>"通所型サービス（総合事業）",N36<>"（介護予防）短期入所生活介護",N36<>"（介護予防）短期入所療養介護（老健）",N36<>"（介護予防）短期入所療養介護 （病院等（老健以外）)",N36<>"（介護予防）短期入所療養介護（医療院）"),1,""),"")
A37: 24 | B37: =IF(基本情報入力シート!C62="","",基本情報入力シート!C62) -> 1111111130 | J37: =IF(基本情報入力シート!M62="","",基本情報入力シート!M62) -> 千代田区 | K37: =IF(基本情報入力シート!R62="","",基本情報入力シート!R62) -> 東京都 | L37: =IF(基本情報入力シート!W62="","",基本情報入力シート!W62) -> 千代田区 | M37: =IF(基本情報入力シート!X62="","",基本情報入力シート!X62) -> ○○看多機 | N37: =IF(基本情報入力シート!Y62="","",基本情報入力シート!Y62) -> 複合型サービス（看護小規模多機能型居宅介護） | O37: 処遇改善加算Ⅳ | P37: 処遇改善加算Ⅱ | Q37: 14885000 | S37: =IFERROR(ROUNDDOWN(Q37*VLOOKUP(N37,【参考】数式用!$AR$2:$AW$48,MATCH(P37,【参考】数式用!$AT$4:$AW$4)+2,FALSE)*0.5, 0), "") -> 5403458 | T37: ○ | U37: =IFERROR(IF(AG37<>"",Q37*VLOOKUP(N37,【参考】数式用!$AG$2:$AL$48,MATCH(P37,【参考】数式用!$AI$4:$AL$4,0)+2,0), ""), "") | W37: 1 | Y37: ― | AA37: =IFERROR(IF(Y37="ー", "", ROUNDDOWN(Z37*VLOOKUP(N37,【参考】数式用!$AR$2:$AW$48,MATCH(Y37,【参考】数式用!$AT$4:$AW$4)+2,FALSE)*0.5, 0)), "") | AC37: =IFERROR(IF(AG37<>"",Z37*VLOOKUP(N37,【参考】数式用!$AG$2:$AL$48,MATCH(Y37,【参考】数式用!$AI$4:$AL$4,0)+2,0), ""), "") | AG37: =IFERROR(VLOOKUP(O37, 【参考】数式用!$AY$5:$AY$13, 1, FALSE), "") | AH37: =IFERROR(VLOOKUP(N37, 【参考】数式用!$BA$2:$BB$48, 2, FALSE), "") -> 対象 | AI37: =IF(AND(OR(P37="処遇改善加算Ⅰ",P37="処遇改善加算Ⅱ"),AH37="対象"), 1,"") -> 1 | AJ37: =IF(OR(Y37="処遇改善加算Ⅰ",Y37="処遇改善加算Ⅱ"),IF(AND(N37<>"訪問型サービス（総合事業）",N37<>"通所型サービス（総合事業）",N37<>"（介護予防）短期入所生活介護",N37<>"（介護予防）短期入所療養介護（老健）",N37<>"（介護予防）短期入所療養介護 （病院等（老健以外）)",N37<>"（介護予防）短期入所療養介護（医療院）"),1,""),"")
A38: 25 | B38: =IF(基本情報入力シート!C63="","",基本情報入力シート!C63) -> 1111111131 | J38: =IF(基本情報入力シート!M63="","",基本情報入力シート!M63) -> 千代田区 | K38: =IF(基本情報入力シート!R63="","",基本情報入力シート!R63) -> 東京都 | L38: =IF(基本情報入力シート!W63="","",基本情報入力シート!W63) -> 千代田区 | M38: =IF(基本情報入力シート!X63="","",基本情報入力シート!X63) -> ○○看多機 | N38: =IF(基本情報入力シート!Y63="","",基本情報入力シート!Y63) -> 複合型サービス（看護小規模多機能型居宅介護・短期利用型） | O38: 処遇改善加算Ⅳ | P38: 処遇改善加算Ⅱ | Q38: 14885000 | S38: =IFERROR(ROUNDDOWN(Q38*VLOOKUP(N38,【参考】数式用!$AR$2:$AW$48,MATCH(P38,【参考】数式用!$AT$4:$AW$4)+2,FALSE)*0.5, 0), "") -> 5403458 | T38: ○ | U38: =IFERROR(IF(AG38<>"",Q38*VLOOKUP(N38,【参考】数式用!$AG$2:$AL$48,MATCH(P38,【参考】数式用!$AI$4:$AL$4,0)+2,0), ""), "") | Y38: ― | AA38: =IFERROR(IF(Y38="ー", "", ROUNDDOWN(Z38*VLOOKUP(N38,【参考】数式用!$AR$2:$AW$48,MATCH(Y38,【参考】数式用!$AT$4:$AW$4)+2,FALSE)*0.5, 0)), "") | AC38: =IFERROR(IF(AG38<>"",Z38*VLOOKUP(N38,【参考】数式用!$AG$2:$AL$48,MATCH(Y38,【参考】数式用!$AI$4:$AL$4,0)+2,0), ""), "") | AG38: =IFERROR(VLOOKUP(O38, 【参考】数式用!$AY$5:$AY$13, 1, FALSE), "") | AH38: =IFERROR(VLOOKUP(N38, 【参考】数式用!$BA$2:$BB$48, 2, FALSE), "") -> 対象外 | AI38: =IF(AND(OR(P38="処遇改善加算Ⅰ",P38="処遇改善加算Ⅱ"),AH38="対象"), 1,"") | AJ38: =IF(OR(Y38="処遇改善加算Ⅰ",Y38="処遇改善加算Ⅱ"),IF(AND(N38<>"訪問型サービス（総合事業）",N38<>"通所型サービス（総合事業）",N38<>"（介護予防）短期入所生活介護",N38<>"（介護予防）短期入所療養介護（老健）",N38<>"（介護予防）短期入所療養介護 （病院等（老健以外）)",N38<>"（介護予防）短期入所療養介護（医療院）"),1,""),"")
A39: 26 | B39: =IF(基本情報入力シート!C64="","",基本情報入力シート!C64) -> 1111111132 | J39: =IF(基本情報入力シート!M64="","",基本情報入力シート!M64) -> 千代田区 | K39: =IF(基本情報入力シート!R64="","",基本情報入力シート!R64) -> 東京都 | L39: =IF(基本情報入力シート!W64="","",基本情報入力シート!W64) -> 千代田区 | M39: =IF(基本情報入力シート!X64="","",基本情報入力シート!X64) -> ○○GH | N39: =IF(基本情報入力シート!Y64="","",基本情報入力シート!Y64) -> 認知症対応型共同生活介護 | O39: 処遇改善加算Ⅳ | P39: 処遇改善加算Ⅱ | Q39: 18246000 | S39: =IFERROR(ROUNDDOWN(Q39*VLOOKUP(N39,【参考】数式用!$AR$2:$AW$48,MATCH(P39,【参考】数式用!$AT$4:$AW$4)+2,FALSE)*0.5, 0), "") -> 6406601 | T39: ○ | U39: =IFERROR(IF(AG39<>"",Q39*VLOOKUP(N39,【参考】数式用!$AG$2:$AL$48,MATCH(P39,【参考】数式用!$AI$4:$AL$4,0)+2,0), ""), "") | W39: 1 | Y39: ― | AA39: =IFERROR(IF(Y39="ー", "", ROUNDDOWN(Z39*VLOOKUP(N39,【参考】数式用!$AR$2:$AW$48,MATCH(Y39,【参考】数式用!$AT$4:$AW$4)+2,FALSE)*0.5, 0)), "") | AC39: =IFERROR(IF(AG39<>"",Z39*VLOOKUP(N39,【参考】数式用!$AG$2:$AL$48,MATCH(Y39,【参考】数式用!$AI$4:$AL$4,0)+2,0), ""), "") | AG39: =IFERROR(VLOOKUP(O39, 【参考】数式用!$AY$5:$AY$13, 1, FALSE), "") | AH39: =IFERROR(VLOOKUP(N39, 【参考】数式用!$BA$2:$BB$48, 2, FALSE), "") -> 対象 | AI39: =IF(AND(OR(P39="処遇改善加算Ⅰ",P39="処遇改善加算Ⅱ"),AH39="対象"), 1,"") -> 1 | AJ39: =IF(OR(Y39="処遇改善加算Ⅰ",Y39="処遇改善加算Ⅱ"),IF(AND(N39<>"訪問型サービス（総合事業）",N39<>"通所型サービス（総合事業）",N39<>"（介護予防）短期入所生活介護",N39<>"（介護予防）短期入所療養介護（老健）",N39<>"（介護予防）短期入所療養介護 （病院等（老健以外）)",N39<>"（介護予防）短期入所療養介護（医療院）"),1,""),"")
A40: 27 | B40: =IF(基本情報入力シート!C65="","",基本情報入力シート!C65) -> 1111111133 | J40: =IF(基本情報入力シート!M65="","",基本情報入力シート!M65) -> 千代田区 | K40: =IF(基本情報入力シート!R65="","",基本情報入力シート!R65) -> 東京都 | L40: =IF(基本情報入力シート!W65="","",基本情報入力シート!W65) -> 千代田区 | M40: =IF(基本情報入力シート!X65="","",基本情報入力シート!X65) -> ○○GH | N40: =IF(基本情報入力シート!Y65="","",基本情報入力シート!Y65) -> 認知症対応型共同生活介護（短期利用型） | O40: 処遇改善加算Ⅳ | P40: 処遇改善加算Ⅱ | Q40: 18246000 | S40: =IFERROR(ROUNDDOWN(Q40*VLOOKUP(N40,【参考】数式用!$AR$2:$AW$48,MATCH(P40,【参考】数式用!$AT$4:$AW$4)+2,FALSE)*0.5, 0), "") -> 6406601 | T40: ○ | U40: =IFERROR(IF(AG40<>"",Q40*VLOOKUP(N40,【参考】数式用!$AG$2:$AL$48,MATCH(P40,【参考】数式用!$AI$4:$AL$4,0)+2,0), ""), "") | Y40: ― | AA40: =IFERROR(IF(Y40="ー", "", ROUNDDOWN(Z40*VLOOKUP(N40,【参考】数式用!$AR$2:$AW$48,MATCH(Y40,【参考】数式用!$AT$4:$AW$4)+2,FALSE)*0.5, 0)), "") | AC40: =IFERROR(IF(AG40<>"",Z40*VLOOKUP(N40,【参考】数式用!$AG$2:$AL$48,MATCH(Y40,【参考】数式用!$AI$4:$AL$4,0)+2,0), ""), "") | AG40: =IFERROR(VLOOKUP(O40, 【参考】数式用!$AY$5:$AY$13, 1, FALSE), "") | AH40: =IFERROR(VLOOKUP(N40, 【参考】数式用!$BA$2:$BB$48, 2, FALSE), "") -> 対象外 | AI40: =IF(AND(OR(P40="処遇改善加算Ⅰ",P40="処遇改善加算Ⅱ"),AH40="対象"), 1,"") | AJ40: =IF(OR(Y40="処遇改善加算Ⅰ",Y40="処遇改善加算Ⅱ"),IF(AND(N40<>"訪問型サービス（総合事業）",N40<>"通所型サービス（総合事業）",N40<>"（介護予防）短期入所生活介護",N40<>"（介護予防）短期入所療養介護（老健）",N40<>"（介護予防）短期入所療養介護 （病院等（老健以外）)",N40<>"（介護予防）短期入所療養介護（医療院）"),1,""),"")
A41: 28 | B41: =IF(基本情報入力シート!C66="","",基本情報入力シート!C66) -> 1111111134 | J41: =IF(基本情報入力シート!M66="","",基本情報入力シート!M66) -> 千代田区 | K41: =IF(基本情報入力シート!R66="","",基本情報入力シート!R66) -> 東京都 | L41: =IF(基本情報入力シート!W66="","",基本情報入力シート!W66) -> 千代田区 | M41: =IF(基本情報入力シート!X66="","",基本情報入力シート!X66) -> ○○GH | N41: =IF(基本情報入力シート!Y66="","",基本情報入力シート!Y66) -> 介護予防認知症対応型共同生活介護 | O41: 処遇改善加算Ⅳ | P41: 処遇改善加算Ⅱ | Q41: 18246000 | S41: =IFERROR(ROUNDDOWN(Q41*VLOOKUP(N41,【参考】数式用!$AR$2:$AW$48,MATCH(P41,【参考】数式用!$AT$4:$AW$4)+2,FALSE)*0.5, 0), "") -> 6406601 | T41: ○ | U41: =IFERROR(IF(AG41<>"",Q41*VLOOKUP(N41,【参考】数式用!$AG$2:$AL$48,MATCH(P41,【参考】数式用!$AI$4:$AL$4,0)+2,0), ""), "") | Y41: ― | AA41: =IFERROR(IF(Y41="ー", "", ROUNDDOWN(Z41*VLOOKUP(N41,【参考】数式用!$AR$2:$AW$48,MATCH(Y41,【参考】数式用!$AT$4:$AW$4)+2,FALSE)*0.5, 0)), "") | AC41: =IFERROR(IF(AG41<>"",Z41*VLOOKUP(N41,【参考】数式用!$AG$2:$AL$48,MATCH(Y41,【参考】数式用!$AI$4:$AL$4,0)+2,0), ""), "") | AG41: =IFERROR(VLOOKUP(O41, 【参考】数式用!$AY$5:$AY$13, 1, FALSE), "") | AH41: =IFERROR(VLOOKUP(N41, 【参考】数式用!$BA$2:$BB$48, 2, FALSE), "") -> 対象外 | AI41: =IF(AND(OR(P41="処遇改善加算Ⅰ",P41="処遇改善加算Ⅱ"),AH41="対象"), 1,"") | AJ41: =IF(OR(Y41="処遇改善加算Ⅰ",Y41="処遇改善加算Ⅱ"),IF(AND(N41<>"訪問型サービス（総合事業）",N41<>"通所型サービス（総合事業）",N41<>"（介護予防）短期入所生活介護",N41<>"（介護予防）短期入所療養介護（老健）",N41<>"（介護予防）短期入所療養介護 （病院等（老健以外）)",N41<>"（介護予防）短期入所療養介護（医療院）"),1,""),"")
A42: 29 | B42: =IF(基本情報入力シート!C67="","",基本情報入力シート!C67) -> 1111111135 | J42: =IF(基本情報入力シート!M67="","",基本情報入力シート!M67) -> 千代田区 | K42: =IF(基本情報入力シート!R67="","",基本情報入力シート!R67) -> 東京都 | L42: =IF(基本情報入力シート!W67="","",基本情報入力シート!W67) -> 千代田区 | M42: =IF(基本情報入力シート!X67="","",基本情報入力シート!X67) -> ○○GH | N42: =IF(基本情報入力シート!Y67="","",基本情報入力シート!Y67) -> 介護予防認知症対応型共同生活介護（短期利用型） | O42: 処遇改善加算Ⅳ | P42: 処遇改善加算Ⅱ | Q42: 18246000 | S42: =IFERROR(ROUNDDOWN(Q42*VLOOKUP(N42,【参考】数式用!$AR$2:$AW$48,MATCH(P42,【参考】数式用!$AT$4:$AW$4)+2,FALSE)*0.5, 0), "") -> 6406601 | T42: ○ | U42: =IFERROR(IF(AG42<>"",Q42*VLOOKUP(N42,【参考】数式用!$AG$2:$AL$48,MATCH(P42,【参考】数式用!$AI$4:$AL$4,0)+2,0), ""), "") | Y42: ― | AA42: =IFERROR(IF(Y42="ー", "", ROUNDDOWN(Z42*VLOOKUP(N42,【参考】数式用!$AR$2:$AW$48,MATCH(Y42,【参考】数式用!$AT$4:$AW$4)+2,FALSE)*0.5, 0)), "") | AC42: =IFERROR(IF(AG42<>"",Z42*VLOOKUP(N42,【参考】数式用!$AG$2:$AL$48,MATCH(Y42,【参考】数式用!$AI$4:$AL$4,0)+2,0), ""), "") | AG42: =IFERROR(VLOOKUP(O42, 【参考】数式用!$AY$5:$AY$13, 1, FALSE), "") | AH42: =IFERROR(VLOOKUP(N42, 【参考】数式用!$BA$2:$BB$48, 2, FALSE), "") -> 対象外 | AI42: =IF(AND(OR(P42="処遇改善加算Ⅰ",P42="処遇改善加算Ⅱ"),AH42="対象"), 1,"") | AJ42: =IF(OR(Y42="処遇改善加算Ⅰ",Y42="処遇改善加算Ⅱ"),IF(AND(N42<>"訪問型サービス（総合事業）",N42<>"通所型サービス（総合事業）",N42<>"（介護予防）短期入所生活介護",N42<>"（介護予防）短期入所療養介護（老健）",N42<>"（介護予防）短期入所療養介護 （病院等（老健以外）)",N42<>"（介護予防）短期入所療養介護（医療院）"),1,""),"")
A43: 30 | B43: =IF(基本情報入力シート!C68="","",基本情報入力シート!C68) -> 1111111136 | J43: =IF(基本情報入力シート!M68="","",基本情報入力シート!M68) -> 東京都 | K43: =IF(基本情報入力シート!R68="","",基本情報入力シート!R68) -> 東京都 | L43: =IF(基本情報入力シート!W68="","",基本情報入力シート!W68) -> 千代田区 | M43: =IF(基本情報入力シート!X68="","",基本情報入力シート!X68) -> ○○施設 | N43: =IF(基本情報入力シート!Y68="","",基本情報入力シート!Y68) -> 介護老人福祉施設サービス | O43: 処遇改善加算Ⅳ | P43: 処遇改善加算Ⅱ | Q43: 13734000 | S43: =IFERROR(ROUNDDOWN(Q43*VLOOKUP(N43,【参考】数式用!$AR$2:$AW$48,MATCH(P43,【参考】数式用!$AT$4:$AW$4)+2,FALSE)*0.5, 0), "") -> 4544338 | T43: ○ | U43: =IFERROR(IF(AG43<>"",Q43*VLOOKUP(N43,【参考】数式用!$AG$2:$AL$48,MATCH(P43,【参考】数式用!$AI$4:$AL$4,0)+2,0), ""), "") | W43: 1 | Y43: ― | AA43: =IFERROR(IF(Y43="ー", "", ROUNDDOWN(Z43*VLOOKUP(N43,【参考】数式用!$AR$2:$AW$48,MATCH(Y43,【参考】数式用!$AT$4:$AW$4)+2,FALSE)*0.5, 0)), "") | AC43: =IFERROR(IF(AG43<>"",Z43*VLOOKUP(N43,【参考】数式用!$AG$2:$AL$48,MATCH(Y43,【参考】数式用!$AI$4:$AL$4,0)+2,0), ""), "") | AG43: =IFERROR(VLOOKUP(O43, 【参考】数式用!$AY$5:$AY$13, 1, FALSE), "") | AH43: =IFERROR(VLOOKUP(N43, 【参考】数式用!$BA$2:$BB$48, 2, FALSE), "") -> 対象 | AI43: =IF(AND(OR(P43="処遇改善加算Ⅰ",P43="処遇改善加算Ⅱ"),AH43="対象"), 1,"") -> 1 | AJ43: =IF(OR(Y43="処遇改善加算Ⅰ",Y43="処遇改善加算Ⅱ"),IF(AND(N43<>"訪問型サービス（総合事業）",N43<>"通所型サービス（総合事業）",N43<>"（介護予防）短期入所生活介護",N43<>"（介護予防）短期入所療養介護（老健）",N43<>"（介護予防）短期入所療養介護 （病院等（老健以外）)",N43<>"（介護予防）短期入所療養介護（医療院）"),1,""),"")
A44: 31 | B44: =IF(基本情報入力シート!C69="","",基本情報入力シート!C69) -> 1111111137 | J44: =IF(基本情報入力シート!M69="","",基本情報入力シート!M69) -> 千代田区 | K44: =IF(基本情報入力シート!R69="","",基本情報入力シート!R69) -> 東京都 | L44: =IF(基本情報入力シート!W69="","",基本情報入力シート!W69) -> 千代田区 | M44: =IF(基本情報入力シート!X69="","",基本情報入力シート!X69) -> ○○施設 | N44: =IF(基本情報入力シート!Y69="","",基本情報入力シート!Y69) -> 地域密着型介護老人福祉施設 | O44: 処遇改善加算Ⅳ | P44: 処遇改善加算Ⅱ | Q44: 13734000 | S44: =IFERROR(ROUNDDOWN(Q44*VLOOKUP(N44,【参考】数式用!$AR$2:$AW$48,MATCH(P44,【参考】数式用!$AT$4:$AW$4)+2,FALSE)*0.5, 0), "") -> 4544338 | T44: ○ | U44: =IFERROR(IF(AG44<>"",Q44*VLOOKUP(N44,【参考】数式用!$AG$2:$AL$48,MATCH(P44,【参考】数式用!$AI$4:$AL$4,0)+2,0), ""), "") | W44: 1 | Y44: ― | AA44: =IFERROR(IF(Y44="ー", "", ROUNDDOWN(Z44*VLOOKUP(N44,【参考】数式用!$AR$2:$AW$48,MATCH(Y44,【参考】数式用!$AT$4:$AW$4)+2,FALSE)*0.5, 0)), "") | AC44: =IFERROR(IF(AG44<>"",Z44*VLOOKUP(N44,【参考】数式用!$AG$2:$AL$48,MATCH(Y44,【参考】数式用!$AI$4:$AL$4,0)+2,0), ""), "") | AG44: =IFERROR(VLOOKUP(O44, 【参考】数式用!$AY$5:$AY$13, 1, FALSE), "") | AH44: =IFERROR(VLOOKUP(N44, 【参考】数式用!$BA$2:$BB$48, 2, FALSE), "") -> 対象 | AI44: =IF(AND(OR(P44="処遇改善加算Ⅰ",P44="処遇改善加算Ⅱ"),AH44="対象"), 1,"") -> 1 | AJ44: =IF(OR(Y44="処遇改善加算Ⅰ",Y44="処遇改善加算Ⅱ"),IF(AND(N44<>"訪問型サービス（総合事業）",N44<>"通所型サービス（総合事業）",N44<>"（介護予防）短期入所生活介護",N44<>"（介護予防）短期入所療養介護（老健）",N44<>"（介護予防）短期入所療養介護 （病院等（老健以外）)",N44<>"（介護予防）短期入所療養介護（医療院）"),1,""),"")
A45: 32 | B45: =IF(基本情報入力シート!C70="","",基本情報入力シート!C70) -> 1111111138 | J45: =IF(基本情報入力シート!M70="","",基本情報入力シート!M70) -> 東京都 | K45: =IF(基本情報入力シート!R70="","",基本情報入力シート!R70) -> 東京都 | L45: =IF(基本情報入力シート!W70="","",基本情報入力シート!W70) -> 千代田区 | M45: =IF(基本情報入力シート!X70="","",基本情報入力シート!X70) -> ○○施設 | N45: =IF(基本情報入力シート!Y70="","",基本情報入力シート!Y70) -> 短期入所生活介護 | O45: 処遇改善加算Ⅳ | P45: 処遇改善加算Ⅱ | Q45: 13986000 | S45: =IFERROR(ROUNDDOWN(Q45*VLOOKUP(N45,【参考】数式用!$AR$2:$AW$48,MATCH(P45,【参考】数式用!$AT$4:$AW$4)+2,FALSE)*0.5, 0), "") -> 4627720 | T45: ○ | U45: =IFERROR(IF(AG45<>"",Q45*VLOOKUP(N45,【参考】数式用!$AG$2:$AL$48,MATCH(P45,【参考】数式用!$AI$4:$AL$4,0)+2,0), ""), "") | Y45: ― | AA45: =IFERROR(IF(Y45="ー", "", ROUNDDOWN(Z45*VLOOKUP(N45,【参考】数式用!$AR$2:$AW$48,MATCH(Y45,【参考】数式用!$AT$4:$AW$4)+2,FALSE)*0.5, 0)), "") | AC45: =IFERROR(IF(AG45<>"",Z45*VLOOKUP(N45,【参考】数式用!$AG$2:$AL$48,MATCH(Y45,【参考】数式用!$AI$4:$AL$4,0)+2,0), ""), "") | AG45: =IFERROR(VLOOKUP(O45, 【参考】数式用!$AY$5:$AY$13, 1, FALSE), "") | AH45: =IFERROR(VLOOKUP(N45, 【参考】数式用!$BA$2:$BB$48, 2, FALSE), "") -> 対象外 | AI45: =IF(AND(OR(P45="処遇改善加算Ⅰ",P45="処遇改善加算Ⅱ"),AH45="対象"), 1,"") | AJ45: =IF(OR(Y45="処遇改善加算Ⅰ",Y45="処遇改善加算Ⅱ"),IF(AND(N45<>"訪問型サービス（総合事業）",N45<>"通所型サービス（総合事業）",N45<>"（介護予防）短期入所生活介護",N45<>"（介護予防）短期入所療養介護（老健）",N45<>"（介護予防）短期入所療養介護 （病院等（老健以外）)",N45<>"（介護予防）短期入所療養介護（医療院）"),1,""),"")
A46: 33 | B46: =IF(基本情報入力シート!C71="","",基本情報入力シート!C71) -> 1111111139 | J46: =IF(基本情報入力シート!M71="","",基本情報入力シート!M71) -> 東京都 | K46: =IF(基本情報入力シート!R71="","",基本情報入力シート!R71) -> 東京都 | L46: =IF(基本情報入力シート!W71="","",基本情報入力シート!W71) -> 千代田区 | M46: =IF(基本情報入力シート!X71="","",基本情報入力シート!X71) -> ○○施設 | N46: =IF(基本情報入力シート!Y71="","",基本情報入力シート!Y71) -> 介護予防短期入所生活介護 | O46: 処遇改善加算Ⅳ | P46: 処遇改善加算Ⅱ | Q46: 13986000 | S46: =IFERROR(ROUNDDOWN(Q46*VLOOKUP(N46,【参考】数式用!$AR$2:$AW$48,MATCH(P46,【参考】数式用!$AT$4:$AW$4)+2,FALSE)*0.5, 0), "") -> 4627720 | T46: ○ | U46: =IFERROR(IF(AG46<>"",Q46*VLOOKUP(N46,【参考】数式用!$AG$2:$AL$48,MATCH(P46,【参考】数式用!$AI$4:$AL$4,0)+2,0), ""), "") | Y46: ― | AA46: =IFERROR(IF(Y46="ー", "", ROUNDDOWN(Z46*VLOOKUP(N46,【参考】数式用!$AR$2:$AW$48,MATCH(Y46,【参考】数式用!$AT$4:$AW$4)+2,FALSE)*0.5, 0)), "") | AC46: =IFERROR(IF(AG46<>"",Z46*VLOOKUP(N46,【参考】数式用!$AG$2:$AL$48,MATCH(Y46,【参考】数式用!$AI$4:$AL$4,0)+2,0), ""), "") | AG46: =IFERROR(VLOOKUP(O46, 【参考】数式用!$AY$5:$AY$13, 1, FALSE), "") | AH46: =IFERROR(VLOOKUP(N46, 【参考】数式用!$BA$2:$BB$48, 2, FALSE), "") -> 対象外 | AI46: =IF(AND(OR(P46="処遇改善加算Ⅰ",P46="処遇改善加算Ⅱ"),AH46="対象"), 1,"") | AJ46: =IF(OR(Y46="処遇改善加算Ⅰ",Y46="処遇改善加算Ⅱ"),IF(AND(N46<>"訪問型サービス（総合事業）",N46<>"通所型サービス（総合事業）",N46<>"（介護予防）短期入所生活介護",N46<>"（介護予防）短期入所療養介護（老健）",N46<>"（介護予防）短期入所療養介護 （病院等（老健以外）)",N46<>"（介護予防）短期入所療養介護（医療院）"),1,""),"")
A47: 34 | B47: =IF(基本情報入力シート!C72="","",基本情報入力シート!C72) -> 1111111140 | J47: =IF(基本情報入力シート!M72="","",基本情報入力シート!M72) -> 東京都 | K47: =IF(基本情報入力シート!R72="","",基本情報入力シート!R72) -> 東京都 | L47: =IF(基本情報入力シート!W72="","",基本情報入力シート!W72) -> 千代田区 | M47: =IF(基本情報入力シート!X72="","",基本情報入力シート!X72) -> ○○施設 | N47: =IF(基本情報入力シート!Y72="","",基本情報入力シート!Y72) -> 介護老人保健施設サービス | O47: 処遇改善加算Ⅳ | P47: 処遇改善加算Ⅱ | Q47: 7357600 | S47: =IFERROR(ROUNDDOWN(Q47*VLOOKUP(N47,【参考】数式用!$AR$2:$AW$48,MATCH(P47,【参考】数式用!$AT$4:$AW$4)+2,FALSE)*0.5, 0), "") -> 2279819 | T47: ○ | U47: =IFERROR(IF(AG47<>"",Q47*VLOOKUP(N47,【参考】数式用!$AG$2:$AL$48,MATCH(P47,【参考】数式用!$AI$4:$AL$4,0)+2,0), ""), "") | W47: 1 | Y47: ― | AA47: =IFERROR(IF(Y47="ー", "", ROUNDDOWN(Z47*VLOOKUP(N47,【参考】数式用!$AR$2:$AW$48,MATCH(Y47,【参考】数式用!$AT$4:$AW$4)+2,FALSE)*0.5, 0)), "") | AC47: =IFERROR(IF(AG47<>"",Z47*VLOOKUP(N47,【参考】数式用!$AG$2:$AL$48,MATCH(Y47,【参考】数式用!$AI$4:$AL$4,0)+2,0), ""), "") | AG47: =IFERROR(VLOOKUP(O47, 【参考】数式用!$AY$5:$AY$13, 1, FALSE), "") | AH47: =IFERROR(VLOOKUP(N47, 【参考】数式用!$BA$2:$BB$48, 2, FALSE), "") -> 対象 | AI47: =IF(AND(OR(P47="処遇改善加算Ⅰ",P47="処遇改善加算Ⅱ"),AH47="対象"), 1,"") -> 1 | AJ47: =IF(OR(Y47="処遇改善加算Ⅰ",Y47="処遇改善加算Ⅱ"),IF(AND(N47<>"訪問型サービス（総合事業）",N47<>"通所型サービス（総合事業）",N47<>"（介護予防）短期入所生活介護",N47<>"（介護予防）短期入所療養介護（老健）",N47<>"（介護予防）短期入所療養介護 （病院等（老健以外）)",N47<>"（介護予防）短期入所療養介護（医療院）"),1,""),"")
A48: 35 | B48: =IF(基本情報入力シート!C73="","",基本情報入力シート!C73) -> 1111111141 | J48: =IF(基本情報入力シート!M73="","",基本情報入力シート!M73) -> 東京都 | K48: =IF(基本情報入力シート!R73="","",基本情報入力シート!R73) -> 東京都 | L48: =IF(基本情報入力シート!W73="","",基本情報入力シート!W73) -> 千代田区 | M48: =IF(基本情報入力シート!X73="","",基本情報入力シート!X73) -> ○○施設 | N48: =IF(基本情報入力シート!Y73="","",基本情報入力シート!Y73) -> 短期入所療養介護（介護老人保健施設） | O48: 処遇改善加算Ⅳ | P48: 処遇改善加算Ⅱ | Q48: 7357600 | S48: =IFERROR(ROUNDDOWN(Q48*VLOOKUP(N48,【参考】数式用!$AR$2:$AW$48,MATCH(P48,【参考】数式用!$AT$4:$AW$4)+2,FALSE)*0.5, 0), "") -> 2279819 | T48: ○ | U48: =IFERROR(IF(AG48<>"",Q48*VLOOKUP(N48,【参考】数式用!$AG$2:$AL$48,MATCH(P48,【参考】数式用!$AI$4:$AL$4,0)+2,0), ""), "") | Y48: ― | AA48: =IFERROR(IF(Y48="ー", "", ROUNDDOWN(Z48*VLOOKUP(N48,【参考】数式用!$AR$2:$AW$48,MATCH(Y48,【参考】数式用!$AT$4:$AW$4)+2,FALSE)*0.5, 0)), "") | AC48: =IFERROR(IF(AG48<>"",Z48*VLOOKUP(N48,【参考】数式用!$AG$2:$AL$48,MATCH(Y48,【参考】数式用!$AI$4:$AL$4,0)+2,0), ""), "") | AG48: =IFERROR(VLOOKUP(O48, 【参考】数式用!$AY$5:$AY$13, 1, FALSE), "") | AH48: =IFERROR(VLOOKUP(N48, 【参考】数式用!$BA$2:$BB$48, 2, FALSE), "") -> 対象外 | AI48: =IF(AND(OR(P48="処遇改善加算Ⅰ",P48="処遇改善加算Ⅱ"),AH48="対象"), 1,"") | AJ48: =IF(OR(Y48="処遇改善加算Ⅰ",Y48="処遇改善加算Ⅱ"),IF(AND(N48<>"訪問型サービス（総合事業）",N48<>"通所型サービス（総合事業）",N48<>"（介護予防）短期入所生活介護",N48<>"（介護予防）短期入所療養介護（老健）",N48<>"（介護予防）短期入所療養介護 （病院等（老健以外）)",N48<>"（介護予防）短期入所療養介護（医療院）"),1,""),"")
A49: 36 | B49: =IF(基本情報入力シート!C74="","",基本情報入力シート!C74) -> 1111111142 | J49: =IF(基本情報入力シート!M74="","",基本情報入力シート!M74) -> 東京都 | K49: =IF(基本情報入力シート!R74="","",基本情報入力シート!R74) -> 東京都 | L49: =IF(基本情報入力シート!W74="","",基本情報入力シート!W74) -> 千代田区 | M49: =IF(基本情報入力シート!X74="","",基本情報入力シート!X74) -> ○○施設 | N49: =IF(基本情報入力シート!Y74="","",基本情報入力シート!Y74) -> 介護予防短期入所療養介護（介護老人保健施設） | O49: 処遇改善加算Ⅳ | P49: 処遇改善加算Ⅱ | Q49: 7357600 | S49: =IFERROR(ROUNDDOWN(Q49*VLOOKUP(N49,【参考】数式用!$AR$2:$AW$48,MATCH(P49,【参考】数式用!$AT$4:$AW$4)+2,FALSE)*0.5, 0), "") -> 2279819 | T49: ○ | U49: =IFERROR(IF(AG49<>"",Q49*VLOOKUP(N49,【参考】数式用!$AG$2:$AL$48,MATCH(P49,【参考】数式用!$AI$4:$AL$4,0)+2,0), ""), "") | Y49: ― | AA49: =IFERROR(IF(Y49="ー", "", ROUNDDOWN(Z49*VLOOKUP(N49,【参考】数式用!$AR$2:$AW$48,MATCH(Y49,【参考】数式用!$AT$4:$AW$4)+2,FALSE)*0.5, 0)), "") | AC49: =IFERROR(IF(AG49<>"",Z49*VLOOKUP(N49,【参考】数式用!$AG$2:$AL$48,MATCH(Y49,【参考】数式用!$AI$4:$AL$4,0)+2,0), ""), "") | AG49: =IFERROR(VLOOKUP(O49, 【参考】数式用!$AY$5:$AY$13, 1, FALSE), "") | AH49: =IFERROR(VLOOKUP(N49, 【参考】数式用!$BA$2:$BB$48, 2, FALSE), "") -> 対象外 | AI49: =IF(AND(OR(P49="処遇改善加算Ⅰ",P49="処遇改善加算Ⅱ"),AH49="対象"), 1,"") | AJ49: =IF(OR(Y49="処遇改善加算Ⅰ",Y49="処遇改善加算Ⅱ"),IF(AND(N49<>"訪問型サービス（総合事業）",N49<>"通所型サービス（総合事業）",N49<>"（介護予防）短期入所生活介護",N49<>"（介護予防）短期入所療養介護（老健）",N49<>"（介護予防）短期入所療養介護 （病院等（老健以外）)",N49<>"（介護予防）短期入所療養介護（医療院）"),1,""),"")
A50: 37 | B50: =IF(基本情報入力シート!C75="","",基本情報入力シート!C75) -> 1111111143 | J50: =IF(基本情報入力シート!M75="","",基本情報入力シート!M75) -> 東京都 | K50: =IF(基本情報入力シート!R75="","",基本情報入力シート!R75) -> 東京都 | L50: =IF(基本情報入力シート!W75="","",基本情報入力シート!W75) -> 千代田区 | M50: =IF(基本情報入力シート!X75="","",基本情報入力シート!X75) -> ○○施設 | N50: =IF(基本情報入力シート!Y75="","",基本情報入力シート!Y75) -> 短期入所療養介護 （病院等（老健以外）) | O50: 処遇改善加算Ⅳ | P50: 処遇改善加算Ⅱ | Q50: 5003100 | S50: =IFERROR(ROUNDDOWN(Q50*VLOOKUP(N50,【参考】数式用!$AR$2:$AW$48,MATCH(P50,【参考】数式用!$AT$4:$AW$4)+2,FALSE)*0.5, 0), "") -> 1543509 | T50: ○ | U50: =IFERROR(IF(AG50<>"",Q50*VLOOKUP(N50,【参考】数式用!$AG$2:$AL$48,MATCH(P50,【参考】数式用!$AI$4:$AL$4,0)+2,0), ""), "") | Y50: ― | AA50: =IFERROR(IF(Y50="ー", "", ROUNDDOWN(Z50*VLOOKUP(N50,【参考】数式用!$AR$2:$AW$48,MATCH(Y50,【参考】数式用!$AT$4:$AW$4)+2,FALSE)*0.5, 0)), "") | AC50: =IFERROR(IF(AG50<>"",Z50*VLOOKUP(N50,【参考】数式用!$AG$2:$AL$48,MATCH(Y50,【参考】数式用!$AI$4:$AL$4,0)+2,0), ""), "") | AG50: =IFERROR(VLOOKUP(O50, 【参考】数式用!$AY$5:$AY$13, 1, FALSE), "") | AH50: =IFERROR(VLOOKUP(N50, 【参考】数式用!$BA$2:$BB$48, 2, FALSE), "") -> 対象外 | AI50: =IF(AND(OR(P50="処遇改善加算Ⅰ",P50="処遇改善加算Ⅱ"),AH50="対象"), 1,"") | AJ50: =IF(OR(Y50="処遇改善加算Ⅰ",Y50="処遇改善加算Ⅱ"),IF(AND(N50<>"訪問型サービス（総合事業）",N50<>"通所型サービス（総合事業）",N50<>"（介護予防）短期入所生活介護",N50<>"（介護予防）短期入所療養介護（老健）",N50<>"（介護予防）短期入所療養介護 （病院等（老健以外）)",N50<>"（介護予防）短期入所療養介護（医療院）"),1,""),"")
A51: 38 | B51: =IF(基本情報入力シート!C76="","",基本情報入力シート!C76) -> 1111111144 | J51: =IF(基本情報入力シート!M76="","",基本情報入力シート!M76) -> 東京都 | K51: =IF(基本情報入力シート!R76="","",基本情報入力シート!R76) -> 東京都 | L51: =IF(基本情報入力シート!W76="","",基本情報入力シート!W76) -> 千代田区 | M51: =IF(基本情報入力シート!X76="","",基本情報入力シート!X76) -> ○○施設 | N51: =IF(基本情報入力シート!Y76="","",基本情報入力シート!Y76) -> 介護予防短期入所療養介護 （病院等（老健以外）) | O51: 処遇改善加算Ⅳ | P51: 処遇改善加算Ⅱ | Q51: 5003100 | S51: =IFERROR(ROUNDDOWN(Q51*VLOOKUP(N51,【参考】数式用!$AR$2:$AW$48,MATCH(P51,【参考】数式用!$AT$4:$AW$4)+2,FALSE)*0.5, 0), "") -> 1543509 | T51: ○ | U51: =IFERROR(IF(AG51<>"",Q51*VLOOKUP(N51,【参考】数式用!$AG$2:$AL$48,MATCH(P51,【参考】数式用!$AI$4:$AL$4,0)+2,0), ""), "") | Y51: ― | AA51: =IFERROR(IF(Y51="ー", "", ROUNDDOWN(Z51*VLOOKUP(N51,【参考】数式用!$AR$2:$AW$48,MATCH(Y51,【参考】数式用!$AT$4:$AW$4)+2,FALSE)*0.5, 0)), "") | AC51: =IFERROR(IF(AG51<>"",Z51*VLOOKUP(N51,【参考】数式用!$AG$2:$AL$48,MATCH(Y51,【参考】数式用!$AI$4:$AL$4,0)+2,0), ""), "") | AG51: =IFERROR(VLOOKUP(O51, 【参考】数式用!$AY$5:$AY$13, 1, FALSE), "") | AH51: =IFERROR(VLOOKUP(N51, 【参考】数式用!$BA$2:$BB$48, 2, FALSE), "") -> 対象外 | AI51: =IF(AND(OR(P51="処遇改善加算Ⅰ",P51="処遇改善加算Ⅱ"),AH51="対象"), 1,"") | AJ51: =IF(OR(Y51="処遇改善加算Ⅰ",Y51="処遇改善加算Ⅱ"),IF(AND(N51<>"訪問型サービス（総合事業）",N51<>"通所型サービス（総合事業）",N51<>"（介護予防）短期入所生活介護",N51<>"（介護予防）短期入所療養介護（老健）",N51<>"（介護予防）短期入所療養介護 （病院等（老健以外）)",N51<>"（介護予防）短期入所療養介護（医療院）"),1,""),"")
A52: 39 | B52: =IF(基本情報入力シート!C77="","",基本情報入力シート!C77) -> 1111111145 | J52: =IF(基本情報入力シート!M77="","",基本情報入力シート!M77) -> 東京都 | K52: =IF(基本情報入力シート!R77="","",基本情報入力シート!R77) -> 東京都 | L52: =IF(基本情報入力シート!W77="","",基本情報入力シート!W77) -> 千代田区 | M52: =IF(基本情報入力シート!X77="","",基本情報入力シート!X77) -> ○○施設 | N52: =IF(基本情報入力シート!Y77="","",基本情報入力シート!Y77) -> 介護医療院サービス | O52: 処遇改善加算Ⅳ | P52: 処遇改善加算Ⅱ | Q52: 5003100 | S52: =IFERROR(ROUNDDOWN(Q52*VLOOKUP(N52,【参考】数式用!$AR$2:$AW$48,MATCH(P52,【参考】数式用!$AT$4:$AW$4)+2,FALSE)*0.5, 0), "") -> 1543509 | T52: ○ | U52: =IFERROR(IF(AG52<>"",Q52*VLOOKUP(N52,【参考】数式用!$AG$2:$AL$48,MATCH(P52,【参考】数式用!$AI$4:$AL$4,0)+2,0), ""), "") | W52: 1 | Y52: ― | AA52: =IFERROR(IF(Y52="ー", "", ROUNDDOWN(Z52*VLOOKUP(N52,【参考】数式用!$AR$2:$AW$48,MATCH(Y52,【参考】数式用!$AT$4:$AW$4)+2,FALSE)*0.5, 0)), "") | AC52: =IFERROR(IF(AG52<>"",Z52*VLOOKUP(N52,【参考】数式用!$AG$2:$AL$48,MATCH(Y52,【参考】数式用!$AI$4:$AL$4,0)+2,0), ""), "") | AG52: =IFERROR(VLOOKUP(O52, 【参考】数式用!$AY$5:$AY$13, 1, FALSE), "") | AH52: =IFERROR(VLOOKUP(N52, 【参考】数式用!$BA$2:$BB$48, 2, FALSE), "") -> 対象 | AI52: =IF(AND(OR(P52="処遇改善加算Ⅰ",P52="処遇改善加算Ⅱ"),AH52="対象"), 1,"") -> 1 | AJ52: =IF(OR(Y52="処遇改善加算Ⅰ",Y52="処遇改善加算Ⅱ"),IF(AND(N52<>"訪問型サービス（総合事業）",N52<>"通所型サービス（総合事業）",N52<>"（介護予防）短期入所生活介護",N52<>"（介護予防）短期入所療養介護（老健）",N52<>"（介護予防）短期入所療養介護 （病院等（老健以外）)",N52<>"（介護予防）短期入所療養介護（医療院）"),1,""),"")
A53: 40 | B53: =IF(基本情報入力シート!C78="","",基本情報入力シート!C78) -> 1111111146 | J53: =IF(基本情報入力シート!M78="","",基本情報入力シート!M78) -> 東京都 | K53: =IF(基本情報入力シート!R78="","",基本情報入力シート!R78) -> 東京都 | L53: =IF(基本情報入力シート!W78="","",基本情報入力シート!W78) -> 千代田区 | M53: =IF(基本情報入力シート!X78="","",基本情報入力シート!X78) -> ○○施設 | N53: =IF(基本情報入力シート!Y78="","",基本情報入力シート!Y78) -> 短期入所療養介護（介護医療院） | O53: 処遇改善加算Ⅳ | P53: 処遇改善加算Ⅱ | Q53: 5003100 | S53: =IFERROR(ROUNDDOWN(Q53*VLOOKUP(N53,【参考】数式用!$AR$2:$AW$48,MATCH(P53,【参考】数式用!$AT$4:$AW$4)+2,FALSE)*0.5, 0), "") -> 1543509 | T53: ○ | U53: =IFERROR(IF(AG53<>"",Q53*VLOOKUP(N53,【参考】数式用!$AG$2:$AL$48,MATCH(P53,【参考】数式用!$AI$4:$AL$4,0)+2,0), ""), "") | Y53: ― | AA53: =IFERROR(IF(Y53="ー", "", ROUNDDOWN(Z53*VLOOKUP(N53,【参考】数式用!$AR$2:$AW$48,MATCH(Y53,【参考】数式用!$AT$4:$AW$4)+2,FALSE)*0.5, 0)), "") | AC53: =IFERROR(IF(AG53<>"",Z53*VLOOKUP(N53,【参考】数式用!$AG$2:$AL$48,MATCH(Y53,【参考】数式用!$AI$4:$AL$4,0)+2,0), ""), "") | AG53: =IFERROR(VLOOKUP(O53, 【参考】数式用!$AY$5:$AY$13, 1, FALSE), "") | AH53: =IFERROR(VLOOKUP(N53, 【参考】数式用!$BA$2:$BB$48, 2, FALSE), "") -> 対象外 | AI53: =IF(AND(OR(P53="処遇改善加算Ⅰ",P53="処遇改善加算Ⅱ"),AH53="対象"), 1,"") | AJ53: =IF(OR(Y53="処遇改善加算Ⅰ",Y53="処遇改善加算Ⅱ"),IF(AND(N53<>"訪問型サービス（総合事業）",N53<>"通所型サービス（総合事業）",N53<>"（介護予防）短期入所生活介護",N53<>"（介護予防）短期入所療養介護（老健）",N53<>"（介護予防）短期入所療養介護 （病院等（老健以外）)",N53<>"（介護予防）短期入所療養介護（医療院）"),1,""),"")
A54: 41 | B54: =IF(基本情報入力シート!C79="","",基本情報入力シート!C79) -> 1111111147 | J54: =IF(基本情報入力シート!M79="","",基本情報入力シート!M79) -> 東京都 | K54: =IF(基本情報入力シート!R79="","",基本情報入力シート!R79) -> 東京都 | L54: =IF(基本情報入力シート!W79="","",基本情報入力シート!W79) -> 千代田区 | M54: =IF(基本情報入力シート!X79="","",基本情報入力シート!X79) -> ○○施設 | N54: =IF(基本情報入力シート!Y79="","",基本情報入力シート!Y79) -> 介護予防短期入所療養介護（介護医療院） | O54: 処遇改善加算Ⅳ | P54: 処遇改善加算Ⅱ | Q54: 5003100 | S54: =IFERROR(ROUNDDOWN(Q54*VLOOKUP(N54,【参考】数式用!$AR$2:$AW$48,MATCH(P54,【参考】数式用!$AT$4:$AW$4)+2,FALSE)*0.5, 0), "") -> 1543509 | T54: ○ | U54: =IFERROR(IF(AG54<>"",Q54*VLOOKUP(N54,【参考】数式用!$AG$2:$AL$48,MATCH(P54,【参考】数式用!$AI$4:$AL$4,0)+2,0), ""), "") | Y54: ― | AA54: =IFERROR(IF(Y54="ー", "", ROUNDDOWN(Z54*VLOOKUP(N54,【参考】数式用!$AR$2:$AW$48,MATCH(Y54,【参考】数式用!$AT$4:$AW$4)+2,FALSE)*0.5, 0)), "") | AC54: =IFERROR(IF(AG54<>"",Z54*VLOOKUP(N54,【参考】数式用!$AG$2:$AL$48,MATCH(Y54,【参考】数式用!$AI$4:$AL$4,0)+2,0), ""), "") | AG54: =IFERROR(VLOOKUP(O54, 【参考】数式用!$AY$5:$AY$13, 1, FALSE), "") | AH54: =IFERROR(VLOOKUP(N54, 【参考】数式用!$BA$2:$BB$48, 2, FALSE), "") -> 対象外 | AI54: =IF(AND(OR(P54="処遇改善加算Ⅰ",P54="処遇改善加算Ⅱ"),AH54="対象"), 1,"") | AJ54: =IF(OR(Y54="処遇改善加算Ⅰ",Y54="処遇改善加算Ⅱ"),IF(AND(N54<>"訪問型サービス（総合事業）",N54<>"通所型サービス（総合事業）",N54<>"（介護予防）短期入所生活介護",N54<>"（介護予防）短期入所療養介護（老健）",N54<>"（介護予防）短期入所療養介護 （病院等（老健以外）)",N54<>"（介護予防）短期入所療養介護（医療院）"),1,""),"")
A55: 42 | B55: =IF(基本情報入力シート!C80="","",基本情報入力シート!C80) -> 1111111148 | J55: =IF(基本情報入力シート!M80="","",基本情報入力シート!M80) -> 千代田区 | K55: =IF(基本情報入力シート!R80="","",基本情報入力シート!R80) -> 東京都 | L55: =IF(基本情報入力シート!W80="","",基本情報入力シート!W80) -> 千代田区 | M55: =IF(基本情報入力シート!X80="","",基本情報入力シート!X80) -> ○○ホームヘルプ | N55: =IF(基本情報入力シート!Y80="","",基本情報入力シート!Y80) -> 訪問型サービス（独自） | O55: 処遇改善加算Ⅳ | P55: 処遇改善加算Ⅱ | Q55: 22050000 | S55: =IFERROR(ROUNDDOWN(Q55*VLOOKUP(N55,【参考】数式用!$AR$2:$AW$48,MATCH(P55,【参考】数式用!$AT$4:$AW$4)+2,FALSE)*0.5, 0), "") -> 7136718 | T55: ○ | U55: =IFERROR(IF(AG55<>"",Q55*VLOOKUP(N55,【参考】数式用!$AG$2:$AL$48,MATCH(P55,【参考】数式用!$AI$4:$AL$4,0)+2,0), ""), "") | Y55: ― | AA55: =IFERROR(IF(Y55="ー", "", ROUNDDOWN(Z55*VLOOKUP(N55,【参考】数式用!$AR$2:$AW$48,MATCH(Y55,【参考】数式用!$AT$4:$AW$4)+2,FALSE)*0.5, 0)), "") | AC55: =IFERROR(IF(AG55<>"",Z55*VLOOKUP(N55,【参考】数式用!$AG$2:$AL$48,MATCH(Y55,【参考】数式用!$AI$4:$AL$4,0)+2,0), ""), "") | AG55: =IFERROR(VLOOKUP(O55, 【参考】数式用!$AY$5:$AY$13, 1, FALSE), "") | AH55: =IFERROR(VLOOKUP(N55, 【参考】数式用!$BA$2:$BB$48, 2, FALSE), "") -> 対象外 | AI55: =IF(AND(OR(P55="処遇改善加算Ⅰ",P55="処遇改善加算Ⅱ"),AH55="対象"), 1,"") | AJ55: =IF(OR(Y55="処遇改善加算Ⅰ",Y55="処遇改善加算Ⅱ"),IF(AND(N55<>"訪問型サービス（総合事業）",N55<>"通所型サービス（総合事業）",N55<>"（介護予防）短期入所生活介護",N55<>"（介護予防）短期入所療養介護（老健）",N55<>"（介護予防）短期入所療養介護 （病院等（老健以外）)",N55<>"（介護予防）短期入所療養介護（医療院）"),1,""),"")
A56: 43 | B56: =IF(基本情報入力シート!C81="","",基本情報入力シート!C81) -> 1111111149 | J56: =IF(基本情報入力シート!M81="","",基本情報入力シート!M81) -> 千代田区 | K56: =IF(基本情報入力シート!R81="","",基本情報入力シート!R81) -> 東京都 | L56: =IF(基本情報入力シート!W81="","",基本情報入力シート!W81) -> 千代田区 | M56: =IF(基本情報入力シート!X81="","",基本情報入力シート!X81) -> ○○ホームヘルプ | N56: =IF(基本情報入力シート!Y81="","",基本情報入力シート!Y81) -> 訪問型サービス（独自／定率） | O56: 処遇改善加算Ⅳ | P56: 処遇改善加算Ⅱ | Q56: 22050000 | S56: =IFERROR(ROUNDDOWN(Q56*VLOOKUP(N56,【参考】数式用!$AR$2:$AW$48,MATCH(P56,【参考】数式用!$AT$4:$AW$4)+2,FALSE)*0.5, 0), "") -> 7136718 | T56: ○ | U56: =IFERROR(IF(AG56<>"",Q56*VLOOKUP(N56,【参考】数式用!$AG$2:$AL$48,MATCH(P56,【参考】数式用!$AI$4:$AL$4,0)+2,0), ""), "") | Y56: ― | AA56: =IFERROR(IF(Y56="ー", "", ROUNDDOWN(Z56*VLOOKUP(N56,【参考】数式用!$AR$2:$AW$48,MATCH(Y56,【参考】数式用!$AT$4:$AW$4)+2,FALSE)*0.5, 0)), "") | AC56: =IFERROR(IF(AG56<>"",Z56*VLOOKUP(N56,【参考】数式用!$AG$2:$AL$48,MATCH(Y56,【参考】数式用!$AI$4:$AL$4,0)+2,0), ""), "") | AG56: =IFERROR(VLOOKUP(O56, 【参考】数式用!$AY$5:$AY$13, 1, FALSE), "") | AH56: =IFERROR(VLOOKUP(N56, 【参考】数式用!$BA$2:$BB$48, 2, FALSE), "") -> 対象外 | AI56: =IF(AND(OR(P56="処遇改善加算Ⅰ",P56="処遇改善加算Ⅱ"),AH56="対象"), 1,"") | AJ56: =IF(OR(Y56="処遇改善加算Ⅰ",Y56="処遇改善加算Ⅱ"),IF(AND(N56<>"訪問型サービス（総合事業）",N56<>"通所型サービス（総合事業）",N56<>"（介護予防）短期入所生活介護",N56<>"（介護予防）短期入所療養介護（老健）",N56<>"（介護予防）短期入所療養介護 （病院等（老健以外）)",N56<>"（介護予防）短期入所療養介護（医療院）"),1,""),"")
A57: 44 | B57: =IF(基本情報入力シート!C82="","",基本情報入力シート!C82) -> 1111111150 | J57: =IF(基本情報入力シート!M82="","",基本情報入力シート!M82) -> 千代田区 | K57: =IF(基本情報入力シート!R82="","",基本情報入力シート!R82) -> 東京都 | L57: =IF(基本情報入力シート!W82="","",基本情報入力シート!W82) -> 千代田区 | M57: =IF(基本情報入力シート!X82="","",基本情報入力シート!X82) -> ○○ホームヘルプ | N57: =IF(基本情報入力シート!Y82="","",基本情報入力シート!Y82) -> 訪問型サービス（独自／定額） | O57: 処遇改善加算Ⅳ | P57: 処遇改善加算Ⅱ | Q57: 22050000 | S57: =IFERROR(ROUNDDOWN(Q57*VLOOKUP(N57,【参考】数式用!$AR$2:$AW$48,MATCH(P57,【参考】数式用!$AT$4:$AW$4)+2,FALSE)*0.5, 0), "") -> 7136718 | T57: ○ | U57: =IFERROR(IF(AG57<>"",Q57*VLOOKUP(N57,【参考】数式用!$AG$2:$AL$48,MATCH(P57,【参考】数式用!$AI$4:$AL$4,0)+2,0), ""), "") | Y57: ― | AA57: =IFERROR(IF(Y57="ー", "", ROUNDDOWN(Z57*VLOOKUP(N57,【参考】数式用!$AR$2:$AW$48,MATCH(Y57,【参考】数式用!$AT$4:$AW$4)+2,FALSE)*0.5, 0)), "") | AC57: =IFERROR(IF(AG57<>"",Z57*VLOOKUP(N57,【参考】数式用!$AG$2:$AL$48,MATCH(Y57,【参考】数式用!$AI$4:$AL$4,0)+2,0), ""), "") | AG57: =IFERROR(VLOOKUP(O57, 【参考】数式用!$AY$5:$AY$13, 1, FALSE), "") | AH57: =IFERROR(VLOOKUP(N57, 【参考】数式用!$BA$2:$BB$48, 2, FALSE), "") -> 対象外 | AI57: =IF(AND(OR(P57="処遇改善加算Ⅰ",P57="処遇改善加算Ⅱ"),AH57="対象"), 1,"") | AJ57: =IF(OR(Y57="処遇改善加算Ⅰ",Y57="処遇改善加算Ⅱ"),IF(AND(N57<>"訪問型サービス（総合事業）",N57<>"通所型サービス（総合事業）",N57<>"（介護予防）短期入所生活介護",N57<>"（介護予防）短期入所療養介護（老健）",N57<>"（介護予防）短期入所療養介護 （病院等（老健以外）)",N57<>"（介護予防）短期入所療養介護（医療院）"),1,""),"")
A58: 45 | B58: =IF(基本情報入力シート!C83="","",基本情報入力シート!C83) -> 1111111151 | J58: =IF(基本情報入力シート!M83="","",基本情報入力シート!M83) -> 千代田区 | K58: =IF(基本情報入力シート!R83="","",基本情報入力シート!R83) -> 東京都 | L58: =IF(基本情報入力シート!W83="","",基本情報入力シート!W83) -> 千代田区 | M58: =IF(基本情報入力シート!X83="","",基本情報入力シート!X83) -> ○○デイケア | N58: =IF(基本情報入力シート!Y83="","",基本情報入力シート!Y83) -> 通所型サービス（独自） | O58: 処遇改善加算Ⅳ | P58: 処遇改善加算Ⅱ | Q58: 8280000 | S58: =IFERROR(ROUNDDOWN(Q58*VLOOKUP(N58,【参考】数式用!$AR$2:$AW$48,MATCH(P58,【参考】数式用!$AT$4:$AW$4)+2,FALSE)*0.5, 0), "") -> 2944000 | T58: ○ | U58: =IFERROR(IF(AG58<>"",Q58*VLOOKUP(N58,【参考】数式用!$AG$2:$AL$48,MATCH(P58,【参考】数式用!$AI$4:$AL$4,0)+2,0), ""), "") | Y58: ― | AA58: =IFERROR(IF(Y58="ー", "", ROUNDDOWN(Z58*VLOOKUP(N58,【参考】数式用!$AR$2:$AW$48,MATCH(Y58,【参考】数式用!$AT$4:$AW$4)+2,FALSE)*0.5, 0)), "") | AC58: =IFERROR(IF(AG58<>"",Z58*VLOOKUP(N58,【参考】数式用!$AG$2:$AL$48,MATCH(Y58,【参考】数式用!$AI$4:$AL$4,0)+2,0), ""), "") | AG58: =IFERROR(VLOOKUP(O58, 【参考】数式用!$AY$5:$AY$13, 1, FALSE), "") | AH58: =IFERROR(VLOOKUP(N58, 【参考】数式用!$BA$2:$BB$48, 2, FALSE), "") -> 対象外 | AI58: =IF(AND(OR(P58="処遇改善加算Ⅰ",P58="処遇改善加算Ⅱ"),AH58="対象"), 1,"") | AJ58: =IF(OR(Y58="処遇改善加算Ⅰ",Y58="処遇改善加算Ⅱ"),IF(AND(N58<>"訪問型サービス（総合事業）",N58<>"通所型サービス（総合事業）",N58<>"（介護予防）短期入所生活介護",N58<>"（介護予防）短期入所療養介護（老健）",N58<>"（介護予防）短期入所療養介護 （病院等（老健以外）)",N58<>"（介護予防）短期入所療養介護（医療院）"),1,""),"")
A59: 46 | B59: =IF(基本情報入力シート!C84="","",基本情報入力シート!C84) -> 1111111152 | J59: =IF(基本情報入力シート!M84="","",基本情報入力シート!M84) -> 千代田区 | K59: =IF(基本情報入力シート!R84="","",基本情報入力シート!R84) -> 東京都 | L59: =IF(基本情報入力シート!W84="","",基本情報入力シート!W84) -> 千代田区 | M59: =IF(基本情報入力シート!X84="","",基本情報入力シート!X84) -> ○○デイケア | N59: =IF(基本情報入力シート!Y84="","",基本情報入力シート!Y84) -> 通所型サービス（独自／定率） | O59: 処遇改善加算Ⅳ | P59: 処遇改善加算Ⅱ | Q59: 8280000 | S59: =IFERROR(ROUNDDOWN(Q59*VLOOKUP(N59,【参考】数式用!$AR$2:$AW$48,MATCH(P59,【参考】数式用!$AT$4:$AW$4)+2,FALSE)*0.5, 0), "") -> 2944000 | T59: ○ | U59: =IFERROR(IF(AG59<>"",Q59*VLOOKUP(N59,【参考】数式用!$AG$2:$AL$48,MATCH(P59,【参考】数式用!$AI$4:$AL$4,0)+2,0), ""), "") | Y59: ― | AA59: =IFERROR(IF(Y59="ー", "", ROUNDDOWN(Z59*VLOOKUP(N59,【参考】数式用!$AR$2:$AW$48,MATCH(Y59,【参考】数式用!$AT$4:$AW$4)+2,FALSE)*0.5, 0)), "") | AC59: =IFERROR(IF(AG59<>"",Z59*VLOOKUP(N59,【参考】数式用!$AG$2:$AL$48,MATCH(Y59,【参考】数式用!$AI$4:$AL$4,0)+2,0), ""), "") | AG59: =IFERROR(VLOOKUP(O59, 【参考】数式用!$AY$5:$AY$13, 1, FALSE), "") | AH59: =IFERROR(VLOOKUP(N59, 【参考】数式用!$BA$2:$BB$48, 2, FALSE), "") -> 対象外 | AI59: =IF(AND(OR(P59="処遇改善加算Ⅰ",P59="処遇改善加算Ⅱ"),AH59="対象"), 1,"") | AJ59: =IF(OR(Y59="処遇改善加算Ⅰ",Y59="処遇改善加算Ⅱ"),IF(AND(N59<>"訪問型サービス（総合事業）",N59<>"通所型サービス（総合事業）",N59<>"（介護予防）短期入所生活介護",N59<>"（介護予防）短期入所療養介護（老健）",N59<>"（介護予防）短期入所療養介護 （病院等（老健以外）)",N59<>"（介護予防）短期入所療養介護（医療院）"),1,""),"")
A60: 47 | B60: =IF(基本情報入力シート!C85="","",基本情報入力シート!C85) -> 1111111153 | J60: =IF(基本情報入力シート!M85="","",基本情報入力シート!M85) -> 千代田区 | K60: =IF(基本情報入力シート!R85="","",基本情報入力シート!R85) -> 東京都 | L60: =IF(基本情報入力シート!W85="","",基本情報入力シート!W85) -> 千代田区 | M60: =IF(基本情報入力シート!X85="","",基本情報入力シート!X85) -> ○○デイケア | N60: =IF(基本情報入力シート!Y85="","",基本情報入力シート!Y85) -> 通所型サービス（独自／定額） | O60: 処遇改善加算Ⅳ | P60: 処遇改善加算Ⅱ | Q60: 8280000 | S60: =IFERROR(ROUNDDOWN(Q60*VLOOKUP(N60,【参考】数式用!$AR$2:$AW$48,MATCH(P60,【参考】数式用!$AT$4:$AW$4)+2,FALSE)*0.5, 0), "") -> 2944000 | T60: ○ | U60: =IFERROR(IF(AG60<>"",Q60*VLOOKUP(N60,【参考】数式用!$AG$2:$AL$48,MATCH(P60,【参考】数式用!$AI$4:$AL$4,0)+2,0), ""), "") | Y60: ― | AA60: =IFERROR(IF(Y60="ー", "", ROUNDDOWN(Z60*VLOOKUP(N60,【参考】数式用!$AR$2:$AW$48,MATCH(Y60,【参考】数式用!$AT$4:$AW$4)+2,FALSE)*0.5, 0)), "") | AC60: =IFERROR(IF(AG60<>"",Z60*VLOOKUP(N60,【参考】数式用!$AG$2:$AL$48,MATCH(Y60,【参考】数式用!$AI$4:$AL$4,0)+2,0), ""), "") | AG60: =IFERROR(VLOOKUP(O60, 【参考】数式用!$AY$5:$AY$13, 1, FALSE), "") | AH60: =IFERROR(VLOOKUP(N60, 【参考】数式用!$BA$2:$BB$48, 2, FALSE), "") -> 対象外 | AI60: =IF(AND(OR(P60="処遇改善加算Ⅰ",P60="処遇改善加算Ⅱ"),AH60="対象"), 1,"") | AJ60: =IF(OR(Y60="処遇改善加算Ⅰ",Y60="処遇改善加算Ⅱ"),IF(AND(N60<>"訪問型サービス（総合事業）",N60<>"通所型サービス（総合事業）",N60<>"（介護予防）短期入所生活介護",N60<>"（介護予防）短期入所療養介護（老健）",N60<>"（介護予防）短期入所療養介護 （病院等（老健以外）)",N60<>"（介護予防）短期入所療養介護（医療院）"),1,""),"")
A61: 48 | B61: =IF(基本情報入力シート!C86="","",基本情報入力シート!C86) | J61: =IF(基本情報入力シート!M86="","",基本情報入力シート!M86) | K61: =IF(基本情報入力シート!R86="","",基本情報入力シート!R86) | L61: =IF(基本情報入力シート!W86="","",基本情報入力シート!W86) | M61: =IF(基本情報入力シート!X86="","",基本情報入力シート!X86) | N61: =IF(基本情報入力シート!Y86="","",基本情報入力シート!Y86) | S61: =IFERROR(ROUNDDOWN(Q61*VLOOKUP(N61,【参考】数式用!$AR$2:$AW$48,MATCH(P61,【参考】数式用!$AT$4:$AW$4)+2,FALSE)*0.5, 0), "") | U61: =IFERROR(IF(AG61<>"",Q61*VLOOKUP(N61,【参考】数式用!$AG$2:$AL$48,MATCH(P61,【参考】数式用!$AI$4:$AL$4,0)+2,0), ""), "") | AA61: =IFERROR(IF(Y61="ー", "", ROUNDDOWN(Z61*VLOOKUP(N61,【参考】数式用!$AR$2:$AW$48,MATCH(Y61,【参考】数式用!$AT$4:$AW$4)+2,FALSE)*0.5, 0)), "") | AC61: =IFERROR(IF(AG61<>"",Z61*VLOOKUP(N61,【参考】数式用!$AG$2:$AL$48,MATCH(Y61,【参考】数式用!$AI$4:$AL$4,0)+2,0), ""), "") | AG61: =IFERROR(VLOOKUP(O61, 【参考】数式用!$AY$5:$AY$13, 1, FALSE), "") | AH61: =IFERROR(VLOOKUP(N61, 【参考】数式用!$BA$2:$BB$48, 2, FALSE), "") | AI61: =IF(AND(OR(P61="処遇改善加算Ⅰ",P61="処遇改善加算Ⅱ"),AH61="対象"), 1,"") | AJ61: =IF(OR(Y61="処遇改善加算Ⅰ",Y61="処遇改善加算Ⅱ"),IF(AND(N61<>"訪問型サービス（総合事業）",N61<>"通所型サービス（総合事業）",N61<>"（介護予防）短期入所生活介護",N61<>"（介護予防）短期入所療養介護（老健）",N61<>"（介護予防）短期入所療養介護 （病院等（老健以外）)",N61<>"（介護予防）短期入所療養介護（医療院）"),1,""),"")
A62: 49 | B62: =IF(基本情報入力シート!C87="","",基本情報入力シート!C87) | J62: =IF(基本情報入力シート!M87="","",基本情報入力シート!M87) | K62: =IF(基本情報入力シート!R87="","",基本情報入力シート!R87) | L62: =IF(基本情報入力シート!W87="","",基本情報入力シート!W87) | M62: =IF(基本情報入力シート!X87="","",基本情報入力シート!X87) | N62: =IF(基本情報入力シート!Y87="","",基本情報入力シート!Y87) | S62: =IFERROR(ROUNDDOWN(Q62*VLOOKUP(N62,【参考】数式用!$AR$2:$AW$48,MATCH(P62,【参考】数式用!$AT$4:$AW$4)+2,FALSE)*0.5, 0), "") | U62: =IFERROR(IF(AG62<>"",Q62*VLOOKUP(N62,【参考】数式用!$AG$2:$AL$48,MATCH(P62,【参考】数式用!$AI$4:$AL$4,0)+2,0), ""), "") | AA62: =IFERROR(IF(Y62="ー", "", ROUNDDOWN(Z62*VLOOKUP(N62,【参考】数式用!$AR$2:$AW$48,MATCH(Y62,【参考】数式用!$AT$4:$AW$4)+2,FALSE)*0.5, 0)), "") | AC62: =IFERROR(IF(AG62<>"",Z62*VLOOKUP(N62,【参考】数式用!$AG$2:$AL$48,MATCH(Y62,【参考】数式用!$AI$4:$AL$4,0)+2,0), ""), "") | AG62: =IFERROR(VLOOKUP(O62, 【参考】数式用!$AY$5:$AY$13, 1, FALSE), "") | AH62: =IFERROR(VLOOKUP(N62, 【参考】数式用!$BA$2:$BB$48, 2, FALSE), "") | AI62: =IF(AND(OR(P62="処遇改善加算Ⅰ",P62="処遇改善加算Ⅱ"),AH62="対象"), 1,"") | AJ62: =IF(OR(Y62="処遇改善加算Ⅰ",Y62="処遇改善加算Ⅱ"),IF(AND(N62<>"訪問型サービス（総合事業）",N62<>"通所型サービス（総合事業）",N62<>"（介護予防）短期入所生活介護",N62<>"（介護予防）短期入所療養介護（老健）",N62<>"（介護予防）短期入所療養介護 （病院等（老健以外）)",N62<>"（介護予防）短期入所療養介護（医療院）"),1,""),"")
A63: 50 | B63: =IF(基本情報入力シート!C88="","",基本情報入力シート!C88) | J63: =IF(基本情報入力シート!M88="","",基本情報入力シート!M88) | K63: =IF(基本情報入力シート!R88="","",基本情報入力シート!R88) | L63: =IF(基本情報入力シート!W88="","",基本情報入力シート!W88) | M63: =IF(基本情報入力シート!X88="","",基本情報入力シート!X88) | N63: =IF(基本情報入力シート!Y88="","",基本情報入力シート!Y88) | S63: =IFERROR(ROUNDDOWN(Q63*VLOOKUP(N63,【参考】数式用!$AR$2:$AW$48,MATCH(P63,【参考】数式用!$AT$4:$AW$4)+2,FALSE)*0.5, 0), "") | U63: =IFERROR(IF(AG63<>"",Q63*VLOOKUP(N63,【参考】数式用!$AG$2:$AL$48,MATCH(P63,【参考】数式用!$AI$4:$AL$4,0)+2,0), ""), "") | AA63: =IFERROR(IF(Y63="ー", "", ROUNDDOWN(Z63*VLOOKUP(N63,【参考】数式用!$AR$2:$AW$48,MATCH(Y63,【参考】数式用!$AT$4:$AW$4)+2,FALSE)*0.5, 0)), "") | AC63: =IFERROR(IF(AG63<>"",Z63*VLOOKUP(N63,【参考】数式用!$AG$2:$AL$48,MATCH(Y63,【参考】数式用!$AI$4:$AL$4,0)+2,0), ""), "") | AG63: =IFERROR(VLOOKUP(O63, 【参考】数式用!$AY$5:$AY$13, 1, FALSE), "") | AH63: =IFERROR(VLOOKUP(N63, 【参考】数式用!$BA$2:$BB$48, 2, FALSE), "") | AI63: =IF(AND(OR(P63="処遇改善加算Ⅰ",P63="処遇改善加算Ⅱ"),AH63="対象"), 1,"") | AJ63: =IF(OR(Y63="処遇改善加算Ⅰ",Y63="処遇改善加算Ⅱ"),IF(AND(N63<>"訪問型サービス（総合事業）",N63<>"通所型サービス（総合事業）",N63<>"（介護予防）短期入所生活介護",N63<>"（介護予防）短期入所療養介護（老健）",N63<>"（介護予防）短期入所療養介護 （病院等（老健以外）)",N63<>"（介護予防）短期入所療養介護（医療院）"),1,""),"")
A64: 51 | B64: =IF(基本情報入力シート!C89="","",基本情報入力シート!C89) | J64: =IF(基本情報入力シート!M89="","",基本情報入力シート!M89) | K64: =IF(基本情報入力シート!R89="","",基本情報入力シート!R89) | L64: =IF(基本情報入力シート!W89="","",基本情報入力シート!W89) | M64: =IF(基本情報入力シート!X89="","",基本情報入力シート!X89) | N64: =IF(基本情報入力シート!Y89="","",基本情報入力シート!Y89) | S64: =IFERROR(ROUNDDOWN(Q64*VLOOKUP(N64,【参考】数式用!$AR$2:$AW$48,MATCH(P64,【参考】数式用!$AT$4:$AW$4)+2,FALSE)*0.5, 0), "") | U64: =IFERROR(IF(AG64<>"",Q64*VLOOKUP(N64,【参考】数式用!$AG$2:$AL$48,MATCH(P64,【参考】数式用!$AI$4:$AL$4,0)+2,0), ""), "") | AA64: =IFERROR(IF(Y64="ー", "", ROUNDDOWN(Z64*VLOOKUP(N64,【参考】数式用!$AR$2:$AW$48,MATCH(Y64,【参考】数式用!$AT$4:$AW$4)+2,FALSE)*0.5, 0)), "") | AC64: =IFERROR(IF(AG64<>"",Z64*VLOOKUP(N64,【参考】数式用!$AG$2:$AL$48,MATCH(Y64,【参考】数式用!$AI$4:$AL$4,0)+2,0), ""), "") | AG64: =IFERROR(VLOOKUP(O64, 【参考】数式用!$AY$5:$AY$13, 1, FALSE), "") | AH64: =IFERROR(VLOOKUP(N64, 【参考】数式用!$BA$2:$BB$48, 2, FALSE), "") | AI64: =IF(AND(OR(P64="処遇改善加算Ⅰ",P64="処遇改善加算Ⅱ"),AH64="対象"), 1,"") | AJ64: =IF(OR(Y64="処遇改善加算Ⅰ",Y64="処遇改善加算Ⅱ"),IF(AND(N64<>"訪問型サービス（総合事業）",N64<>"通所型サービス（総合事業）",N64<>"（介護予防）短期入所生活介護",N64<>"（介護予防）短期入所療養介護（老健）",N64<>"（介護予防）短期入所療養介護 （病院等（老健以外）)",N64<>"（介護予防）短期入所療養介護（医療院）"),1,""),"")
A65: 52 | B65: =IF(基本情報入力シート!C90="","",基本情報入力シート!C90) | J65: =IF(基本情報入力シート!M90="","",基本情報入力シート!M90) | K65: =IF(基本情報入力シート!R90="","",基本情報入力シート!R90) | L65: =IF(基本情報入力シート!W90="","",基本情報入力シート!W90) | M65: =IF(基本情報入力シート!X90="","",基本情報入力シート!X90) | N65: =IF(基本情報入力シート!Y90="","",基本情報入力シート!Y90) | S65: =IFERROR(ROUNDDOWN(Q65*VLOOKUP(N65,【参考】数式用!$AR$2:$AW$48,MATCH(P65,【参考】数式用!$AT$4:$AW$4)+2,FALSE)*0.5, 0), "") | U65: =IFERROR(IF(AG65<>"",Q65*VLOOKUP(N65,【参考】数式用!$AG$2:$AL$48,MATCH(P65,【参考】数式用!$AI$4:$AL$4,0)+2,0), ""), "") | AA65: =IFERROR(IF(Y65="ー", "", ROUNDDOWN(Z65*VLOOKUP(N65,【参考】数式用!$AR$2:$AW$48,MATCH(Y65,【参考】数式用!$AT$4:$AW$4)+2,FALSE)*0.5, 0)), "") | AC65: =IFERROR(IF(AG65<>"",Z65*VLOOKUP(N65,【参考】数式用!$AG$2:$AL$48,MATCH(Y65,【参考】数式用!$AI$4:$AL$4,0)+2,0), ""), "") | AG65: =IFERROR(VLOOKUP(O65, 【参考】数式用!$AY$5:$AY$13, 1, FALSE), "") | AH65: =IFERROR(VLOOKUP(N65, 【参考】数式用!$BA$2:$BB$48, 2, FALSE), "") | AI65: =IF(AND(OR(P65="処遇改善加算Ⅰ",P65="処遇改善加算Ⅱ"),AH65="対象"), 1,"") | AJ65: =IF(OR(Y65="処遇改善加算Ⅰ",Y65="処遇改善加算Ⅱ"),IF(AND(N65<>"訪問型サービス（総合事業）",N65<>"通所型サービス（総合事業）",N65<>"（介護予防）短期入所生活介護",N65<>"（介護予防）短期入所療養介護（老健）",N65<>"（介護予防）短期入所療養介護 （病院等（老健以外）)",N65<>"（介護予防）短期入所療養介護（医療院）"),1,""),"")
A66: 53 | B66: =IF(基本情報入力シート!C91="","",基本情報入力シート!C91) | J66: =IF(基本情報入力シート!M91="","",基本情報入力シート!M91) | K66: =IF(基本情報入力シート!R91="","",基本情報入力シート!R91) | L66: =IF(基本情報入力シート!W91="","",基本情報入力シート!W91) | M66: =IF(基本情報入力シート!X91="","",基本情報入力シート!X91) | N66: =IF(基本情報入力シート!Y91="","",基本情報入力シート!Y91) | S66: =IFERROR(ROUNDDOWN(Q66*VLOOKUP(N66,【参考】数式用!$AR$2:$AW$48,MATCH(P66,【参考】数式用!$AT$4:$AW$4)+2,FALSE)*0.5, 0), "") | U66: =IFERROR(IF(AG66<>"",Q66*VLOOKUP(N66,【参考】数式用!$AG$2:$AL$48,MATCH(P66,【参考】数式用!$AI$4:$AL$4,0)+2,0), ""), "") | AA66: =IFERROR(IF(Y66="ー", "", ROUNDDOWN(Z66*VLOOKUP(N66,【参考】数式用!$AR$2:$AW$48,MATCH(Y66,【参考】数式用!$AT$4:$AW$4)+2,FALSE)*0.5, 0)), "") | AC66: =IFERROR(IF(AG66<>"",Z66*VLOOKUP(N66,【参考】数式用!$AG$2:$AL$48,MATCH(Y66,【参考】数式用!$AI$4:$AL$4,0)+2,0), ""), "") | AG66: =IFERROR(VLOOKUP(O66, 【参考】数式用!$AY$5:$AY$13, 1, FALSE), "") | AH66: =IFERROR(VLOOKUP(N66, 【参考】数式用!$BA$2:$BB$48, 2, FALSE), "") | AI66: =IF(AND(OR(P66="処遇改善加算Ⅰ",P66="処遇改善加算Ⅱ"),AH66="対象"), 1,"") | AJ66: =IF(OR(Y66="処遇改善加算Ⅰ",Y66="処遇改善加算Ⅱ"),IF(AND(N66<>"訪問型サービス（総合事業）",N66<>"通所型サービス（総合事業）",N66<>"（介護予防）短期入所生活介護",N66<>"（介護予防）短期入所療養介護（老健）",N66<>"（介護予防）短期入所療養介護 （病院等（老健以外）)",N66<>"（介護予防）短期入所療養介護（医療院）"),1,""),"")
A67: 54 | B67: =IF(基本情報入力シート!C92="","",基本情報入力シート!C92) | J67: =IF(基本情報入力シート!M92="","",基本情報入力シート!M92) | K67: =IF(基本情報入力シート!R92="","",基本情報入力シート!R92) | L67: =IF(基本情報入力シート!W92="","",基本情報入力シート!W92) | M67: =IF(基本情報入力シート!X92="","",基本情報入力シート!X92) | N67: =IF(基本情報入力シート!Y92="","",基本情報入力シート!Y92) | S67: =IFERROR(ROUNDDOWN(Q67*VLOOKUP(N67,【参考】数式用!$AR$2:$AW$48,MATCH(P67,【参考】数式用!$AT$4:$AW$4)+2,FALSE)*0.5, 0), "") | U67: =IFERROR(IF(AG67<>"",Q67*VLOOKUP(N67,【参考】数式用!$AG$2:$AL$48,MATCH(P67,【参考】数式用!$AI$4:$AL$4,0)+2,0), ""), "") | AA67: =IFERROR(IF(Y67="ー", "", ROUNDDOWN(Z67*VLOOKUP(N67,【参考】数式用!$AR$2:$AW$48,MATCH(Y67,【参考】数式用!$AT$4:$AW$4)+2,FALSE)*0.5, 0)), "") | AC67: =IFERROR(IF(AG67<>"",Z67*VLOOKUP(N67,【参考】数式用!$AG$2:$AL$48,MATCH(Y67,【参考】数式用!$AI$4:$AL$4,0)+2,0), ""), "") | AG67: =IFERROR(VLOOKUP(O67, 【参考】数式用!$AY$5:$AY$13, 1, FALSE), "") | AH67: =IFERROR(VLOOKUP(N67, 【参考】数式用!$BA$2:$BB$48, 2, FALSE), "") | AI67: =IF(AND(OR(P67="処遇改善加算Ⅰ",P67="処遇改善加算Ⅱ"),AH67="対象"), 1,"") | AJ67: =IF(OR(Y67="処遇改善加算Ⅰ",Y67="処遇改善加算Ⅱ"),IF(AND(N67<>"訪問型サービス（総合事業）",N67<>"通所型サービス（総合事業）",N67<>"（介護予防）短期入所生活介護",N67<>"（介護予防）短期入所療養介護（老健）",N67<>"（介護予防）短期入所療養介護 （病院等（老健以外）)",N67<>"（介護予防）短期入所療養介護（医療院）"),1,""),"")
A68: 55 | B68: =IF(基本情報入力シート!C93="","",基本情報入力シート!C93) | J68: =IF(基本情報入力シート!M93="","",基本情報入力シート!M93) | K68: =IF(基本情報入力シート!R93="","",基本情報入力シート!R93) | L68: =IF(基本情報入力シート!W93="","",基本情報入力シート!W93) | M68: =IF(基本情報入力シート!X93="","",基本情報入力シート!X93) | N68: =IF(基本情報入力シート!Y93="","",基本情報入力シート!Y93) | S68: =IFERROR(ROUNDDOWN(Q68*VLOOKUP(N68,【参考】数式用!$AR$2:$AW$48,MATCH(P68,【参考】数式用!$AT$4:$AW$4)+2,FALSE)*0.5, 0), "") | U68: =IFERROR(IF(AG68<>"",Q68*VLOOKUP(N68,【参考】数式用!$AG$2:$AL$48,MATCH(P68,【参考】数式用!$AI$4:$AL$4,0)+2,0), ""), "") | AA68: =IFERROR(IF(Y68="ー", "", ROUNDDOWN(Z68*VLOOKUP(N68,【参考】数式用!$AR$2:$AW$48,MATCH(Y68,【参考】数式用!$AT$4:$AW$4)+2,FALSE)*0.5, 0)), "") | AC68: =IFERROR(IF(AG68<>"",Z68*VLOOKUP(N68,【参考】数式用!$AG$2:$AL$48,MATCH(Y68,【参考】数式用!$AI$4:$AL$4,0)+2,0), ""), "") | AG68: =IFERROR(VLOOKUP(O68, 【参考】数式用!$AY$5:$AY$13, 1, FALSE), "") | AH68: =IFERROR(VLOOKUP(N68, 【参考】数式用!$BA$2:$BB$48, 2, FALSE), "") | AI68: =IF(AND(OR(P68="処遇改善加算Ⅰ",P68="処遇改善加算Ⅱ"),AH68="対象"), 1,"") | AJ68: =IF(OR(Y68="処遇改善加算Ⅰ",Y68="処遇改善加算Ⅱ"),IF(AND(N68<>"訪問型サービス（総合事業）",N68<>"通所型サービス（総合事業）",N68<>"（介護予防）短期入所生活介護",N68<>"（介護予防）短期入所療養介護（老健）",N68<>"（介護予防）短期入所療養介護 （病院等（老健以外）)",N68<>"（介護予防）短期入所療養介護（医療院）"),1,""),"")
A69: 56 | B69: =IF(基本情報入力シート!C94="","",基本情報入力シート!C94) | J69: =IF(基本情報入力シート!M94="","",基本情報入力シート!M94) | K69: =IF(基本情報入力シート!R94="","",基本情報入力シート!R94) | L69: =IF(基本情報入力シート!W94="","",基本情報入力シート!W94) | M69: =IF(基本情報入力シート!X94="","",基本情報入力シート!X94) | N69: =IF(基本情報入力シート!Y94="","",基本情報入力シート!Y94) | S69: =IFERROR(ROUNDDOWN(Q69*VLOOKUP(N69,【参考】数式用!$AR$2:$AW$48,MATCH(P69,【参考】数式用!$AT$4:$AW$4)+2,FALSE)*0.5, 0), "") | U69: =IFERROR(IF(AG69<>"",Q69*VLOOKUP(N69,【参考】数式用!$AG$2:$AL$48,MATCH(P69,【参考】数式用!$AI$4:$AL$4,0)+2,0), ""), "") | AA69: =IFERROR(IF(Y69="ー", "", ROUNDDOWN(Z69*VLOOKUP(N69,【参考】数式用!$AR$2:$AW$48,MATCH(Y69,【参考】数式用!$AT$4:$AW$4)+2,FALSE)*0.5, 0)), "") | AC69: =IFERROR(IF(AG69<>"",Z69*VLOOKUP(N69,【参考】数式用!$AG$2:$AL$48,MATCH(Y69,【参考】数式用!$AI$4:$AL$4,0)+2,0), ""), "") | AG69: =IFERROR(VLOOKUP(O69, 【参考】数式用!$AY$5:$AY$13, 1, FALSE), "") | AH69: =IFERROR(VLOOKUP(N69, 【参考】数式用!$BA$2:$BB$48, 2, FALSE), "") | AI69: =IF(AND(OR(P69="処遇改善加算Ⅰ",P69="処遇改善加算Ⅱ"),AH69="対象"), 1,"") | AJ69: =IF(OR(Y69="処遇改善加算Ⅰ",Y69="処遇改善加算Ⅱ"),IF(AND(N69<>"訪問型サービス（総合事業）",N69<>"通所型サービス（総合事業）",N69<>"（介護予防）短期入所生活介護",N69<>"（介護予防）短期入所療養介護（老健）",N69<>"（介護予防）短期入所療養介護 （病院等（老健以外）)",N69<>"（介護予防）短期入所療養介護（医療院）"),1,""),"")
A70: 57 | B70: =IF(基本情報入力シート!C95="","",基本情報入力シート!C95) | J70: =IF(基本情報入力シート!M95="","",基本情報入力シート!M95) | K70: =IF(基本情報入力シート!R95="","",基本情報入力シート!R95) | L70: =IF(基本情報入力シート!W95="","",基本情報入力シート!W95) | M70: =IF(基本情報入力シート!X95="","",基本情報入力シート!X95) | N70: =IF(基本情報入力シート!Y95="","",基本情報入力シート!Y95) | S70: =IFERROR(ROUNDDOWN(Q70*VLOOKUP(N70,【参考】数式用!$AR$2:$AW$48,MATCH(P70,【参考】数式用!$AT$4:$AW$4)+2,FALSE)*0.5, 0), "") | U70: =IFERROR(IF(AG70<>"",Q70*VLOOKUP(N70,【参考】数式用!$AG$2:$AL$48,MATCH(P70,【参考】数式用!$AI$4:$AL$4,0)+2,0), ""), "") | AA70: =IFERROR(IF(Y70="ー", "", ROUNDDOWN(Z70*VLOOKUP(N70,【参考】数式用!$AR$2:$AW$48,MATCH(Y70,【参考】数式用!$AT$4:$AW$4)+2,FALSE)*0.5, 0)), "") | AC70: =IFERROR(IF(AG70<>"",Z70*VLOOKUP(N70,【参考】数式用!$AG$2:$AL$48,MATCH(Y70,【参考】数式用!$AI$4:$AL$4,0)+2,0), ""), "") | AG70: =IFERROR(VLOOKUP(O70, 【参考】数式用!$AY$5:$AY$13, 1, FALSE), "") | AH70: =IFERROR(VLOOKUP(N70, 【参考】数式用!$BA$2:$BB$48, 2, FALSE), "") | AI70: =IF(AND(OR(P70="処遇改善加算Ⅰ",P70="処遇改善加算Ⅱ"),AH70="対象"), 1,"") | AJ70: =IF(OR(Y70="処遇改善加算Ⅰ",Y70="処遇改善加算Ⅱ"),IF(AND(N70<>"訪問型サービス（総合事業）",N70<>"通所型サービス（総合事業）",N70<>"（介護予防）短期入所生活介護",N70<>"（介護予防）短期入所療養介護（老健）",N70<>"（介護予防）短期入所療養介護 （病院等（老健以外）)",N70<>"（介護予防）短期入所療養介護（医療院）"),1,""),"")
A71: 58 | B71: =IF(基本情報入力シート!C96="","",基本情報入力シート!C96) | J71: =IF(基本情報入力シート!M96="","",基本情報入力シート!M96) | K71: =IF(基本情報入力シート!R96="","",基本情報入力シート!R96) | L71: =IF(基本情報入力シート!W96="","",基本情報入力シート!W96) | M71: =IF(基本情報入力シート!X96="","",基本情報入力シート!X96) | N71: =IF(基本情報入力シート!Y96="","",基本情報入力シート!Y96) | S71: =IFERROR(ROUNDDOWN(Q71*VLOOKUP(N71,【参考】数式用!$AR$2:$AW$48,MATCH(P71,【参考】数式用!$AT$4:$AW$4)+2,FALSE)*0.5, 0), "") | U71: =IFERROR(IF(AG71<>"",Q71*VLOOKUP(N71,【参考】数式用!$AG$2:$AL$48,MATCH(P71,【参考】数式用!$AI$4:$AL$4,0)+2,0), ""), "") | AA71: =IFERROR(IF(Y71="ー", "", ROUNDDOWN(Z71*VLOOKUP(N71,【参考】数式用!$AR$2:$AW$48,MATCH(Y71,【参考】数式用!$AT$4:$AW$4)+2,FALSE)*0.5, 0)), "") | AC71: =IFERROR(IF(AG71<>"",Z71*VLOOKUP(N71,【参考】数式用!$AG$2:$AL$48,MATCH(Y71,【参考】数式用!$AI$4:$AL$4,0)+2,0), ""), "") | AG71: =IFERROR(VLOOKUP(O71, 【参考】数式用!$AY$5:$AY$13, 1, FALSE), "") | AH71: =IFERROR(VLOOKUP(N71, 【参考】数式用!$BA$2:$BB$48, 2, FALSE), "") | AI71: =IF(AND(OR(P71="処遇改善加算Ⅰ",P71="処遇改善加算Ⅱ"),AH71="対象"), 1,"") | AJ71: =IF(OR(Y71="処遇改善加算Ⅰ",Y71="処遇改善加算Ⅱ"),IF(AND(N71<>"訪問型サービス（総合事業）",N71<>"通所型サービス（総合事業）",N71<>"（介護予防）短期入所生活介護",N71<>"（介護予防）短期入所療養介護（老健）",N71<>"（介護予防）短期入所療養介護 （病院等（老健以外）)",N71<>"（介護予防）短期入所療養介護（医療院）"),1,""),"")
A72: 59 | B72: =IF(基本情報入力シート!C97="","",基本情報入力シート!C97) | J72: =IF(基本情報入力シート!M97="","",基本情報入力シート!M97) | K72: =IF(基本情報入力シート!R97="","",基本情報入力シート!R97) | L72: =IF(基本情報入力シート!W97="","",基本情報入力シート!W97) | M72: =IF(基本情報入力シート!X97="","",基本情報入力シート!X97) | N72: =IF(基本情報入力シート!Y97="","",基本情報入力シート!Y97) | S72: =IFERROR(ROUNDDOWN(Q72*VLOOKUP(N72,【参考】数式用!$AR$2:$AW$48,MATCH(P72,【参考】数式用!$AT$4:$AW$4)+2,FALSE)*0.5, 0), "") | U72: =IFERROR(IF(AG72<>"",Q72*VLOOKUP(N72,【参考】数式用!$AG$2:$AL$48,MATCH(P72,【参考】数式用!$AI$4:$AL$4,0)+2,0), ""), "") | AA72: =IFERROR(IF(Y72="ー", "", ROUNDDOWN(Z72*VLOOKUP(N72,【参考】数式用!$AR$2:$AW$48,MATCH(Y72,【参考】数式用!$AT$4:$AW$4)+2,FALSE)*0.5, 0)), "") | AC72: =IFERROR(IF(AG72<>"",Z72*VLOOKUP(N72,【参考】数式用!$AG$2:$AL$48,MATCH(Y72,【参考】数式用!$AI$4:$AL$4,0)+2,0), ""), "") | AG72: =IFERROR(VLOOKUP(O72, 【参考】数式用!$AY$5:$AY$13, 1, FALSE), "") | AH72: =IFERROR(VLOOKUP(N72, 【参考】数式用!$BA$2:$BB$48, 2, FALSE), "") | AI72: =IF(AND(OR(P72="処遇改善加算Ⅰ",P72="処遇改善加算Ⅱ"),AH72="対象"), 1,"") | AJ72: =IF(OR(Y72="処遇改善加算Ⅰ",Y72="処遇改善加算Ⅱ"),IF(AND(N72<>"訪問型サービス（総合事業）",N72<>"通所型サービス（総合事業）",N72<>"（介護予防）短期入所生活介護",N72<>"（介護予防）短期入所療養介護（老健）",N72<>"（介護予防）短期入所療養介護 （病院等（老健以外）)",N72<>"（介護予防）短期入所療養介護（医療院）"),1,""),"")
... A113: 100 | B113: =IF(基本情報入力シート!C138="","",基本情報入力シート!C138) | J113: =IF(基本情報入力シート!M138="","",基本情報入力シート!M138) | K113: =IF(基本情報入力シート!R138="","",基本情報入力シート!R138) | L113: =IF(基本情報入力シート!W138="","",基本情報入力シート!W138) | M113: =IF(基本情報入力シート!X138="","",基本情報入力シート!X138) | N113: =IF(基本情報入力シート!Y138="","",基本情報入力シート!Y138) | S113: =IFERROR(ROUNDDOWN(Q113*VLOOKUP(N113,【参考】数式用!$AR$2:$AW$48,MATCH(P113,【参考】数式用!$AT$4:$AW$4)+2,FALSE)*0.5, 0), "") | U113: =IFERROR(IF(AG113<>"",Q113*VLOOKUP(N113,【参考】数式用!$AG$2:$AL$48,MATCH(P113,【参考】数式用!$AI$4:$AL$4,0)+2,0), ""), "") | AA113: =IFERROR(IF(Y113="ー", "", ROUNDDOWN(Z113*VLOOKUP(N113,【参考】数式用!$AR$2:$AW$48,MATCH(Y113,【参考】数式用!$AT$4:$AW$4)+2,FALSE)*0.5, 0)), "") | AC113: =IFERROR(IF(AG113<>"",Z113*VLOOKUP(N113,【参考】数式用!$AG$2:$AL$48,MATCH(Y113,【参考】数式用!$AI$4:$AL$4,0)+2,0), ""), "") | AG113: =IFERROR(VLOOKUP(O113, 【参考】数式用!$AY$5:$AY$13, 1, FALSE), "") | AH113: =IFERROR(VLOOKUP(N113, 【参考】数式用!$BA$2:$BB$48, 2, FALSE), "") | AI113: =IF(AND(OR(P113="処遇改善加算Ⅰ",P113="処遇改善加算Ⅱ"),AH113="対象"), 1,"") | AJ113: =IF(OR(Y113="処遇改善加算Ⅰ",Y113="処遇改善加算Ⅱ"),IF(AND(N113<>"訪問型サービス（総合事業）",N113<>"通所型サービス（総合事業）",N113<>"（介護予防）短期入所生活介護",N113<>"（介護予防）短期入所療養介護（老健）",N113<>"（介護予防）短期入所療養介護 （病院等（老健以外）)",N113<>"（介護予防）短期入所療養介護（医療院）"),1,""),"")

Sheet 【参考】数式用
A1: 表１ 加算率一覧 | AG1: 表２ 処遇改善加算Ⅰ～Ⅳと旧ベースアップ等加算の比率（月額賃金改善要件Ⅰ・Ⅱ） | AN1: 表３ | AP1: 表５ | AR1: 表６ 処遇改善加算Ⅰ～Ⅳと旧ベースアップ等加算の比率（月額賃金改善要件Ⅰ・Ⅱ） | AY1: 表７ 月額賃金改善要件Ⅱが適用される加算区分 | BA1: 表８ キャリアパス要件Ⅳ 規定人数集計対象外リスト
A2: コード名 | B2: コード値 | C2: 介護職員処遇改善加算 | G2: 介護職員等特定処遇改善加算 | J2: 介護職員等ベースアップ等支援加算 | L2: 介護職員等処遇改善加算 | AE2: （参考）令和６年度介護報酬改定による引上げ分 | AG2: コード名 | AH2: コード値 | AI2: 旧ベースアップ等加算の加算率との比 | AN2: ✓ | AP2: 処遇改善加算Ⅰ | AR2: コード名 | AS2: コード値 | AT2: 処遇改善加算Ⅳとの比 | AY2: 令和７年３月時点の加算区分 | BA2: サービス区分 | BB2: 対象
C3: キャリアパス要件等の適合状況に応じた加算率 | G3: サービス提供体制強化加算等の算定状況に応じた加算率 | L3: 各要件の適合状況に応じた加算率（処遇改善加算（Ⅴ）は経過措置区分） | AP3: 処遇改善加算Ⅱ
C4: 旧処遇改善加算Ⅰ | D4: 旧処遇改善加算Ⅱ | E4: 旧処遇改善加算Ⅲ | F4: 旧処遇改善加算なし | G4: 特定加算Ⅰ | H4: 特定加算Ⅱ | I4: 特定加算なし | J4: ベア加算あり | K4: ベア加算なし | L4: 処遇改善加算Ⅰ | M4: 処遇改善加算Ⅱ | N4: 処遇改善加算Ⅲ | O4: 処遇改善加算Ⅳ | P4: 処遇改善加算Ⅴ（１） | Q4: 処遇改善加算Ⅴ（２） | R4: 処遇改善加算Ⅴ（３） | S4: 処遇改善加算Ⅴ（４） | T4: 処遇改善加算Ⅴ（５） | U4: 処遇改善加算Ⅴ（６） | V4: 処遇改善加算Ⅴ（７） | W4: 処遇改善加算Ⅴ（８） | X4: 処遇改善加算Ⅴ（９） | Y4: 処遇改善加算Ⅴ（10） | Z4: 処遇改善加算Ⅴ（11） | AA4: 処遇改善加算Ⅴ（12） | AB4: 処遇改善加算Ⅴ（13） | AC4: 処遇改善加算Ⅴ（14） | AD4: 処遇改善加算なし | AI4: 処遇改善加算Ⅰ | AJ4: 処遇改善加算Ⅱ | AK4: 処遇改善加算Ⅲ | AL4: 処遇改善加算Ⅳ | AP4: 処遇改善加算Ⅲ | AT4: 処遇改善加算Ⅰ | AU4: 処遇改善加算Ⅱ | AV4: 処遇改善加算Ⅲ | AW4: 処遇改善加算Ⅳ
A5: 訪問介護 | B5: 11 | C5: 0.137 | D5: 0.1 | E5: 0.055 | F5: 0 | G5: 0.063 | H5: 0.042 | I5: 0 | J5: 0.024 | K5: 0 | L5: 0.245 | M5: 0.224 | N5: 0.182 | O5: 0.145 | P5: 0.221 | Q5: 0.208 | R5: 0.2 | S5: 0.187 | T5: 0.184 | U5: 0.163 | V5: 0.163 | W5: 0.158 | X5: 0.142 | Y5: 0.139 | Z5: 0.121 | AA5: 0.118 | AB5: 0.1 | AC5: 0.076 | AD5: 0 | AE5: 0.021 | AG5: 訪問介護 | AH5: 11 | AI5: =J5/L5 -> 0.097959184 | AJ5: =J5/M5 -> 0.10714286 | AK5: =J5/N5 -> 0.13186813 | AL5: =J5/O5 -> 0.16551724 | AN5: 表４ | AP5: 処遇改善加算Ⅳ | AR5: 訪問介護 | AS5: 11 | AT5: =O5/L5 -> 0.59183673 | AU5: =O5/M5 -> 0.64732143 | AV5: =O5/N5 -> 0.7967033 | AW5: =O5/O5 -> 1 | AY5: 処遇改善加算Ⅴ（１） | BA5: 訪問介護 | BB5: 対象
A6: 夜間対応型訪問介護 | B6: 71 | C6: 0.137 | D6: 0.1 | E6: 0.055 | F6: 0 | G6: 0.063 | H6: 0.042 | I6: 0 | J6: 0.024 | K6: 0 | L6: 0.245 | M6: 0.224 | N6: 0.182 | O6: 0.145 | P6: 0.221 | Q6: 0.208 | R6: 0.2 | S6: 0.187 | T6: 0.184 | U6: 0.163 | V6: 0.163 | W6: 0.158 | X6: 0.142 | Y6: 0.139 | Z6: 0.121 | AA6: 0.118 | AB6: 0.1 | AC6: 0.076 | AD6: 0 | AE6: 0.021 | AG6: 夜間対応型訪問介護 | AH6: 71 | AI6: =J6/L6 -> 0.097959184 | AJ6: =J6/M6 -> 0.10714286 | AK6: =J6/N6 -> 0.13186813 | AL6: =J6/O6 -> 0.16551724 | AN6: ○ | AP6: ― | AR6: 夜間対応型訪問介護 | AS6: 71 | AT6: =O6/L6 -> 0.59183673 | AU6: =O6/M6 -> 0.64732143 | AV6: =O6/N6 -> 0.7967033 | AW6: =O6/O6 -> 1 | AY6: 処遇改善加算Ⅴ（３） | BA6: 夜間対応型訪問介護 | BB6: 対象
A7: 定期巡回・随時対応型訪問介護看護 | B7: 76 | C7: 0.137 | D7: 0.1 | E7: 0.055 | F7: 0 | G7: 0.063 | H7: 0.042 | I7: 0 | J7: 0.024 | K7: 0 | L7: 0.245 | M7: 0.224 | N7: 0.182 | O7: 0.145 | P7: 0.221 | Q7: 0.208 | R7: 0.2 | S7: 0.187 | T7: 0.184 | U7: 0.163 | V7: 0.163 | W7: 0.158 | X7: 0.142 | Y7: 0.139 | Z7: 0.121 | AA7: 0.118 | AB7: 0.1 | AC7: 0.076 | AD7: 0 | AE7: 0.021 | AG7: 定期巡回・随時対応型訪問介護看護 | AH7: 76 | AI7: =J7/L7 -> 0.097959184 | AJ7: =J7/M7 -> 0.10714286 | AK7: =J7/N7 -> 0.13186813 | AL7: =J7/O7 -> 0.16551724 | AR7: 定期巡回・随時対応型訪問介護看護 | AS7: 76 | AT7: =O7/L7 -> 0.59183673 | AU7: =O7/M7 -> 0.64732143 | AV7: =O7/N7 -> 0.7967033 | AW7: =O7/O7 -> 1 | AY7: 処遇改善加算Ⅴ（５） | BA7: 定期巡回・随時対応型訪問介護看護 | BB7: 対象
A8: 訪問入浴介護 | B8: 12 | C8: 0.058 | D8: 0.042 | E8: 0.023 | F8: 0 | G8: 0.021 | H8: 0.015 | I8: 0 | J8: 0.011 | K8: 0 | L8: 0.1 | M8: 0.094 | N8: 0.079 | O8: 0.063 | P8: 0.089 | Q8: 0.084 | R8: 0.083 | S8: 0.078 | T8: 0.073 | U8: 0.067 | V8: 0.065 | W8: 0.068 | X8: 0.059 | Y8: 0.054 | Z8: 0.052 | AA8: 0.048 | AB8: 0.044 | AC8: 0.033 | AD8: 0 | AE8: 0.01 | AG8: 訪問入浴介護 | AH8: 12 | AI8: =J8/L8 -> 0.11 | AJ8: =J8/M8 -> 0.11702128 | AK8: =J8/N8 -> 0.13924051 | AL8: =J8/O8 -> 0.17460317 | AR8: 訪問入浴介護 | AS8: 12 | AT8: =O8/L8 -> 0.63 | AU8: =O8/M8 -> 0.67021277 | AV8: =O8/N8 -> 0.79746835 | AW8: =O8/O8 -> 1 | AY8: 処遇改善加算Ⅴ（６） | BA8: 訪問入浴介護 | BB8: 対象
A9: 介護予防訪問入浴介護 | B9: 62 | C9: 0.058 | D9: 0.042 | E9: 0.023 | F9: 0 | G9: 0.021 | H9: 0.015 | I9: 0 | J9: 0.011 | K9: 0 | L9: 0.1 | M9: 0.094 | N9: 0.079 | O9: 0.063 | P9: 0.089 | Q9: 0.084 | R9: 0.083 | S9: 0.078 | T9: 0.073 | U9: 0.067 | V9: 0.065 | W9: 0.068 | X9: 0.059 | Y9: 0.054 | Z9: 0.052 | AA9: 0.048 | AB9: 0.044 | AC9: 0.033 | AD9: 0 | AE9: 0.01 | AG9: 介護予防訪問入浴介護 | AH9: 62 | AI9: =J9/L9 -> 0.11 | AJ9: =J9/M9 -> 0.11702128 | AK9: =J9/N9 -> 0.13924051 | AL9: =J9/O9 -> 0.17460317 | AR9: 介護予防訪問入浴介護 | AS9: 62 | AT9: =O9/L9 -> 0.63 | AU9: =O9/M9 -> 0.67021277 | AV9: =O9/N9 -> 0.79746835 | AW9: =O9/O9 -> 1 | AY9: 処遇改善加算Ⅴ（８） | BA9: 介護予防訪問入浴介護 | BB9: 対象外
A10: 通所介護 | B10: 15 | C10: 0.059 | D10: 0.043 | E10: 0.023 | F10: 0 | G10: 0.012 | H10: 0.01 | I10: 0 | J10: 0.011 | K10: 0 | L10: 0.092 | M10: 0.09 | N10: 0.08 | O10: 0.064 | P10: 0.081 | Q10: 0.076 | R10: 0.079 | S10: 0.074 | T10: 0.065 | U10: 0.063 | V10: 0.056 | W10: 0.069 | X10: 0.054 | Y10: 0.045 | Z10: 0.053 | AA10: 0.043 | AB10: 0.044 | AC10: 0.033 | AD10: 0 | AE10: 0.01 | AG10: 通所介護 | AH10: 15 | AI10: =J10/L10 -> 0.11956522 | AJ10: =J10/M10 -> 0.12222222 | AK10: =J10/N10 -> 0.1375 | AL10: =J10/O10 -> 0.171875 | AR10: 通所介護 | AS10: 15 | AT10: =O10/L10 -> 0.69565217 | AU10: =O10/M10 -> 0.71111111 | AV10: =O10/N10 -> 0.8 | AW10: =O10/O10 -> 1 | AY10: 処遇改善加算Ⅴ（10） | BA10: 通所介護 | BB10: 対象
A11: 地域密着型通所介護 | B11: 78 | C11: 0.059 | D11: 0.043 | E11: 0.023 | F11: 0 | G11: 0.012 | H11: 0.01 | I11: 0 | J11: 0.011 | K11: 0 | L11: 0.092 | M11: 0.09 | N11: 0.08 | O11: 0.064 | P11: 0.081 | Q11: 0.076 | R11: 0.079 | S11: 0.074 | T11: 0.065 | U11: 0.063 | V11: 0.056 | W11: 0.069 | X11: 0.054 | Y11: 0.045 | Z11: 0.053 | AA11: 0.043 | AB11: 0.044 | AC11: 0.033 | AD11: 0 | AE11: 0.01 | AG11: 地域密着型通所介護 | AH11: 78 | AI11: =J11/L11 -> 0.11956522 | AJ11: =J11/M11 -> 0.12222222 | AK11: =J11/N11 -> 0.1375 | AL11: =J11/O11 -> 0.171875 | AR11: 地域密着型通所介護 | AS11: 78 | AT11: =O11/L11 -> 0.69565217 | AU11: =O11/M11 -> 0.71111111 | AV11: =O11/N11 -> 0.8 | AW11: =O11/O11 -> 1 | AY11: 処遇改善加算Ⅴ（11） | BA11: 地域密着型通所介護 | BB11: 対象
A12: 通所リハビリテーション | B12: 16 | C12: 0.047 | D12: 0.034 | E12: 0.019 | F12: 0 | G12: 0.02 | H12: 0.017 | I12: 0 | J12: 0.01 | K12: 0 | L12: 0.086 | M12: 0.083 | N12: 0.066 | O12: 0.053 | P12: 0.076 | Q12: 0.073 | R12: 0.073 | S12: 0.07 | T12: 0.063 | U12: 0.06 | V12: 0.058 | W12: 0.056 | X12: 0.055 | Y12: 0.048 | Z12: 0.043 | AA12: 0.045 | AB12: 0.038 | AC12: 0.028 | AD12: 0 | AE12: 0.009 | AG12: 通所リハビリテーション | AH12: 16 | AI12: =J12/L12 -> 0.11627907 | AJ12: =J12/M12 -> 0.12048193 | AK12: =J12/N12 -> 0.15151515 | AL12: =J12/O12 -> 0.18867925 | AR12: 通所リハビリテーション | AS12: 16 | AT12: =O12/L12 -> 0.61627907 | AU12: =O12/M12 -> 0.63855422 | AV12: =O12/N12 -> 0.8030303 | AW12: =O12/O12 -> 1 | AY12: 処遇改善加算Ⅴ（12） | BA12: 通所リハビリテーション | BB12: 対象
A13: 介護予防通所リハビリテーション | B13: 66 | C13: 0.047 | D13: 0.034 | E13: 0.019 | F13: 0 | G13: 0.02 | H13: 0.017 | I13: 0 | J13: 0.01 | K13: 0 | L13: 0.086 | M13: 0.083 | N13: 0.066 | O13: 0.053 | P13: 0.076 | Q13: 0.073 | R13: 0.073 | S13: 0.07 | T13: 0.063 | U13: 0.06 | V13: 0.058 | W13: 0.056 | X13: 0.055 | Y13: 0.048 | Z13: 0.043 | AA13: 0.045 | AB13: 0.038 | AC13: 0.028 | AD13: 0 | AE13: 0.009 | AG13: 介護予防通所リハビリテーション | AH13: 66 | AI13: =J13/L13 -> 0.11627907 | AJ13: =J13/M13 -> 0.12048193 | AK13: =J13/N13 -> 0.15151515 | AL13: =J13/O13 -> 0.18867925 | AR13: 介護予防通所リハビリテーション | AS13: 66 | AT13: =O13/L13 -> 0.61627907 | AU13: =O13/M13 -> 0.63855422 | AV13: =O13/N13 -> 0.8030303 | AW13: =O13/O13 -> 1 | AY13: 処遇改善加算Ⅴ（14） | BA13: 介護予防通所リハビリテーション | BB13: 対象外
A14: 特定施設入居者生活介護 | B14: 33 | C14: 0.082 | D14: 0.06 | E14: 0.033 | F14: 0 | G14: 0.018 | H14: 0.012 | I14: 0 | J14: 0.015 | K14: 0 | L14: 0.128 | M14: 0.122 | N14: 0.11 | O14: 0.088 | P14: 0.113 | Q14: 0.106 | R14: 0.107 | S14: 0.1 | T14: 0.091 | U14: 0.085 | V14: 0.079 | W14: 0.095 | X14: 0.073 | Y14: 0.064 | Z14: 0.073 | AA14: 0.058 | AB14: 0.061 | AC14: 0.046 | AD14: 0 | AE14: 0.013 | AG14: 特定施設入居者生活介護 | AH14: 33 | AI14: =J14/L14 -> 0.1171875 | AJ14: =J14/M14 -> 0.12295082 | AK14: =J14/N14 -> 0.13636364 | AL14: =J14/O14 -> 0.17045455 | AR14: 特定施設入居者生活介護 | AS14: 33 | AT14: =O14/L14 -> 0.6875 | AU14: =O14/M14 -> 0.72131148 | AV14: =O14/N14 -> 0.8 | AW14: =O14/O14 -> 1 | BA14: 特定施設入居者生活介護 | BB14: 対象
A15: 特定施設入居者生活介護（短期利用型） | B15: 27 | C15: 0.082 | D15: 0.06 | E15: 0.033 | F15: 0 | G15: 0.018 | H15: 0.012 | I15: 0 | J15: 0.015 | K15: 0 | L15: 0.128 | M15: 0.122 | N15: 0.11 | O15: 0.088 | P15: 0.113 | Q15: 0.106 | R15: 0.107 | S15: 0.1 | T15: 0.091 | U15: 0.085 | V15: 0.079 | W15: 0.095 | X15: 0.073 | Y15: 0.064 | Z15: 0.073 | AA15: 0.058 | AB15: 0.061 | AC15: 0.046 | AD15: 0 | AE15: 0.013 | AG15: 特定施設入居者生活介護（短期利用型） | AH15: 27 | AI15: =J15/L15 -> 0.1171875 | AJ15: =J15/M15 -> 0.12295082 | AK15: =J15/N15 -> 0.13636364 | AL15: =J15/O15 -> 0.17045455 | AR15: 特定施設入居者生活介護（短期利用型） | AS15: 27 | AT15: =O15/L15 -> 0.6875 | AU15: =O15/M15 -> 0.72131148 | AV15: =O15/N15 -> 0.8 | AW15: =O15/O15 -> 1 | BA15: 特定施設入居者生活介護（短期利用型） | BB15: 対象外
A16: 介護予防特定施設入居者生活介護 | B16: 35 | C16: 0.082 | D16: 0.06 | E16: 0.033 | F16: 0 | G16: 0.018 | H16: 0.012 | I16: 0 | J16: 0.015 | K16: 0 | L16: 0.128 | M16: 0.122 | N16: 0.11 | O16: 0.088 | P16: 0.113 | Q16: 0.106 | R16: 0.107 | S16: 0.1 | T16: 0.091 | U16: 0.085 | V16: 0.079 | W16: 0.095 | X16: 0.073 | Y16: 0.064 | Z16: 0.073 | AA16: 0.058 | AB16: 0.061 | AC16: 0.046 | AD16: 0 | AE16: 0.013 | AG16: 介護予防特定施設入居者生活介護 | AH16: 35 | AI16: =J16/L16 -> 0.1171875 | AJ16: =J16/M16 -> 0.12295082 | AK16: =J16/N16 -> 0.13636364 | AL16: =J16/O16 -> 0.17045455 | AR16: 介護予防特定施設入居者生活介護 | AS16: 35 | AT16: =O16/L16 -> 0.6875 | AU16: =O16/M16 -> 0.72131148 | AV16: =O16/N16 -> 0.8 | AW16: =O16/O16 -> 1 | BA16: 介護予防特定施設入居者生活介護 | BB16: 対象外
A17: 地域密着型特定施設入居者生活介護 | B17: 36 | C17: 0.082 | D17: 0.06 | E17: 0.033 | F17: 0 | G17: 0.018 | H17: 0.012 | I17: 0 | J17: 0.015 | K17: 0 | L17: 0.128 | M17: 0.122 | N17: 0.11 | O17: 0.088 | P17: 0.113 | Q17: 0.106 | R17: 0.107 | S17: 0.1 | T17: 0.091 | U17: 0.085 | V17: 0.079 | W17: 0.095 | X17: 0.073 | Y17: 0.064 | Z17: 0.073 | AA17: 0.058 | AB17: 0.061 | AC17: 0.046 | AD17: 0 | AE17: 0.013 | AG17: 地域密着型特定施設入居者生活介護 | AH17: 36 | AI17: =J17/L17 -> 0.1171875 | AJ17: =J17/M17 -> 0.12295082 | AK17: =J17/N17 -> 0.13636364 | AL17: =J17/O17 -> 0.17045455 | AR17: 地域密着型特定施設入居者生活介護 | AS17: 36 | AT17: =O17/L17 -> 0.6875 | AU17: =O17/M17 -> 0.72131148 | AV17: =O17/N17 -> 0.8 | AW17: =O17/O17 -> 1 | BA17: 地域密着型特定施設入居者生活介護 | BB17: 対象
A18: 地域密着型特定施設入居者生活介護（短期利用型） | B18: 28 | C18: 0.082 | D18: 0.06 | E18: 0.033 | F18: 0 | G18: 0.018 | H18: 0.012 | I18: 0 | J18: 0.015 | K18: 0 | L18: 0.128 | M18: 0.122 | N18: 0.11 | O18: 0.088 | P18: 0.113 | Q18: 0.106 | R18: 0.107 | S18: 0.1 | T18: 0.091 | U18: 0.085 | V18: 0.079 | W18: 0.095 | X18: 0.073 | Y18: 0.064 | Z18: 0.073 | AA18: 0.058 | AB18: 0.061 | AC18: 0.046 | AD18: 0 | AE18: 0.013 | AG18: 地域密着型特定施設入居者生活介護（短期利用型） | AH18: 28 | AI18: =J18/L18 -> 0.1171875 | AJ18: =J18/M18 -> 0.12295082 | AK18: =J18/N18 -> 0.13636364 | AL18: =J18/O18 -> 0.17045455 | AR18: 地域密着型特定施設入居者生活介護（短期利用型） | AS18: 28 | AT18: =O18/L18 -> 0.6875 | AU18: =O18/M18 -> 0.72131148 | AV18: =O18/N18 -> 0.8 | AW18: =O18/O18 -> 1 | BA18: 地域密着型特定施設入居者生活介護（短期利用型） | BB18: 対象外
A19: 認知症対応型通所介護 | B19: 72 | C19: 0.104 | D19: 0.076 | E19: 0.042 | F19: 0 | G19: 0.031 | H19: 0.024 | I19: 0 | J19: 0.023 | K19: 0 | L19: 0.181 | M19: 0.174 | N19: 0.15 | O19: 0.122 | P19: 0.158 | Q19: 0.153 | R19: 0.151 | S19: 0.146 | T19: 0.13 | U19: 0.123 | V19: 0.119 | W19: 0.127 | X19: 0.112 | Y19: 0.096 | Z19: 0.099 | AA19: 0.089 | AB19: 0.088 | AC19: 0.065 | AD19: 0 | AE19: 0.023 | AG19: 認知症対応型通所介護 | AH19: 72 | AI19: =J19/L19 -> 0.12707182 | AJ19: =J19/M19 -> 0.13218391 | AK19: =J19/N19 -> 0.15333333 | AL19: =J19/O19 -> 0.18852459 | AR19: 認知症対応型通所介護 | AS19: 72 | AT19: =O19/L19 -> 0.67403315 | AU19: =O19/M19 -> 0.70114943 | AV19: =O19/N19 -> 0.81333333 | AW19: =O19/O19 -> 1 | BA19: 認知症対応型通所介護 | BB19: 対象
A20: 介護予防認知症対応型通所介護 | B20: 74 | C20: 0.104 | D20: 0.076 | E20: 0.042 | F20: 0 | G20: 0.031 | H20: 0.024 | I20: 0 | J20: 0.023 | K20: 0 | L20: 0.181 | M20: 0.174 | N20: 0.15 | O20: 0.122 | P20: 0.158 | Q20: 0.153 | R20: 0.151 | S20: 0.146 | T20: 0.13 | U20: 0.123 | V20: 0.119 | W20: 0.127 | X20: 0.112 | Y20: 0.096 | Z20: 0.099 | AA20: 0.089 | AB20: 0.088 | AC20: 0.065 | AD20: 0 | AE20: 0.023 | AG20: 介護予防認知症対応型通所介護 | AH20: 74 | AI20: =J20/L20 -> 0.12707182 | AJ20: =J20/M20 -> 0.13218391 | AK20: =J20/N20 -> 0.15333333 | AL20: =J20/O20 -> 0.18852459 | AR20: 介護予防認知症対応型通所介護 | AS20: 74 | AT20: =O20/L20 -> 0.67403315 | AU20: =O20/M20 -> 0.70114943 | AV20: =O20/N20 -> 0.81333333 | AW20: =O20/O20 -> 1 | BA20: 介護予防認知症対応型通所介護 | BB20: 対象外
A21: 小規模多機能型居宅介護 | B21: 73 | C21: 0.102 | D21: 0.074 | E21: 0.041 | F21: 0 | G21: 0.015 | H21: 0.012 | I21: 0 | J21: 0.017 | K21: 0 | L21: 0.149 | M21: 0.146 | N21: 0.134 | O21: 0.106 | P21: 0.132 | Q21: 0.121 | R21: 0.129 | S21: 0.118 | T21: 0.104 | U21: 0.101 | V21: 0.088 | W21: 0.117 | X21: 0.085 | Y21: 0.071 | Z21: 0.089 | AA21: 0.068 | AB21: 0.073 | AC21: 0.056 | AD21: 0 | AE21: 0.015 | AG21: 小規模多機能型居宅介護 | AH21: 73 | AI21: =J21/L21 -> 0.11409396 | AJ21: =J21/M21 -> 0.11643836 | AK21: =J21/N21 -> 0.12686567 | AL21: =J21/O21 -> 0.16037736 | AR21: 小規模多機能型居宅介護 | AS21: 73 | AT21: =O21/L21 -> 0.7114094 | AU21: =O21/M21 -> 0.7260274 | AV21: =O21/N21 -> 0.79104478 | AW21: =O21/O21 -> 1 | BA21: 小規模多機能型居宅介護 | BB21: 対象
A22: 小規模多機能型居宅介護（短期利用型） | B22: 68 | C22: 0.102 | D22: 0.074 | E22: 0.041 | F22: 0 | G22: 0.015 | H22: 0.012 | I22: 0 | J22: 0.017 | K22: 0 | L22: 0.149 | M22: 0.146 | N22: 0.134 | O22: 0.106 | P22: 0.132 | Q22: 0.121 | R22: 0.129 | S22: 0.118 | T22: 0.104 | U22: 0.101 | V22: 0.088 | W22: 0.117 | X22: 0.085 | Y22: 0.071 | Z22: 0.089 | AA22: 0.068 | AB22: 0.073 | AC22: 0.056 | AD22: 0 | AE22: 0.015 | AG22: 小規模多機能型居宅介護（短期利用型） | AH22: 68 | AI22: =J22/L22 -> 0.11409396 | AJ22: =J22/M22 -> 0.11643836 | AK22: =J22/N22 -> 0.12686567 | AL22: =J22/O22 -> 0.16037736 | AR22: 小規模多機能型居宅介護（短期利用型） | AS22: 68 | AT22: =O22/L22 -> 0.7114094 | AU22: =O22/M22 -> 0.7260274 | AV22: =O22/N22 -> 0.79104478 | AW22: =O22/O22 -> 1 | BA22: 小規模多機能型居宅介護（短期利用型） | BB22: 対象外
A23: 介護予防小規模多機能型居宅介護 | B23: 75 | C23: 0.102 | D23: 0.074 | E23: 0.041 | F23: 0 | G23: 0.015 | H23: 0.012 | I23: 0 | J23: 0.017 | K23: 0 | L23: 0.149 | M23: 0.146 | N23: 0.134 | O23: 0.106 | P23: 0.132 | Q23: 0.121 | R23: 0.129 | S23: 0.118 | T23: 0.104 | U23: 0.101 | V23: 0.088 | W23: 0.117 | X23: 0.085 | Y23: 0.071 | Z23: 0.089 | AA23: 0.068 | AB23: 0.073 | AC23: 0.056 | AD23: 0 | AE23: 0.015 | AG23: 介護予防小規模多機能型居宅介護 | AH23: 75 | AI23: =J23/L23 -> 0.11409396 | AJ23: =J23/M23 -> 0.11643836 | AK23: =J23/N23 -> 0.12686567 | AL23: =J23/O23 -> 0.16037736 | AR23: 介護予防小規模多機能型居宅介護 | AS23: 75 | AT23: =O23/L23 -> 0.7114094 | AU23: =O23/M23 -> 0.7260274 | AV23: =O23/N23 -> 0.79104478 | AW23: =O23/O23 -> 1 | BA23: 介護予防小規模多機能型居宅介護 | BB23: 対象外
A24: 介護予防小規模多機能型居宅介護（短期利用型） | B24: 69 | C24: 0.102 | D24: 0.074 | E24: 0.041 | F24: 0 | G24: 0.015 | H24: 0.012 | I24: 0 | J24: 0.017 | K24: 0 | L24: 0.149 | M24: 0.146 | N24: 0.134 | O24: 0.106 | P24: 0.132 | Q24: 0.121 | R24: 0.129 | S24: 0.118 | T24: 0.104 | U24: 0.101 | V24: 0.088 | W24: 0.117 | X24: 0.085 | Y24: 0.071 | Z24: 0.089 | AA24: 0.068 | AB24: 0.073 | AC24: 0.056 | AD24: 0 | AE24: 0.015 | AG24: 介護予防小規模多機能型居宅介護（短期利用型） | AH24: 69 | AI24: =J24/L24 -> 0.11409396 | AJ24: =J24/M24 -> 0.11643836 | AK24: =J24/N24 -> 0.12686567 | AL24: =J24/O24 -> 0.16037736 | AR24: 介護予防小規模多機能型居宅介護（短期利用型） | AS24: 69 | AT24: =O24/L24 -> 0.7114094 | AU24: =O24/M24 -> 0.7260274 | AV24: =O24/N24 -> 0.79104478 | AW24: =O24/O24 -> 1 | BA24: 介護予防小規模多機能型居宅介護（短期利用型） | BB24: 対象外
A25: 複合型サービス（看護小規模多機能型居宅介護） | B25: 77 | C25: 0.102 | D25: 0.074 | E25: 0.041 | F25: 0 | G25: 0.015 | H25: 0.012 | I25: 0 | J25: 0.017 | K25: 0 | L25: 0.149 | M25: 0.146 | N25: 0.134 | O25: 0.106 | P25: 0.132 | Q25: 0.121 | R25: 0.129 | S25: 0.118 | T25: 0.104 | U25: 0.101 | V25: 0.088 | W25: 0.117 | X25: 0.085 | Y25: 0.071 | Z25: 0.089 | AA25: 0.068 | AB25: 0.073 | AC25: 0.056 | AD25: 0 | AE25: 0.015 | AG25: 複合型サービス（看護小規模多機能型居宅介護） | AH25: 77 | AI25: =J25/L25 -> 0.11409396 | AJ25: =J25/M25 -> 0.11643836 | AK25: =J25/N25 -> 0.12686567 | AL25: =J25/O25 -> 0.16037736 | AR25: 複合型サービス（看護小規模多機能型居宅介護） | AS25: 77 | AT25: =O25/L25 -> 0.7114094 | AU25: =O25/M25 -> 0.7260274 | AV25: =O25/N25 -> 0.79104478 | AW25: =O25/O25 -> 1 | BA25: 複合型サービス（看護小規模多機能型居宅介護） | BB25: 対象
... A48: 通所型サービス（独自／定額） | B48: A8 | C48: 0.059 | D48: 0.043 | E48: 0.023 | F48: 0 | G48: 0.012 | H48: 0.01 | I48: 0 | J48: 0.011 | K48: 0 | L48: 0.092 | M48: 0.09 | N48: 0.08 | O48: 0.064 | P48: 0.081 | Q48: 0.076 | R48: 0.079 | S48: 0.074 | T48: 0.065 | U48: 0.063 | V48: 0.056 | W48: 0.069 | X48: 0.054 | Y48: 0.045 | Z48: 0.053 | AA48: 0.043 | AB48: 0.044 | AC48: 0.033 | AD48: 0 | AE48: 0.01 | AG48: 通所型サービス（独自／定額） | AH48: A8 | AI48: =J48/L48 -> 0.11956522 | AJ48: =J48/M48 -> 0.12222222 | AK48: =J48/N48 -> 0.1375 | AL48: =J48/O48 -> 0.171875 | AR48: 通所型サービス（独自／定額） | AS48: A8 | AT48: =O48/L48 -> 0.69565217 | AU48: =O48/M48 -> 0.71111111 | AV48: =O48/N48 -> 0.8 | AW48: =O48/O48 -> 1 | BA48: 通所型サービス（独自／定額） | BB48: 対象外

Sheet 【参考】数式用2
A1: 事業所の所在地（都道府県） | C1: 事業所の所在地（市区町村）
A2: 都道府県 | C2: 都道府県 | D2: 市区町村
A3: 北海道 | C3: 北海道 | D3: 札幌市
A4: 青森県 | C4: 北海道 | D4: 函館市
A5: 岩手県 | C5: 北海道 | D5: 小樽市
A6: 宮城県 | C6: 北海道 | D6: 旭川市
A7: 秋田県 | C7: 北海道 | D7: 室蘭市
A8: 山形県 | C8: 北海道 | D8: 釧路市
A9: 福島県 | C9: 北海道 | D9: 帯広市
A10: 茨城県 | C10: 北海道 | D10: 北見市
A11: 栃木県 | C11: 北海道 | D11: 夕張市
A12: 群馬県 | C12: 北海道 | D12: 岩見沢市
A13: 埼玉県 | C13: 北海道 | D13: 網走市
... A49: 沖縄県 | C49: 北海道 | D49: 江差町
C50: 北海道 | D50: 上ノ国町
C51: 北海道 | D51: 厚沢部町
C52: 北海道 | D52: 乙部町
C53: 北海道 | D53: 奥尻町
C54: 北海道 | D54: 今金町
C55: 北海道 | D55: せたな町
C56: 北海道 | D56: 島牧村
C57: 北海道 | D57: 寿都町
C58: 北海道 | D58: 黒松内町
C59: 北海道 | D59: 蘭越町
C60: 北海道 | D60: ニセコ町
C61: 北海道 | D61: 真狩村
... C1749: 沖縄県 | D1749: 与那国町
