Workbook
Name _new1: [1]【参考】サービス名一覧!$A$4:$A$27
Name _new1: #REF!
Name erea: #REF!
Name new: #REF!
Name www: #REF!
Name www: #REF!
Name サービス: #REF!
Name サービス: #REF!
Name サービス: #REF!
Name サービス２: #REF!
Name サービス種別: [2]サービス種類一覧!$B$4:$B$20
Name サービス種類: [3]サービス種類一覧!$C$4:$C$20
Name サービス名: 【参考】数式用!#REF!
Name サービス名: #REF!
Name サービス名: #REF!
Name サービス名: #REF!
Name サービス名称: #REF!
Name 愛知県: 【参考】数式用2!$D$993:$D$1046
Name 愛媛県: 【参考】数式用2!$D$1422:$D$1441
Name 一覧: [4]加算率一覧!$A$4:$A$25
Name 茨城県: 【参考】数式用2!$D$415:$D$458
Name 岡山県: 【参考】数式用2!$D$1312:$D$1338
Name 沖縄県: 【参考】数式用2!$D$1709:$D$1749
Name 岩手県: 【参考】数式用2!$D$228:$D$260
Name 岐阜県: 【参考】数式用2!$D$916:$D$957
Name 宮崎県: 【参考】数式用2!$D$1640:$D$1665
Name 宮城県: 【参考】数式用2!$D$261:$D$295
Name 京都府: 【参考】数式用2!$D$1095:$D$1120
Name 熊本県: 【参考】数式用2!$D$1577:$D$1621
Name 群馬県: 【参考】数式用2!$D$484:$D$518
Name 広島県: 【参考】数式用2!$D$1339:$D$1361
Name 香川県: 【参考】数式用2!$D$1405:$D$1421
Name 高知県: 【参考】数式用2!$D$1442:$D$1475
Name 佐賀県: 【参考】数式用2!$D$1536:$D$1555
Name 埼玉県: 【参考】数式用2!$D$519:$D$581
Name 三重県: 【参考】数式用2!$D$1047:$D$1075
Name 山形県: 【参考】数式用2!$D$321:$D$355
Name 山口県: 【参考】数式用2!$D$1362:$D$1380
Name 山梨県: 【参考】数式用2!$D$812:$D$838
Name 滋賀県: 【参考】数式用2!$D$1076:$D$1094
Name 鹿児島県: 【参考】数式用2!$D$1666:$D$1708
Name 種類: [5]サービス種類一覧!$A$4:$A$20
Name 秋田県: 【参考】数式用2!$D$296:$D$320
Name 新潟県: 【参考】数式用2!$D$731:$D$760
Name 神奈川県: 【参考】数式用2!$D$698:$D$730
Name 青森県: 【参考】数式用2!$D$188:$D$227
Name 静岡県: 【参考】数式用2!$D$958:$D$992
Name 石川県: 【参考】数式用2!$D$776:$D$794
Name 千葉県: 【参考】数式用2!$D$582:$D$635
Name 大阪府: 【参考】数式用2!$D$1121:$D$1163
Name 大分県: 【参考】数式用2!$D$1622:$D$1639
Name 長崎県: 【参考】数式用2!$D$1556:$D$1576
Name 長野県: 【参考】数式用2!$D$839:$D$915
Name 鳥取県: 【参考】数式用2!$D$1274:$D$1292
Name 島根県: 【参考】数式用2!$D$1293:$D$1311
Name 東京都: 【参考】数式用2!$D$636:$D$697
Name 徳島県: 【参考】数式用2!$D$1381:$D$1404
Name 特定: #REF!
Name 特定: #REF!
Name 栃木県: 【参考】数式用2!$D$459:$D$483

Sheet 基本情報入力シート
A1: 実績報告書（処遇改善加算）作成用 基本情報入力シート | AC1: ↓隠し列
A3: ●はじめに本シート（基本情報入力シート）の黄色セルに入力することで、介護職員等処遇改善加算（以下、処遇改善加算）の対象事業所等に関する基本的な情報が、各様式に自動的に転記されます。
A4: 【注意】本シートは様式作成用のため、本実績報告書の提出を紙で行う場合、本シートの提出は不要です。ただし、自治体に電子媒体で提出する場合は、 本シートを削除せずそのまま提出してください。
A6: ●「別紙様式3-1」を完成させるには、「基本情報入力シート」「別紙様式3-2」から転記される情報が必要です。まずはこれらのシートを完成させてください。
A14: ●「別紙様式3－1」に記載する処遇改善加算による賃金改善の所要額について、具体的な算出方法は問いませんが、各職員に対し、処遇改善加算を原資として行った 賃金改善額を積み上げる（足し上げる）などの適切な方法により算出してください。 また、「賃金額」を記入する欄には、基本給、手当、賞与等（退職手当を除く。）を含む金額を記入してください。
A16: １ 提出先に関する情報
B17: 処遇改善加算の届出に係る提出先（指定権者）の名称を入力してください。
B18: 提出先の指定権者名 | G18: 東京都
A20: ２ 基本情報
B21: 下表に必要事項を入力してください。記入内容が別紙様式3-1及び3-2に反映されます。
B22: 法人名 | C22: フリガナ | M22: ○○ケアサービス
C23: 名称 | M23: ○○ケアサービス | AC23: 〒結合
B24: 法人住所 | C24: 〒 | M24: 100 | P24: － | Q24: 0001 | AC24: =CONCATENATE(M24,N24,O24,P24,Q24,R24,S24,T24) -> 100－0001
C25: 住所１（番地・住居番号まで） | M25: 東京都千代田区１－１－１－
C26: 住所２（建物名等） | M26: ○○ビル○○号室
B27: 法人代表者 | C27: 職名 | M27: 代表取締役
C28: 氏名 | M28: 厚労 花子
B29: 書類作成 担当者 | C29: フリガナ | M29: コウロウ タロウ
C30: 氏名 | M30: 厚労 太郎
B31: 連絡先 | C31: 電話番号 | M31: 000-0000-0000
C32: E-mail | M32: aaa@aaa.com
A34: ３ 処遇改善加算対象事業所に関する情報
B35: 下表に必要事項を入力してください。記入内容が別紙様式3-2に反映されます。
B37: 通し番号 | C37: 介護保険事業所番号 | M37: 指定権者名 | R37: 事業所の所在地 | X37: 事業所名 | Y37: サービス名 | Z37: サービスコード
R38: 都道府県 | W38: 市区町村
B39: 1 | C39: 1111111111 | M39: 東京都 | R39: 東京都 | W39: 千代田区 | X39: ○○ホームヘルプ | Y39: 訪問介護 | Z39: =IFERROR(VLOOKUP(Y39, 【参考】数式用!$A$2:$B$48, 2, FALSE), "") -> 11
B40: =B39+1 -> 2 | C40: 2222222222 | M40: 東京都 | R40: 東京都 | W40: 千代田区 | X40: ××ホームヘルプ | Y40: 訪問介護 | Z40: =IFERROR(VLOOKUP(Y40, 【参考】数式用!$A$2:$B$48, 2, FALSE), "") -> 11
B41: =B40+1 -> 3 | C41: 3333333333 | M41: 東京都 | R41: 東京都 | W41: 千代田区 | X41: △△ホームヘルプ | Y41: 訪問介護 | Z41: =IFERROR(VLOOKUP(Y41, 【参考】数式用!$A$2:$B$48, 2, FALSE), "") -> 11
B42: =B41+1 -> 4 | C42: 4444444444 | M42: 東京都 | R42: 東京都 | W42: 千代田区 | X42: ■■ホームヘルプ | Y42: 訪問介護 | Z42: =IFERROR(VLOOKUP(Y42, 【参考】数式用!$A$2:$B$48, 2, FALSE), "") -> 11
B43: =B42+1 -> 5 | C43: 1111111111 | M43: 千代田区 | R43: 東京都 | W43: 千代田区 | X43: ◇◇ホームヘルプ | Y43: 夜間対応型訪問介護 | Z43: =IFERROR(VLOOKUP(Y43, 【参考】数式用!$A$2:$B$48, 2, FALSE), "") -> 71
B44: =B43+1 -> 6 | C44: 1111111112 | M44: 千代田区 | R44: 東京都 | W44: 千代田区 | X44: ○○定巡 | Y44: 定期巡回・随時対応型訪問介護看護 | Z44: =IFERROR(VLOOKUP(Y44, 【参考】数式用!$A$2:$B$48, 2, FALSE), "") -> 76
B45: =B44+1 -> 7 | C45: 1111111113 | M45: 東京都 | R45: 東京都 | W45: 千代田区 | X45: ○○訪問入浴介護 | Y45: 訪問入浴介護 | Z45: =IFERROR(VLOOKUP(Y45, 【参考】数式用!$A$2:$B$48, 2, FALSE), "") -> 12
B46: =B45+1 -> 8 | C46: 1111111114 | M46: 東京都 | R46: 東京都 | W46: 千代田区 | X46: ○○訪問入浴介護 | Y46: 介護予防訪問入浴介護 | Z46: =IFERROR(VLOOKUP(Y46, 【参考】数式用!$A$2:$B$48, 2, FALSE), "") -> 62
B47: =B46+1 -> 9 | C47: 1111111115 | M47: 東京都 | R47: 東京都 | W47: 千代田区 | X47: ○○デイケア | Y47: 通所介護 | Z47: =IFERROR(VLOOKUP(Y47, 【参考】数式用!$A$2:$B$48, 2, FALSE), "") -> 15
B48: =B47+1 -> 10 | C48: 1111111116 | M48: 千代田区 | R48: 東京都 | W48: 千代田区 | X48: ○○デイケア | Y48: 地域密着型通所介護 | Z48: =IFERROR(VLOOKUP(Y48, 【参考】数式用!$A$2:$B$48, 2, FALSE), "") -> 78
B49: =B48+1 -> 11 | C49: 1111111117 | M49: 東京都 | R49: 東京都 | W49: 千代田区 | X49: ○○リハ | Y49: 通所リハビリテーション | Z49: =IFERROR(VLOOKUP(Y49, 【参考】数式用!$A$2:$B$48, 2, FALSE), "") -> 16
B50: =B49+1 -> 12 | C50: 1111111118 | M50: 東京都 | R50: 東京都 | W50: 千代田区 | X50: ○○リハ | Y50: 介護予防通所リハビリテーション | Z50: =IFERROR(VLOOKUP(Y50, 【参考】数式用!$A$2:$B$48, 2, FALSE), "") -> 66
B51: =B50+1 -> 13 | C51: 1111111119 | M51: 東京都 | R51: 東京都 | W51: 千代田区 | X51: ○○の杜 | Y51: 特定施設入居者生活介護 | Z51: =IFERROR(VLOOKUP(Y51, 【参考】数式用!$A$2:$B$48, 2, FALSE), "") -> 33
... B85: =B84+1 -> 47 | C85: 1111111153 | M85: 千代田区 | R85: 東京都 | W85: 千代田区 | X85: ○○デイケア | Y85: 通所型サービス（独自／定額） | Z85: =IFERROR(VLOOKUP(Y85, 【参考】数式用!$A$2:$B$48, 2, FALSE), "") -> A8
B86: =B85+1 -> 48 | Z86: =IFERROR(VLOOKUP(Y86, 【参考】数式用!$A$2:$B$48, 2, FALSE), "")
...

Sheet 別紙様式3-1（処遇改善加算　総括表）
B1: 別紙様式３－１ | Z1: 提出先 | AD1: =IF(基本情報入力シート!G18="","",基本情報入力シート!G18) -> 東京都
B3: 介護職員等処遇改善加算 実績報告書（令和７年度）
B5: １ 基本情報
B6: フリガナ | H6: =IF(基本情報入力シート!M22="","",基本情報入力シート!M22) -> ○○ケアサービス
B7: 法人名 | H7: =IF(基本情報入力シート!M23="","",基本情報入力シート!M23) -> ○○ケアサービス
B8: 法人所在地 | H8: 〒 | I8: =IF(基本情報入力シート!AC24="－","",基本情報入力シート!AC24) -> 100－0001
H9: =IF(基本情報入力シート!M25="","",基本情報入力シート!M25) -> 東京都千代田区１－１－１－
H10: =IF(基本情報入力シート!M26="","",基本情報入力シート!M26) -> ○○ビル○○号室
B11: フリガナ | H11: =IF(基本情報入力シート!M29="","",基本情報入力シート!M29) -> コウロウ タロウ
B12: 書類作成担当者 | H12: =IF(基本情報入力シート!M30="","",基本情報入力シート!M30) -> 厚労 太郎
B13: 連絡先 | H13: 電話番号 | L13: =IF(基本情報入力シート!M31="","",基本情報入力シート!M31) -> 000-0000-0000 | V13: E-mail | Z13: =IF(基本情報入力シート!M32="","",基本情報入力シート!M32) -> aaa@aaa.com
B15: ２ 実績報告について
B16: （１）加算額以上の賃金改善について（全体）
B17: 算定した加算の合計
B18: ① | C18: 令和７年度の加算額 | W18: ='別紙様式3-2（処遇改善加算 個票）'!N5 -> 628382501 | AC18: 円
B19: ② | C19: 令和６年度に令和７年度の賃金改善に充てるために繰り越した額 | W19: 10000000 | AC19: 円 | AD19: ←
B20: ③ | C20: 令和７年度に賃金改善が必要な額（a + b) | W20: =W18+W19 -> 638382501 | AC20: 円 | AD20: ← | AE20: =IF(H7="", "", IFERROR(IF(W21>=W20,"○","×"),"")) -> ○ | AQ20: ！④賃金改善額 (d) が ③賃金改善が必要な額 (c) を下回っています。
B21: ④ | C21: 令和７年度の賃金改善額 （③の額以上となること。介護人材確保・職場環境改善等事業から人件費に充てた額を除く。） | W21: 640000000 | AC21: 円 | AD21: ←
B22: 【記入上の注意】
B23: ・ | C23: (d)には、処遇改善加算の算定により実施する介護職員の賃金改善の額を計算し、記入すること。その際、加算による賃金改善を行った場合の法定福利費等の事業主負担の増加分を含めることができる。
B25: （２）加算以外の部分で賃金水準を下げないことについて
B26: ① | C26: 令和７年度の加算の影響を除いた賃金額 | Q26: =Q27-Q28-Q29 -> 320500000 | W26: 円 | X26: ← | Y26: =IF(H7="", "", IF(Q30="","",IF(Q26="","",IF(Q26>=Q30,"○","×")))) -> ○ | AQ26: ！この欄が「×」の場合、加算以外の部分で賃金水準が引き下げられています。この欄が「×」のまま提出する場合には、別紙様式５「特別な事情に係る届出書」を合わせて提出してください。 ※「処遇改善加算等による賃金改善以外の部分で賃金水準を引き下げない」とは、令和７年度と令和６年度の加算等を除いた賃金総額を比較した上で、当該賃金総額が引き下がっていないことをいいます。 具体的には、「令和７年度の賃金の総額（f）」から「令和７年度の賃金改善額(g)」及び「介護人材確保・職場環境改善等事業から人件費に充てた額(h)」を除いた額（e = f - g - h）と、「令和６年度の賃金の総額(j)」から令和６年度の各加算額、補助金額及び独自の賃金改善額 (k + l + m) 」を除いた額 {i = j - (k + l + m)} を比較した上で、加算等の影響を除いた賃金額の水準を引き下げないことをいいます。
C27: （ア）令和７年度の賃金の総額 | Q27: 1000000000 | W27: 円
C28: （イ）令和７年度の賃金改善額（再掲） | Q28: =W21 -> 640000000 | W28: 円
C29: （ウ）介護人材確保・職場環境改善等事業から 人件費に充てた額 | Q29: 39500000 | W29: 円
B30: ② | C30: 令和６年度の加算及び独自の賃金改善の影響を除いた賃金額（①の額は②の額を下回らないこと） | Q30: =Q31-Q32-Q33-Q34 -> 315000000 | W30: 円 | X30: ←
C31: (ア)令和６年度の賃金の総額 | Q31: 950000000 | W31: 円
C32: (イ)令和６年度の旧３加算及び処遇改善加算の総額 | Q32: 600000000 | W32: 円
C33: (ウ)令和６年４・５月分の処遇改善支援補助金 の総額 | Q33: 5000000 | W33: 円
C34: (エ)令和６年度の各介護サービス事業者等の 独自の賃金改善額 | Q34: 30000000 | W34: 円
B36: 【記入上の注意】
B37: ・ | C37: (j) には、職員構成が変わった等の事由により、例えば、本年度に入職（退職）した職員と同等の賃金水準の職員が前年度から在籍していた（いなかった）ものと仮定して計算するなどの方法により、今年度との比較に適した値に修正することが可能である。
B38: ・ | C38: (k)は、国民健康保険団体連合会から送付される「介護職員処遇改善加算等総額のお知らせ」及び「介護職員処遇改善加算等内訳のお知らせ」に基づいて記入すること。(l)は、国民健康保険団体連合会から送付される「介護職員処遇改善支援補助金 支払額通知書」及び「介護職員処遇改善支援補助金 支払額内訳書」に基づいて記載すること。
B39: ・ | C39: (m)の独自の賃金改善額とは、令和６年度における独自の賃金改善分（初めて処遇改善加算を取得した年度以降に新たに行ったものに限る。旧３加算・処遇改善加算そのものの配分を除く。）をいうものであり、処遇改善加算等の加算額を超えて賃金改善を行った場合にはその金額も含む。(m)に計上する金額がある場合には、必ず「２（３） 令和６年度の独自の賃金改善（処遇改善加算等の配分以外の独自の賃金額）」欄に支給額、方法等の具体的な賃金改善の内容を記載すること。
B41: （３）令和６年度の独自の賃金改善（処遇改善加算等の配分以外の独自の賃金額）
B42: ・ | C42: ２（2) ②(エ)の「令和６年度の各介護サービス事業者等の独自の賃金改善額」に計上する場合は記載すること。
B43: 独自の賃金改善の具体的な取組内容 | F43: （例） ・令和６年度の旧３加算及び処遇改善加算並びに補助金を上回るために行った賃金改善（余剰分） ○○○円 ・加算等を原資としない△△手当の創設・維持に要する費用 ○○○円 | AQ43: ！「独自の賃金改善の具体的な取組内容」及び「独自の賃金改善額の算定根拠」を記載してください。
B44: 独自の賃金改善額の算定根拠 | F44: （例） ・基本給の処遇改善加算等を原資とする部分と処遇改善手当の総額（○○○円）から２（２）②イ・ウの総額（○○○円）を除して、○○○円 ・加算等を原資としない△△手当は、対象者〇人×○円×１２か月＝○○○円
B46: ３ 介護職員等処遇改善加算の要件について
B47: （１）月額賃金改善要件Ⅰ（処遇改善加算Ⅳの１/２以上の月額賃金改善） 【処遇改善加算Ⅰ～Ⅳ】 | AM47: 処遇改善加算Ⅰ～Ⅳ | AN47: =COUNTIF('別紙様式3-2（処遇改善加算 個票）'!P:P,"処遇改善加算Ⅰ")+COUNTIF('別紙様式3-2（処遇改善加算 個票）'!P:P,"処遇改善加算Ⅱ")+COUNTIF('別紙様式3-2（処遇改善加算 個票）'!P:P,"処遇改善加算Ⅲ")+COUNTIF('別紙様式3-2（処遇改善加算 個票）'!P:P,"処遇改善加算Ⅳ")+COUNTIF('別紙様式3-2（処遇改善加算 個票）'!Y:Y,"処遇改善加算Ⅰ")+COUNTIF('別紙様式3-2（処遇改善加算 個票）'!Y:Y,"処遇改善加算Ⅱ")+COUNTIF('別紙様式3-2（処遇改善加算 個票）'!Y:Y,"処遇改善加算Ⅲ")+COUNTIF('別紙様式3-2（処遇改善加算 個票）'!Y:Y,"処遇改善加算Ⅳ") -> 47
...

Sheet 別紙様式3-2（処遇改善加算　個票）
A1: 別紙様式３－２個票（令和７年４月以降分） | AB1: 提出先 | AD1: =IF(基本情報入力シート!G18="","",基本情報入力シート!G18) -> 東京都
A3: 法人名 | F3: =IF(基本情報入力シート!M23="","",基本情報入力シート!M23) -> ○○ケアサービス
W4: キャリアパス要件Ⅳについて
B5: 処遇改善加算の加算額［円］ | N5: =IFERROR(SUM(Q:R)+SUM(Z:Z),"") -> 628382501 | O5: 円 | W5: 処遇改善加算 （令和７年度の算定期間①） | X5: 改善後の賃金が年額440万円以上となる者の数 | AB5: =SUM(W:X) -> 17 | AC5: =IF(AB6=0, "", IF(AB5>=AB6,"○","×")) -> × | AD5: ⇒この欄が「×」の場合、 別紙様式3-1 ３（５）に特別な事情を記入
D6: うち、処遇改善加算Ⅳ相当の加算額の１/２［円］ （別紙様式3-1 ３⑴に転記） | N6: =SUM(S:S, AA:AA) -> 215743105 | O6: 円 | X6: 処遇改善加算Ⅰ・Ⅱの算定を届け出た事業所数 （短期入所・予防・総合事業での重複除く） | AB6: =SUM(AI:AI) -> 18
D7: うち、新規に増加する旧ベースアップ等加算相当の加算額［円］ （別紙様式3-1 ３⑵に転記） | N7: =ROUNDDOWN(SUM(U:U,AC:AD),0) -> 13884189 | O7: 円 | W7: 処遇改善加算 （令和７年度の算定期間② （区分変更後）） | X7: 改善後の賃金が年額440万円以上となる者の数 | AB7: =SUM(AF:AF) -> 0 | AC7: =IF(AB8=0, "", IF(AB7>=AB8,"○","×")) | AD7: ⇒この欄が「×」の場合、 別紙様式3-1 ３（５）に特別な事情を記入
B8: 【記入上の注意】 ・本表に記載する事業所は、計画書の「別紙様式２－２」に記載した事業所と一致しなければならない。 ・事業所ごとの加算の総額は、国民健康保険団体連合会から送付される「介護職員等処遇改善加算総額のお知らせ」及び「介護職員等処遇改善加算内訳のお知らせ」に基づいて記入すること。 | X8: 処遇改善加算Ⅰ・Ⅱの算定を届け出た事業所数 （短期入所・予防・総合事業での重複除く） | AB8: =SUM(AJ:AJ) -> 0
B10: 介護保険 事業所 番号 | J10: 指定権者 | K10: 事業所の所在地 | M10: 事業所名 | N10: サービス名 | O10: 令和７年３月 時点の算定状況 | P10: 介護職員等処遇改善加算 | AG10: 月額賃金改善要件Ⅱの対応要否 （令和７年３月時点の区分が算定対象であれば加算区分を表示） | AH10: キャリアパス要件Ⅳの適用 | AI10: キャリアパス要件Ⅳの必要数チェック （併設の場合０）
P11: 令和７年度の算定期間① | Y11: 令和７年度の算定期間②（令和７年度内の区分変更後）
P12: 算定した 加算区分 | Q12: 加算の総額 ［円］ | S12: 加算Ⅳ相当の加算額の１/２ | T12: 月額賃金改善要件Ⅰ | U12: 新規に増加する旧ベースアップ等加算相当の加算の見込額［円］ | V12: 月額賃金要件Ⅱ | W12: キャリアパス 要件Ⅳ | Y12: 令和７年度内の区分変更後に 算定した加算区分 | Z12: 加算の総額 ［円］ | AA12: 加算Ⅳ相当の加算額の１/２ | AB12: 月額賃金改善要件Ⅰ | AC12: 新規に増加する旧ベースアップ等加算相当の加算の見込額［円］ | AE12: 月額賃金要件Ⅱ | AF12: キャリアパス 要件Ⅳ
K13: 都道府県 | L13: 市区町村 | W13: 改善後の賃金要件（年額440万円以上）を満たす職員数［人］ | AF13: 改善後の賃金要件（年額440万円以上）を満たす職員数［人］ | AI13: 処遇改善加算（令和７年度の算定期間①） | AJ13: 処遇改善加算（令和７年度の算定期間②（期中移行後））
A14: 1 | B14: =IF(基本情報入力シート!C39="","",基本情報入力シート!C39) -> 1111111111 | J14: =IF(基本情報入力シート!M39="","",基本情報入力シート!M39) -> 東京都 | K14: =IF(基本情報入力シート!R39="","",基本情報入力シート!R39) -> 東京都 | L14: =IF(基本情報入力シート!W39="","",基本情報入力シート!W39) -> 千代田区 | M14: =IF(基本情報入力シート!X39="","",基本情報入力シート!X39) -> ○○ホームヘルプ | N14: =IF(基本情報入力シート!Y39="","",基本情報入力シート!Y39) -> 訪問介護 | O14: 処遇改善加算Ⅰ | P14: 処遇改善加算Ⅰ | Q14: 25140000 | S14: =IFERROR(ROUNDDOWN(Q14*VLOOKUP(N14,【参考】数式用!$AR$2:$AW$48,MATCH(P14,【参考】数式用!$AT$4:$AW$4)+2,FALSE)*0.5, 0), "") -> 7439387 | T14: ○ | U14: =IFERROR(IF(AG14<>"",Q14*VLOOKUP(N14,【参考】数式用!$AG$2:$AL$48,MATCH(P14,【参考】数式用!$AI$4:$AL$4,0)+2,0), ""), "") | Y14: ― | AA14: =IFERROR(IF(Y14="ー", "", ROUNDDOWN(Z14*VLOOKUP(N14,【参考】数式用!$AR$2:$AW$48,MATCH(Y14,【参考】数式用!$AT$4:$AW$4)+2,FALSE)*0.5, 0)), "") | AC14: =IFERROR(IF(AG14<>"",Z14*VLOOKUP(N14,【参考】数式用!$AG$2:$AL$48,MATCH(Y14,【参考】数式用!$AI$4:$AL$4,0)+2,0), ""), "") | AG14: =IFERROR(VLOOKUP(O14, 【参考】数式用!$AY$5:$AY$13, 1, FALSE), "") | AH14: =IFERROR(VLOOKUP(N14, 【参考】数式用!$BA$2:$BB$48, 2, FALSE), "") -> 対象 | AI14: =IF(AND(OR(P14="処遇改善加算Ⅰ",P14="処遇改善加算Ⅱ"),AH14="対象"), 1,"") -> 1 | AJ14: =IF(OR(Y14="処遇改善加算Ⅰ",Y14="処遇改善加算Ⅱ"),IF(AND(N14<>"訪問型サービス（総合事業）",N14<>"通所型サービス（総合事業）",N14<>"（介護予防）短期入所生活介護",N14<>"（介護予防）短期入所療養介護（老健）",N14<>"（介護予防）短期入所療養介護 （病院等（老健以外）)",N14<>"（介護予防）短期入所療養介護（医療院）"),1,""),"")
A15: 2 | B15: =IF(基本情報入力シート!C40="","",基本情報入力シート!C40) -> 2222222222 | J15: =IF(基本情報入力シート!M40="","",基本情報入力シート!M40) -> 東京都 | K15: =IF(基本情報入力シート!R40="","",基本情報入力シート!R40) -> 東京都 | L15: =IF(基本情報入力シート!W40="","",基本情報入力シート!W40) -> 千代田区 | M15: =IF(基本情報入力シート!X40="","",基本情報入力シート!X40) -> ××ホームヘルプ | N15: =IF(基本情報入力シート!Y40="","",基本情報入力シート!Y40) -> 訪問介護 | O15: 処遇改善加算Ⅱ | P15: 処遇改善加算Ⅱ | Q15: 20000000 | S15: =IFERROR(ROUNDDOWN(Q15*VLOOKUP(N15,【参考】数式用!$AR$2:$AW$48,MATCH(P15,【参考】数式用!$AT$4:$AW$4)+2,FALSE)*0.5, 0), "") -> 6473214 | T15: ○ | U15: =IFERROR(IF(AG15<>"",Q15*VLOOKUP(N15,【参考】数式用!$AG$2:$AL$48,MATCH(P15,【参考】数式用!$AI$4:$AL$4,0)+2,0), ""), "") | W15: 1 | Y15: ― | AA15: =IFERROR(IF(Y15="ー", "", ROUNDDOWN(Z15*VLOOKUP(N15,【参考】数式用!$AR$2:$AW$48,MATCH(Y15,【参考】数式用!$AT$4:$AW$4)+2,FALSE)*0.5, 0)), "") | AC15: =IFERROR(IF(AG15<>"",Z15*VLOOKUP(N15,【参考】数式用!$AG$2:$AL$48,MATCH(Y15,【参考】数式用!$AI$4:$AL$4,0)+2,0), ""), "") | AG15: =IFERROR(VLOOKUP(O15, 【参考】数式用!$AY$5:$AY$13, 1, FALSE), "") | AH15: =IFERROR(VLOOKUP(N15, 【参考】数式用!$BA$2:$BB$48, 2, FALSE), "") -> 対象 | AI15: =IF(AND(OR(P15="処遇改善加算Ⅰ",P15="処遇改善加算Ⅱ"),AH15="対象"), 1,"") -> 1 | AJ15: =IF(OR(Y15="処遇改善加算Ⅰ",Y15="処遇改善加算Ⅱ"),IF(AND(N15<>"訪問型サービス（総合事業）",N15<>"通所型サービス（総合事業）",N15<>"（介護予防）短期入所生活介護",N15<>"（介護予防）短期入所療養介護（老健）",N15<>"（介護予防）短期入所療養介護 （病院等（老健以外）)",N15<>"（介護予防）短期入所療養介護（医療院）"),1,""),"")
A16: 3 | B16: =IF(基本情報入力シート!C41="","",基本情報入力シート!C41) -> 3333333333 | J16: =IF(基本情報入力シート!M41="","",基本情報入力シート!M41) -> 東京都 | K16: =IF(基本情報入力シート!R41="","",基本情報入力シート!R41) -> 東京都 | L16: =IF(基本情報入力シート!W41="","",基本情報入力シート!W41) -> 千代田区 | M16: =IF(基本情報入力シート!X41="","",基本情報入力シート!X41) -> △△ホームヘルプ | N16: =IF(基本情報入力シート!Y41="","",基本情報入力シート!Y41) -> 訪問介護 | O16: 処遇改善加算Ⅲ | P16: 処遇改善加算Ⅲ | Q16: 15000000 | S16: =IFERROR(ROUNDDOWN(Q16*VLOOKUP(N16,【参考】数式用!$AR$2:$AW$48,MATCH(P16,【参考】数式用!$AT$4:$AW$4)+2,FALSE)*0.5, 0), "") -> 5975274 | T16: ○ | U16: =IFERROR(IF(AG16<>"",Q16*VLOOKUP(N16,【参考】数式用!$AG$2:$AL$48,MATCH(P16,【参考】数式用!$AI$4:$AL$4,0)+2,0), ""), "") | Y16: ― | AA16: =IFERROR(IF(Y16="ー", "", ROUNDDOWN(Z16*VLOOKUP(N16,【参考】数式用!$AR$2:$AW$48,MATCH(Y16,【参考】数式用!$AT$4:$AW$4)+2,FALSE)*0.5, 0)), "") | AC16: =IFERROR(IF(AG16<>"",Z16*VLOOKUP(N16,【参考】数式用!$AG$2:$AL$48,MATCH(Y16,【参考】数式用!$AI$4:$AL$4,0)+2,0), ""), "") | AG16: =IFERROR(VLOOKUP(O16, 【参考】数式用!$AY$5:$AY$13, 1, FALSE), "") | AH16: =IFERROR(VLOOKUP(N16, 【参考】数式用!$BA$2:$BB$48, 2, FALSE), "") -> 対象 | AI16: =IF(AND(OR(P16="処遇改善加算Ⅰ",P16="処遇改善加算Ⅱ"),AH16="対象"), 1,"") | AJ16: =IF(OR(Y16="処遇改善加算Ⅰ",Y16="処遇改善加算Ⅱ"),IF(AND(N16<>"訪問型サービス（総合事業）",N16<>"通所型サービス（総合事業）",N16<>"（介護予防）短期入所生活介護",N16<>"（介護予防）短期入所療養介護（老健）",N16<>"（介護予防）短期入所療養介護 （病院等（老健以外）)",N16<>"（介護予防）短期入所療養介護（医療院）"),1,""),"")
A17: 4 | B17: =IF(基本情報入力シート!C42="","",基本情報入力シート!C42) -> 4444444444 | J17: =IF(基本情報入力シート!M42="","",基本情報入力シート!M42) -> 東京都 | K17: =IF(基本情報入力シート!R42="","",基本情報入力シート!R42) -> 東京都 | L17: =IF(基本情報入力シート!W42="","",基本情報入力シート!W42) -> 千代田区 | M17: =IF(基本情報入力シート!X42="","",基本情報入力シート!X42) -> ■■ホームヘルプ | N17: =IF(基本情報入力シート!Y42="","",基本情報入力シート!Y42) -> 訪問介護 | O17: 処遇改善加算Ⅳ | P17: 処遇改善加算Ⅳ | Q17: 11000000 | S17: =IFERROR(ROUNDDOWN(Q17*VLOOKUP(N17,【参考】数式用!$AR$2:$AW$48,MATCH(P17,【参考】数式用!$AT$4:$AW$4)+2,FALSE)*0.5, 0), "") -> 5500000 | T17: ○ | U17: =IFERROR(IF(AG17<>"",Q17*VLOOKUP(N17,【参考】数式用!$AG$2:$AL$48,MATCH(P17,【参考】数式用!$AI$4:$AL$4,0)+2,0), ""), "") | Y17: ― | AA17: =IFERROR(IF(Y17="ー", "", ROUNDDOWN(Z17*VLOOKUP(N17,【参考】数式用!$AR$2:$AW$48,MATCH(Y17,【参考】数式用!$AT$4:$AW$4)+2,FALSE)*0.5, 0)), "") | AC17: =IFERROR(IF(AG17<>"",Z17*VLOOKUP(N17,【参考】数式用!$AG$2:$AL$48,MATCH(Y17,【参考】数式用!$AI$4:$AL$4,0)+2,0), ""), "") | AG17: =IFERROR(VLOOKUP(O17, 【参考】数式用!$AY$5:$AY$13, 1, FALSE), "") | AH17: =IFERROR(VLOOKUP(N17, 【参考】数式用!$BA$2:$BB$48, 2, FALSE), "") -> 対象 | AI17: =IF(AND(OR(P17="処遇改善加算Ⅰ",P17="処遇改善加算Ⅱ"),AH17="対象"), 1,"") | AJ17: =IF(OR(Y17="処遇改善加算Ⅰ",Y17="処遇改善加算Ⅱ"),IF(AND(N17<>"訪問型サービス（総合事業）",N17<>"通所型サービス（総合事業）",N17<>"（介護予防）短期入所生活介護",N17<>"（介護予防）短期入所療養介護（老健）",N17<>"（介護予防）短期入所療養介護 （病院等（老健以外）)",N17<>"（介護予防）短期入所療養介護（医療院）"),1,""),"")
A18: 5 | B18: =IF(基本情報入力シート!C43="","",基本情報入力シート!C43) -> 1111111111 | J18: =IF(基本情報入力シート!M43="","",基本情報入力シート!M43) -> 千代田区 | K18: =IF(基本情報入力シート!R43="","",基本情報入力シート!R43) -> 東京都 | L18: =IF(基本情報入力シート!W43="","",基本情報入力シート!W43) -> 千代田区 | M18: =IF(基本情報入力シート!X43="","",基本情報入力シート!X43) -> ◇◇ホームヘルプ | N18: =IF(基本情報入力シート!Y43="","",基本情報入力シート!Y43) -> 夜間対応型訪問介護 | O18: 処遇改善加算Ⅴ（１） | P18: 処遇改善加算Ⅱ | Q18: 25137000 | S18: =IFERROR(ROUNDDOWN(Q18*VLOOKUP(N18,【参考】数式用!$AR$2:$AW$48,MATCH(P18,【参考】数式用!$AT$4:$AW$4)+2,FALSE)*0.5, 0), "") -> 8135859 | T18: ○ | U18: =IFERROR(IF(AG18<>"",Q18*VLOOKUP(N18,【参考】数式用!$AG$2:$AL$48,MATCH(P18,【参考】数式用!$AI$4:$AL$4,0)+2,0), ""), "") -> 2693250 | V18: ○ | W18: 1 | Y18: ― | AA18: =IFERROR(IF(Y18="ー", "", ROUNDDOWN(Z18*VLOOKUP(N18,【参考】数式用!$AR$2:$AW$48,MATCH(Y18,【参考】数式用!$AT$4:$AW$4)+2,FALSE)*0.5, 0)), "") | AC18: =IFERROR(IF(AG18<>"",Z18*VLOOKUP(N18,【参考】数式用!$AG$2:$AL$48,MATCH(Y18,【参考】数式用!$AI$4:$AL$4,0)+2,0), ""), "") | AG18: =IFERROR(VLOOKUP(O18, 【参考】数式用!$AY$5:$AY$13, 1, FALSE), "") -> 処遇改善加算Ⅴ（１） | AH18: =IFERROR(VLOOKUP(N18, 【参考】数式用!$BA$2:$BB$48, 2, FALSE), "") -> 対象 | AI18: =IF(AND(OR(P18="処遇改善加算Ⅰ",P18="処遇改善加算Ⅱ"),AH18="対象"), 1,"") -> 1 | AJ18: =IF(OR(Y18="処遇改善加算Ⅰ",Y18="処遇改善加算Ⅱ"),IF(AND(N18<>"訪問型サービス（総合事業）",N18<>"通所型サービス（総合事業）",N18<>"（介護予防）短期入所生活介護",N18<>"（介護予防）短期入所療養介護（老健）",N18<>"（介護予防）短期入所療養介護 （病院等（老健以外）)",N18<>"（介護予防）短期入所療養介護（医療院）"),1,""),"")
A19: 6 | B19: =IF(基本情報入力シート!C44="","",基本情報入力シート!C44) -> 1111111112 | J19: =IF(基本情報入力シート!M44="","",基本情報入力シート!M44) -> 千代田区 | K19: =IF(基本情報入力シート!R44="","",基本情報入力シート!R44) -> 東京都 | L19: =IF(基本情報入力シート!W44="","",基本情報入力シート!W44) -> 千代田区 | M19: =IF(基本情報入力シート!X44="","",基本情報入力シート!X44) -> ○○定巡 | N19: =IF(基本情報入力シート!Y44="","",基本情報入力シート!Y44) -> 定期巡回・随時対応型訪問介護看護 | O19: 処遇改善加算Ⅴ（２） | P19: 処遇改善加算Ⅱ | Q19: 25137000 | S19: =IFERROR(ROUNDDOWN(Q19*VLOOKUP(N19,【参考】数式用!$AR$2:$AW$48,MATCH(P19,【参考】数式用!$AT$4:$AW$4)+2,FALSE)*0.5, 0), "") -> 8135859 | T19: ○ | U19: =IFERROR(IF(AG19<>"",Q19*VLOOKUP(N19,【参考】数式用!$AG$2:$AL$48,MATCH(P19,【参考】数式用!$AI$4:$AL$4,0)+2,0), ""), "") | W19: 1 | Y19: ― | AA19: =IFERROR(IF(Y19="ー", "", ROUNDDOWN(Z19*VLOOKUP(N19,【参考】数式用!$AR$2:$AW$48,MATCH(Y19,【参考】数式用!$AT$4:$AW$4)+2,FALSE)*0.5, 0)), "") | AC19: =IFERROR(IF(AG19<>"",Z19*VLOOKUP(N19,【参考】数式用!$AG$2:$AL$48,MATCH(Y19,【参考】数式用!$AI$4:$AL$4,0)+2,0), ""), "") | AG19: =IFERROR(VLOOKUP(O19, 【参考】数式用!$AY$5:$AY$13, 1, FALSE), "") | AH19: =IFERROR(VLOOKUP(N19, 【参考】数式用!$BA$2:$BB$48, 2, FALSE), "") -> 対象 | AI19: =IF(AND(OR(P19="処遇改善加算Ⅰ",P19="処遇改善加算Ⅱ"),AH19="対象"), 1,"") -> 1 | AJ19: =IF(OR(Y19="処遇改善加算Ⅰ",Y19="処遇改善加算Ⅱ"),IF(AND(N19<>"訪問型サービス（総合事業）",N19<>"通所型サービス（総合事業）",N19<>"（介護予防）短期入所生活介護",N19<>"（介護予防）短期入所療養介護（老健）",N19<>"（介護予防）短期入所療養介護 （病院等（老健以外）)",N19<>"（介護予防）短期入所療養介護（医療院）"),1,""),"")
A20: 7 | B20: =IF(基本情報入力シート!C45="","",基本情報入力シート!C45) -> 1111111113 | J20: =IF(基本情報入力シート!M45="","",基本情報入力シート!M45) -> 東京都 | K20: =IF(基本情報入力シート!R45="","",基本情報入力シート!R45) -> 東京都 | L20: =IF(基本情報入力シート!W45="","",基本情報入力シート!W45) -> 千代田区 | M20: =IF(基本情報入力シート!X45="","",基本情報入力シート!X45) -> ○○訪問入浴介護 | N20: =IF(基本情報入力シート!Y45="","",基本情報入力シート!Y45) -> 訪問入浴介護 | O20: 処遇改善加算Ⅴ（３） | P20: 処遇改善加算Ⅱ | Q20: 9000000 | S20: =IFERROR(ROUNDDOWN(Q20*VLOOKUP(N20,【参考】数式用!$AR$2:$AW$48,MATCH(P20,【参考】数式用!$AT$4:$AW$4)+2,FALSE)*0.5, 0), "") -> 3015957 | T20: ○ | U20: =IFERROR(IF(AG20<>"",Q20*VLOOKUP(N20,【参考】数式用!$AG$2:$AL$48,MATCH(P20,【参考】数式用!$AI$4:$AL$4,0)+2,0), ""), "") -> 1053191.5 | V20: ○ | W20: 1 | Y20: ― | AA20: =IFERROR(IF(Y20="ー", "", ROUNDDOWN(Z20*VLOOKUP(N20,【参考】数式用!$AR$2:$AW$48,MATCH(Y20,【参考】数式用!$AT$4:$AW$4)+2,FALSE)*0.5, 0)), "") | AC20: =IFERROR(IF(AG20<>"",Z20*VLOOKUP(N20,【参考】数式用!$AG$2:$AL$48,MATCH(Y20,【参考】数式用!$AI$4:$AL$4,0)+2,0), ""), "") | AG20: =IFERROR(VLOOKUP(O20, 【参考】数式用!$AY$5:$AY$13, 1, FALSE), "") -> 処遇改善加算Ⅴ（３） | AH20: =IFERROR(VLOOKUP(N20, 【参考】数式用!$BA$2:$BB$48, 2, FALSE), "") -> 対象 | AI20: =IF(AND(OR(P20="処遇改善加算Ⅰ",P20="処遇改善加算Ⅱ"),AH20="対象"), 1,"") -> 1 | AJ20: =IF(OR(Y20="処遇改善加算Ⅰ",Y20="処遇改善加算Ⅱ"),IF(AND(N20<>"訪問型サービス（総合事業）",N20<>"通所型サービス（総合事業）",N20<>"（介護予防）短期入所生活介護",N20<>"（介護予防）短期入所療養介護（老健）",N20<>"（介護予防）短期入所療養介護 （病院等（老健以外）)",N20<>"（介護予防）短期入所療養介護（医療院）"),1,""),"")
A21: 8 | B21: =IF(基本情報入力シート!C46="","",基本情報入力シート!C46) -> 1111111114 | J21: =IF(基本情報入力シート!M46="","",基本情報入力シート!M46) -> 東京都 | K21: =IF(基本情報入力シート!R46="","",基本情報入力シート!R46) -> 東京都 | L21: =IF(基本情報入力シート!W46="","",基本情報入力シート!W46) -> 千代田区 | M21: =IF(基本情報入力シート!X46="","",基本情報入力シート!X46) -> ○○訪問入浴介護 | N21: =IF(基本情報入力シート!Y46="","",基本情報入力シート!Y46) -> 介護予防訪問入浴介護 | O21: 処遇改善加算Ⅴ（４） | P21: 処遇改善加算Ⅱ | Q21: 9000001 | S21: =IFERROR(ROUNDDOWN(Q21*VLOOKUP(N21,【参考】数式用!$AR$2:$AW$48,MATCH(P21,【参考】数式用!$AT$4:$AW$4)+2,FALSE)*0.5, 0), "") -> 3015957 | T21: ○ | U21: =IFERROR(IF(AG21<>"",Q21*VLOOKUP(N21,【参考】数式用!$AG$2:$AL$48,MATCH(P21,【参考】数式用!$AI$4:$AL$4,0)+2,0), ""), "") | Y21: ― | AA21: =IFERROR(IF(Y21="ー", "", ROUNDDOWN(Z21*VLOOKUP(N21,【参考】数式用!$AR$2:$AW$48,MATCH(Y21,【参考】数式用!$AT$4:$AW$4)+2,FALSE)*0.5, 0)), "") | AC21: =IFERROR(IF(AG21<>"",Z21*VLOOKUP(N21,【参考】数式用!$AG$2:$AL$48,MATCH(Y21,【参考】数式用!$AI$4:$AL$4,0)+2,0), ""), "") | AG21: =IFERROR(VLOOKUP(O21, 【参考】数式用!$AY$5:$AY$13, 1, FALSE), "") | AH21: =IFERROR(VLOOKUP(N21, 【参考】数式用!$BA$2:$BB$48, 2, FALSE), "") -> 対象外 | AI21: =IF(AND(OR(P21="処遇改善加算Ⅰ",P21="処遇改善加算Ⅱ"),AH21="対象"), 1,"") | AJ21: =IF(OR(Y21="処遇改善加算Ⅰ",Y21="処遇改善加算Ⅱ"),IF(AND(N21<>"訪問型サービス（総合事業）",N21<>"通所型サービス（総合事業）",N21<>"（介護予防）短期入所生活介護",N21<>"（介護予防）短期入所療養介護（老健）",N21<>"（介護予防）短期入所療養介護 （病院等（老健以外）)",N21<>"（介護予防）短期入所療養介護（医療院）"),1,""),"")
A22: 9 | B22: =IF(基本情報入力シート!C47="","",基本情報入力シート!C47) -> 1111111115 | J22: =IF(基本情報入力シート!M47="","",基本情報入力シート!M47) -> 東京都 | K22: =IF(基本情報入力シート!R47="","",基本情報入力シート!R47) -> 東京都 | L22: =IF(基本情報入力シート!W47="","",基本情報入力シート!W47) -> 千代田区 | M22: =IF(基本情報入力シート!X47="","",基本情報入力シート!X47) -> ○○デイケア | N22: =IF(基本情報入力シート!Y47="","",基本情報入力シート!Y47) -> 通所介護 | O22: 処遇改善加算Ⅴ（５） | P22: 処遇改善加算Ⅱ | Q22: 8000000 | S22: =IFERROR(ROUNDDOWN(Q22*VLOOKUP(N22,【参考】数式用!$AR$2:$AW$48,MATCH(P22,【参考】数式用!$AT$4:$AW$4)+2,FALSE)*0.5, 0), "") -> 2844444 | T22: ○ | U22: =IFERROR(IF(AG22<>"",Q22*VLOOKUP(N22,【参考】数式用!$AG$2:$AL$48,MATCH(P22,【参考】数式用!$AI$4:$AL$4,0)+2,0), ""), "") -> 977777.78 | V22: ○ | W22: 1 | Y22: ― | AA22: =IFERROR(IF(Y22="ー", "", ROUNDDOWN(Z22*VLOOKUP(N22,【参考】数式用!$AR$2:$AW$48,MATCH(Y22,【参考】数式用!$AT$4:$AW$4)+2,FALSE)*0.5, 0)), "") | AC22: =IFERROR(IF(AG22<>"",Z22*VLOOKUP(N22,【参考】数式用!$AG$2:$AL$48,MATCH(Y22,【参考】数式用!$AI$4:$AL$4,0)+2,0), ""), "") | AG22: =IFERROR(VLOOKUP(O22, 【参考】数式用!$AY$5:$AY$13, 1, FALSE), "") -> 処遇改善加算Ⅴ（５） | AH22: =IFERROR(VLOOKUP(N22, 【参考】数式用!$BA$2:$BB$48, 2, FALSE), "") -> 対象 | AI22: =IF(AND(OR(P22="処遇改善加算Ⅰ",P22="処遇改善加算Ⅱ"),AH22="対象"), 1,"") -> 1 | AJ22: =IF(OR(Y22="処遇改善加算Ⅰ",Y22="処遇改善加算Ⅱ"),IF(AND(N22<>"訪問型サービス（総合事業）",N22<>"通所型サービス（総合事業）",N22<>"（介護予防）短期入所生活介護",N22<>"（介護予防）短期入所療養介護（老健）",N22<>"（介護予防）短期入所療養介護 （病院等（老健以外）)",N22<>"（介護予防）短期入所療養介護（医療院）"),1,""),"")
A23: 10 | B23: =IF(基本情報入力シート!C48="","",基本情報入力シート!C48) -> 1111111116 | J23: =IF(基本情報入力シート!M48="","",基本情報入力シート!M48) -> 千代田区 | K23: =IF(基本情報入力シート!R48="","",基本情報入力シート!R48) -> 東京都 | L23: =IF(基本情報入力シート!W48="","",基本情報入力シート!W48) -> 千代田区 | M23: =IF(基本情報入力シート!X48="","",基本情報入力シート!X48) -> ○○デイケア | N23: =IF(基本情報入力シート!Y48="","",基本情報入力シート!Y48) -> 地域密着型通所介護 | O23: 処遇改善加算Ⅴ（６） | P23: 処遇改善加算Ⅱ | Q23: 9025200 | S23: =IFERROR(ROUNDDOWN(Q23*VLOOKUP(N23,【参考】数式用!$AR$2:$AW$48,MATCH(P23,【参考】数式用!$AT$4:$AW$4)+2,FALSE)*0.5, 0), "") -> 3208960 | T23: ○ | U23: =IFERROR(IF(AG23<>"",Q23*VLOOKUP(N23,【参考】数式用!$AG$2:$AL$48,MATCH(P23,【参考】数式用!$AI$4:$AL$4,0)+2,0), ""), "") -> 1103080 | V23: ○ | W23: 1 | Y23: ― | AA23: =IFERROR(IF(Y23="ー", "", ROUNDDOWN(Z23*VLOOKUP(N23,【参考】数式用!$AR$2:$AW$48,MATCH(Y23,【参考】数式用!$AT$4:$AW$4)+2,FALSE)*0.5, 0)), "") | AC23: =IFERROR(IF(AG23<>"",Z23*VLOOKUP(N23,【参考】数式用!$AG$2:$AL$48,MATCH(Y23,【参考】数式用!$AI$4:$AL$4,0)+2,0), ""), "") | AG23: =IFERROR(VLOOKUP(O23, 【参考】数式用!$AY$5:$AY$13, 1, FALSE), "") -> 処遇改善加算Ⅴ（６） | AH23: =IFERROR(VLOOKUP(N23, 【参考】数式用!$BA$2:$BB$48, 2, FALSE), "") -> 対象 | AI23: =IF(AND(OR(P23="処遇改善加算Ⅰ",P23="処遇改善加算Ⅱ"),AH23="対象"), 1,"") -> 1 | AJ23: =IF(OR(Y23="処遇改善加算Ⅰ",Y23="処遇改善加算Ⅱ"),IF(AND(N23<>"訪問型サービス（総合事業）",N23<>"通所型サービス（総合事業）",N23<>"（介護予防）短期入所生活介護",N23<>"（介護予防）短期入所療養介護（老健）",N23<>"（介護予防）短期入所療養介護 （病院等（老健以外）)",N23<>"（介護予防）短期入所療養介護（医療院）"),1,""),"")
A24: 11 | B24: =IF(基本情報入力シート!C49="","",基本情報入力シート!C49) -> 1111111117 | J24: =IF(基本情報入力シート!M49="","",基本情報入力シート!M49) -> 東京都 | K24: =IF(基本情報入力シート!R49="","",基本情報入力シート!R49) -> 東京都 | L24: =IF(基本情報入力シート!W49="","",基本情報入力シート!W49) -> 千代田区 | M24: =IF(基本情報入力シート!X49="","",基本情報入力シート!X49) -> ○○リハ | N24: =IF(基本情報入力シート!Y49="","",基本情報入力シート!Y49) -> 通所リハビリテーション | O24: 処遇改善加算Ⅴ（７） | P24: 処遇改善加算Ⅱ | Q24: 8591000 | S24: =IFERROR(ROUNDDOWN(Q24*VLOOKUP(N24,【参考】数式用!$AR$2:$AW$48,MATCH(P24,【参考】数式用!$AT$4:$AW$4)+2,FALSE)*0.5, 0), "") -> 2742909 | T24: ○ | U24: =IFERROR(IF(AG24<>"",Q24*VLOOKUP(N24,【参考】数式用!$AG$2:$AL$48,MATCH(P24,【参考】数式用!$AI$4:$AL$4,0)+2,0), ""), "") | W24: 1 | Y24: ― | AA24: =IFERROR(IF(Y24="ー", "", ROUNDDOWN(Z24*VLOOKUP(N24,【参考】数式用!$AR$2:$AW$48,MATCH(Y24,【参考】数式用!$AT$4:$AW$4)+2,FALSE)*0.5, 0)), "") | AC24: =IFERROR(IF(AG24<>"",Z24*VLOOKUP(N24,【参考】数式用!$AG$2:$AL$48,MATCH(Y24,【参考】数式用!$AI$4:$AL$4,0)+2,0), ""), "") | AG24: =IFERROR(VLOOKUP(O24, 【参考】数式用!$AY$5:$AY$13, 1, FALSE), "") | AH24: =IFERROR(VLOOKUP(N24, 【参考】数式用!$BA$2:$BB$48, 2, FALSE), "") -> 対象 | AI24: =IF(AND(OR(P24="処遇改善加算Ⅰ",P24="処遇改善加算Ⅱ"),AH24="対象"), 1,"") -> 1 | AJ24: =IF(OR(Y24="処遇改善加算Ⅰ",Y24="処遇改善加算Ⅱ"),IF(AND(N24<>"訪問型サービス（総合事業）",N24<>"通所型サービス（総合事業）",N24<>"（介護予防）短期入所生活介護",N24<>"（介護予防）短期入所療養介護（老健）",N24<>"（介護予防）短期入所療養介護 （病院等（老健以外）)",N24<>"（介護予防）短期入所療養介護（医療院）"),1,""),"")
A25: 12 | B25: =IF(基本情報入力シート!C50="","",基本情報入力シート!C50) -> 1111111118 | J25: =IF(基本情報入力シート!M50="","",基本情報入力シート!M50) -> 東京都 | K25: =IF(基本情報入力シート!R50="","",基本情報入力シート!R50) -> 東京都 | L25: =IF(基本情報入力シート!W50="","",基本情報入力シート!W50) -> 千代田区 | M25: =IF(基本情報入力シート!X50="","",基本情報入力シート!X50) -> ○○リハ | N25: =IF(基本情報入力シート!Y50="","",基本情報入力シート!Y50) -> 介護予防通所リハビリテーション | O25: 処遇改善加算Ⅴ（８） | P25: 処遇改善加算Ⅱ | Q25: 8591000 | S25: =IFERROR(ROUNDDOWN(Q25*VLOOKUP(N25,【参考】数式用!$AR$2:$AW$48,MATCH(P25,【参考】数式用!$AT$4:$AW$4)+2,FALSE)*0.5, 0), "") -> 2742909 | T25: ○ | U25: =IFERROR(IF(AG25<>"",Q25*VLOOKUP(N25,【参考】数式用!$AG$2:$AL$48,MATCH(P25,【参考】数式用!$AI$4:$AL$4,0)+2,0), ""), "") -> 1035060.2 | V25: ○ | Y25: ― | AA25: =IFERROR(IF(Y25="ー", "", ROUNDDOWN(Z25*VLOOKUP(N25,【参考】数式用!$AR$2:$AW$48,MATCH(Y25,【参考】数式用!$AT$4:$AW$4)+2,FALSE)*0.5, 0)), "") | AC25: =IFERROR(IF(AG25<>"",Z25*VLOOKUP(N25,【参考】数式用!$AG$2:$AL$48,MATCH(Y25,【参考】数式用!$AI$4:$AL$4,0)+2,0), ""), "") | AG25: =IFERROR(VLOOKUP(O25, 【参考】数式用!$AY$5:$AY$13, 1, FALSE), "") -> 処遇改善加算Ⅴ（８） | AH25: =IFERROR(VLOOKUP(N25, 【参考】数式用!$BA$2:$BB$48, 2, FALSE), "") -> 対象外 | AI25: =IF(AND(OR(P25="処遇改善加算Ⅰ",P25="処遇改善加算Ⅱ"),AH25="対象"), 1,"") | AJ25: =IF(OR(Y25="処遇改善加算Ⅰ",Y25="処遇改善加算Ⅱ"),IF(AND(N25<>"訪問型サービス（総合事業）",N25<>"通所型サービス（総合事業）",N25<>"（介護予防）短期入所生活介護",N25<>"（介護予防）短期入所療養介護（老健）",N25<>"（介護予防）短期入所療養介護 （病院等（老健以外）)",N25<>"（介護予防）短期入所療養介護（医療院）"),1,""),"")
A26: 13 | B26: =IF(基本情報入力シート!C51="","",基本情報入力シート!C51) -> 1111111119 | J26: =IF(基本情報入力シート!M51="","",基本情報入力シート!M51) -> 東京都 | K26: =IF(基本情報入力シート!R51="","",基本情報入力シート!R51) -> 東京都 | L26: =IF(基本情報入力シート!W51="","",基本情報入力シート!W51) -> 千代田区 | M26: =IF(基本情報入力シート!X51="","",基本情報入力シート!X51) -> ○○の杜 | N26: =IF(基本情報入力シート!Y51="","",基本情報入力シート!Y51) -> 特定施設入居者生活介護 | O26: 処遇改善加算Ⅴ（９） | P26: 処遇改善加算Ⅱ | Q26: 12557000 | S26: =IFERROR(ROUNDDOWN(Q26*VLOOKUP(N26,【参考】数式用!$AR$2:$AW$48,MATCH(P26,【参考】数式用!$AT$4:$AW$4)+2,FALSE)*0.5, 0), "") -> 4528754 | T26: ○ | U26: =IFERROR(IF(AG26<>"",Q26*VLOOKUP(N26,【参考】数式用!$AG$2:$AL$48,MATCH(P26,【参考】数式用!$AI$4:$AL$4,0)+2,0), ""), "") | W26: 1 | Y26: ― | AA26: =IFERROR(IF(Y26="ー", "", ROUNDDOWN(Z26*VLOOKUP(N26,【参考】数式用!$AR$2:$AW$48,MATCH(Y26,【参考】数式用!$AT$4:$AW$4)+2,FALSE)*0.5, 0)), "") | AC26: =IFERROR(IF(AG26<>"",Z26*VLOOKUP(N26,【参考】数式用!$AG$2:$AL$48,MATCH(Y26,【参考】数式用!$AI$4:$AL$4,0)+2,0), ""), "") | AG26: =IFERROR(VLOOKUP(O26, 【参考】数式用!$AY$5:$AY$13, 1, FALSE), "") | AH26: =IFERROR(VLOOKUP(N26, 【参考】数式用!$BA$2:$BB$48, 2, FALSE), "") -> 対象 | AI26: =IF(AND(OR(P26="処遇改善加算Ⅰ",P26="処遇改善加算Ⅱ"),AH26="対象"), 1,"") -> 1 | AJ26: =IF(OR(Y26="処遇改善加算Ⅰ",Y26="処遇改善加算Ⅱ"),IF(AND(N26<>"訪問型サービス（総合事業）",N26<>"通所型サービス（総合事業）",N26<>"（介護予防）短期入所生活介護",N26<>"（介護予防）短期入所療養介護（老健）",N26<>"（介護予防）短期入所療養介護 （病院等（老健以外）)",N26<>"（介護予防）短期入所療養介護（医療院）"),1,""),"")
A27: 14 | B27: =IF(基本情報入力シート!C52="","",基本情報入力シート!C52) -> 1111111120 | J27: =IF(基本情報入力シート!M52="","",基本情報入力シート!M52) -> 東京都 | K27: =IF(基本情報入力シート!R52="","",基本情報入力シート!R52) -> 東京都 | L27: =IF(基本情報入力シート!W52="","",基本情報入力シート!W52) -> 千代田区 | M27: =IF(基本情報入力シート!X52="","",基本情報入力シート!X52) -> ○○の杜 | N27: =IF(基本情報入力シート!Y52="","",基本情報入力シート!Y52) -> 特定施設入居者生活介護（短期利用型） | O27: 処遇改善加算Ⅴ（10） | P27: 処遇改善加算Ⅱ | Q27: 12557000 | S27: =IFERROR(ROUNDDOWN(Q27*VLOOKUP(N27,【参考】数式用!$AR$2:$AW$48,MATCH(P27,【参考】数式用!$AT$4:$AW$4)+2,FALSE)*0.5, 0), "") -> 4528754 | T27: ○ | U27: =IFERROR(IF(AG27<>"",Q27*VLOOKUP(N27,【参考】数式用!$AG$2:$AL$48,MATCH(P27,【参考】数式用!$AI$4:$AL$4,0)+2,0), ""), "") -> 1543893.4 | V27: ○ | Y27: ― | AA27: =IFERROR(IF(Y27="ー", "", ROUNDDOWN(Z27*VLOOKUP(N27,【参考】数式用!$AR$2:$AW$48,MATCH(Y27,【参考】数式用!$AT$4:$AW$4)+2,FALSE)*0.5, 0)), "") | AC27: =IFERROR(IF(AG27<>"",Z27*VLOOKUP(N27,【参考】数式用!$AG$2:$AL$48,MATCH(Y27,【参考】数式用!$AI$4:$AL$4,0)+2,0), ""), "") | AG27: =IFERROR(VLOOKUP(O27, 【参考】数式用!$AY$5:$AY$13, 1, FALSE), "") -> 処遇改善加算Ⅴ（10） | AH27: =IFERROR(VLOOKUP(N27, 【参考】数式用!$BA$2:$BB$48, 2, FALSE), "") -> 対象外 | AI27: =IF(AND(OR(P27="処遇改善加算Ⅰ",P27="処遇改善加算Ⅱ"),AH27="対象"), 1,"") | AJ27: =IF(OR(Y27="処遇改善加算Ⅰ",Y27="処遇改善加算Ⅱ"),IF(AND(N27<>"訪問型サービス（総合事業）",N27<>"通所型サービス（総合事業）",N27<>"（介護予防）短期入所生活介護",N27<>"（介護予防）短期入所療養介護（老健）",N27<>"（介護予防）短期入所療養介護 （病院等（老健以外）)",N27<>"（介護予防）短期入所療養介護（医療院）"),1,""),"")
A28: 15 | B28: =IF(基本情報入力シート!C53="","",基本情報入力シート!C53) -> 1111111121 | J28: =IF(基本情報入力シート!M53="","",基本情報入力シート!M53) -> 東京都 | K28: =IF(基本情報入力シート!R53="","",基本情報入力シート!R53) -> 東京都 | L28: =IF(基本情報入力シート!W53="","",基本情報入力シート!W53) -> 千代田区 | M28: =IF(基本情報入力シート!X53="","",基本情報入力シート!X53) -> ○○の杜 | N28: =IF(基本情報入力シート!Y53="","",基本情報入力シート!Y53) -> 介護予防特定施設入居者生活介護 | O28: 処遇改善加算Ⅴ（11） | P28: 処遇改善加算Ⅱ | Q28: 12557000 | S28: =IFERROR(ROUNDDOWN(Q28*VLOOKUP(N28,【参考】数式用!$AR$2:$AW$48,MATCH(P28,【参考】数式用!$AT$4:$AW$4)+2,FALSE)*0.5, 0), "") -> 4528754 | T28: ○ | U28: =IFERROR(IF(AG28<>"",Q28*VLOOKUP(N28,【参考】数式用!$AG$2:$AL$48,MATCH(P28,【参考】数式用!$AI$4:$AL$4,0)+2,0), ""), "") -> 1543893.4 | V28: ○ | Y28: ― | AA28: =IFERROR(IF(Y28="ー", "", ROUNDDOWN(Z28*VLOOKUP(N28,【参考】数式用!$AR$2:$AW$48,MATCH(Y28,【参考】数式用!$AT$4:$AW$4)+2,FALSE)*0.5, 0)), "") | AC28: =IFERROR(IF(AG28<>"",Z28*VLOOKUP(N28,【参考】数式用!$AG$2:$AL$48,MATCH(Y28,【参考】数式用!$AI$4:$AL$4,0)+2,0), ""), "") | AG28: =IFERROR(VLOOKUP(O28, 【参考】数式用!$AY$5:$AY$13, 1, FALSE), "") -> 処遇改善加算Ⅴ（11） | AH28: =IFERROR(VLOOKUP(N28, 【参考】数式用!$BA$2:$BB$48, 2, FALSE), "") -> 対象外 | AI28: =IF(AND(OR(P28="処遇改善加算Ⅰ",P28="処遇改善加算Ⅱ"),AH28="対象"), 1,"") | AJ28: =IF(OR(Y28="処遇改善加算Ⅰ",Y28="処遇改善加算Ⅱ"),IF(AND(N28<>"訪問型サービス（総合事業）",N28<>"通所型サービス（総合事業）",N28<>"（介護予防）短期入所生活介護",N28<>"（介護予防）短期入所療養介護（老健）",N28<>"（介護予防）短期入所療養介護 （病院等（老健以外）)",N28<>"（介護予防）短期入所療養介護（医療院）"),1,""),"")
A29: 16 | B29: =IF(基本情報入力シート!C54="","",基本情報入力シート!C54) -> 1111111122 | J29: =IF(基本情報入力シート!M54="","",基本情報入力シート!M54) -> 千代田区 | K29: =IF(基本情報入力シート!R54="","",基本情報入力シート!R54) -> 東京都 | L29: =IF(基本情報入力シート!W54="","",基本情報入力シート!W54) -> 千代田区 | M29: =IF(基本情報入力シート!X54="","",基本情報入力シート!X54) -> ○○の杜 | N29: =IF(基本情報入力シート!Y54="","",基本情報入力シート!Y54) -> 地域密着型特定施設入居者生活介護 | O29: 処遇改善加算Ⅴ（12） | P29: 処遇改善加算Ⅱ | Q29: 12557000 | S29: =IFERROR(ROUNDDOWN(Q29*VLOOKUP(N29,【参考】数式用!$AR$2:$AW$48,MATCH(P29,【参考】数式用!$AT$4:$AW$4)+2,FALSE)*0.5, 0), "") -> 4528754 | T29: ○ | U29: =IFERROR(IF(AG29<>"",Q29*VLOOKUP(N29,【参考】数式用!$AG$2:$AL$48,MATCH(P29,【参考】数式用!$AI$4:$AL$4,0)+2,0), ""), "") -> 1543893.4 | V29: ○ | W29: 1 | Y29: ― | AA29: =IFERROR(IF(Y29="ー", "", ROUNDDOWN(Z29*VLOOKUP(N29,【参考】数式用!$AR$2:$AW$48,MATCH(Y29,【参考】数式用!$AT$4:$AW$4)+2,FALSE)*0.5, 0)), "") | AC29: =IFERROR(IF(AG29<>"",Z29*VLOOKUP(N29,【参考】数式用!$AG$2:$AL$48,MATCH(Y29,【参考】数式用!$AI$4:$AL$4,0)+2,0), ""), "") | AG29: =IFERROR(VLOOKUP(O29, 【参考】数式用!$AY$5:$AY$13, 1, FALSE), "") -> 処遇改善加算Ⅴ（12） | AH29: =IFERROR(VLOOKUP(N29, 【参考】数式用!$BA$2:$BB$48, 2, FALSE), "") -> 対象 | AI29: =IF(AND(OR(P29="処遇改善加算Ⅰ",P29="処遇改善加算Ⅱ"),AH29="対象"), 1,"") -> 1 | AJ29: =IF(OR(Y29="処遇改善加算Ⅰ",Y29="処遇改善加算Ⅱ"),IF(AND(N29<>"訪問型サービス（総合事業）",N29<>"通所型サービス（総合事業）",N29<>"（介護予防）短期入所生活介護",N29<>"（介護予防）短期入所療養介護（老健）",N29<>"（介護予防）短期入所療養介護 （病院等（老健以外）)",N29<>"（介護予防）短期入所療養介護（医療院）"),1,""),"")
A30: 17 | B30: =IF(基本情報入力シート!C55="","",基本情報入力シート!C55) -> 1111111123 | J30: =IF(基本情報入力シート!M55="","",基本情報入力シート!M55) -> 千代田区 | K30: =IF(基本情報入力シート!R55="","",基本情報入力シート!R55) -> 東京都 | L30: =IF(基本情報入力シート!W55="","",基本情報入力シート!W55) -> 千代田区 | M30: =IF(基本情報入力シート!X55="","",基本情報入力シート!X55) -> ○○の杜 | N30: =IF(基本情報入力シート!Y55="","",基本情報入力シート!Y55) -> 地域密着型特定施設入居者生活介護（短期利用型） | O30: 処遇改善加算Ⅴ（13） | P30: 処遇改善加算Ⅱ | Q30: 12557000 | S30: =IFERROR(ROUNDDOWN(Q30*VLOOKUP(N30,【参考】数式用!$AR$2:$AW$48,MATCH(P30,【参考】数式用!$AT$4:$AW$4)+2,FALSE)*0.5, 0), "") -> 4528754 | T30: ○ | U30: =IFERROR(IF(AG30<>"",Q30*VLOOKUP(N30,【参考】数式用!$AG$2:$AL$48,MATCH(P30,【参考】数式用!$AI$4:$AL$4,0)+2,0), ""), "") | Y30: ― | AA30: =IFERROR(IF(Y30="ー", "", ROUNDDOWN(Z30*VLOOKUP(N30,【参考】数式用!$AR$2:$AW$48,MATCH(Y30,【参考】数式用!$AT$4:$AW$4)+2,FALSE)*0.5, 0)), "") | AC30: =IFERROR(IF(AG30<>"",Z30*VLOOKUP(N30,【参考】数式用!$AG$2:$AL$48,MATCH(Y30,【参考】数式用!$AI$4:$AL$4,0)+2,0), ""), "") | AG30: =IFERROR(VLOOKUP(O30, 【参考】数式用!$AY$5:$AY$13, 1, FALSE), "") | AH30: =IFERROR(VLOOKUP(N30, 【参考】数式用!$BA$2:$BB$48, 2, FALSE), "") -> 対象外 | AI30: =IF(AND(OR(P30="処遇改善加算Ⅰ",P30="処遇改善加算Ⅱ"),AH30="対象"), 1,"") | AJ30: =IF(OR(Y30="処遇改善加算Ⅰ",Y30="処遇改善加算Ⅱ"),IF(AND(N30<>"訪問型サービス（総合事業）",N30<>"通所型サービス（総合事業）",N30<>"（介護予防）短期入所生活介護",N30<>"（介護予防）短期入所療養介護（老健）",N30<>"（介護予防）短期入所療養介護 （病院等（老健以外）)",N30<>"（介護予防）短期入所療養介護（医療院）"),1,""),"")
A31: 18 | B31: =IF(基本情報入力シート!C56="","",基本情報入力シート!C56) -> 1111111124 | J31: =IF(基本情報入力シート!M56="","",基本情報入力シート!M56) -> 千代田区 | K31: =IF(基本情報入力シート!R56="","",基本情報入力シート!R56) -> 東京都 | L31: =IF(基本情報入力シート!W56="","",基本情報入力シート!W56) -> 千代田区 | M31: =IF(基本情報入力シート!X56="","",基本情報入力シート!X56) -> ○○デイケア | N31: =IF(基本情報入力シート!Y56="","",基本情報入力シート!Y56) -> 認知症対応型通所介護 | O31: 処遇改善加算Ⅴ（14） | P31: 処遇改善加算Ⅱ | Q31: 18082000 | S31: =IFERROR(ROUNDDOWN(Q31*VLOOKUP(N31,【参考】数式用!$AR$2:$AW$48,MATCH(P31,【参考】数式用!$AT$4:$AW$4)+2,FALSE)*0.5, 0), "") -> 6339091 | T31: ○ | U31: =IFERROR(IF(AG31<>"",Q31*VLOOKUP(N31,【参考】数式用!$AG$2:$AL$48,MATCH(P31,【参考】数式用!$AI$4:$AL$4,0)+2,0), ""), "") -> 2390149.4 | V31: ○ | W31: 1 | Y31: ― | AA31: =IFERROR(IF(Y31="ー", "", ROUNDDOWN(Z31*VLOOKUP(N31,【参考】数式用!$AR$2:$AW$48,MATCH(Y31,【参考】数式用!$AT$4:$AW$4)+2,FALSE)*0.5, 0)), "") | AC31: =IFERROR(IF(AG31<>"",Z31*VLOOKUP(N31,【参考】数式用!$AG$2:$AL$48,MATCH(Y31,【参考】数式用!$AI$4:$AL$4,0)+2,0), ""), "") | AG31: =IFERROR(VLOOKUP(O31, 【参考】数式用!$AY$5:$AY$13, 1, FALSE), "") -> 処遇改善加算Ⅴ（14） | AH31: =IFERROR(VLOOKUP(N31, 【参考】数式用!$BA$2:$BB$48, 2, FALSE), "") -> 対象 | AI31: =IF(AND(OR(P31="処遇改善加算Ⅰ",P31="処遇改善加算Ⅱ"),AH31="対象"), 1,"") -> 1 | AJ31: =IF(OR(Y31="処遇改善加算Ⅰ",Y31="処遇改善加算Ⅱ"),IF(AND(N31<>"訪問型サービス（総合事業）",N31<>"通所型サービス（総合事業）",N31<>"（介護予防）短期入所生活介護",N31<>"（介護予防）短期入所療養介護（老健）",N31<>"（介護予防）短期入所療養介護 （病院等（老健以外）)",N31<>"（介護予防）短期入所療養介護（医療院）"),1,""),"")
A32: 19 | B32: =IF(基本情報入力シート!C57="","",基本情報入力シート!C57) -> 1111111125 | J32: =IF(基本情報入力シート!M57="","",基本情報入力シート!M57) -> 千代田区 | K32: =IF(基本情報入力シート!R57="","",基本情報入力シート!R57) -> 東京都 | L32: =IF(基本情報入力シート!W57="","",基本情報入力シート!W57) -> 千代田区 | M32: =IF(基本情報入力シート!X57="","",基本情報入力シート!X57) -> ○○デイケア | N32: =IF(基本情報入力シート!Y57="","",基本情報入力シート!Y57) -> 介護予防認知症対応型通所介護 | O32: 処遇改善加算なし | P32: 処遇改善加算Ⅱ | Q32: 18082000 | S32: =IFERROR(ROUNDDOWN(Q32*VLOOKUP(N32,【参考】数式用!$AR$2:$AW$48,MATCH(P32,【参考】数式用!$AT$4:$AW$4)+2,FALSE)*0.5, 0), "") -> 6339091 | T32: ○ | U32: =IFERROR(IF(AG32<>"",Q32*VLOOKUP(N32,【参考】数式用!$AG$2:$AL$48,MATCH(P32,【参考】数式用!$AI$4:$AL$4,0)+2,0), ""), "") | Y32: ― | AA32: =IFERROR(IF(Y32="ー", "", ROUNDDOWN(Z32*VLOOKUP(N32,【参考】数式用!$AR$2:$AW$48,MATCH(Y32,【参考】数式用!$AT$4:$AW$4)+2,FALSE)*0.5, 0)), "") | AC32: =IFERROR(IF(AG32<>"",Z32*VLOOKUP(N32,【参考】数式用!$AG$2:$AL$48,MATCH(Y32,【参考】数式用!$AI$4:$AL$4,0)+2,0), ""), "") | AG32: =IFERROR(VLOOKUP(O32, 【参考】数式用!$AY$5:$AY$13, 1, FALSE), "") | AH32: =IFERROR(VLOOKUP(N32, 【参考】数式用!$BA$2:$BB$48, 2, FALSE), "") -> 対象外 | AI32: =IF(AND(OR(P32="処遇改善加算Ⅰ",P32="処遇改善加算Ⅱ"),AH32="対象"), 1,"") | AJ32: =IF(OR(Y32="処遇改善加算Ⅰ",Y32="処遇改善加算Ⅱ"),IF(AND(N32<>"訪問型サービス（総合事業）",N32<>"通所型サービス（総合事業）",N32<>"（介護予防）短期入所生活介護",N32<>"（介護予防）短期入所療養介護（老健）",N32<>"（介護予防）短期入所療養介護 （病院等（老健以外）)",N32<>"（介護予防）短期入所療養介護（医療院）"),1,""),"")
A33: 20 | B33: =IF(基本情報入力シート!C58="","",基本情報入力シート!C58) -> 1111111126 | J33: =IF(基本情報入力シート!M58="","",基本情報入力シート!M58) -> 千代田区 | K33: =IF(基本情報入力シート!R58="","",基本情報入力シート!R58) -> 東京都 | L33: =IF(基本情報入力シート!W58="","",基本情報入力シート!W58) -> 千代田区 | M33: =IF(基本情報入力シート!X58="","",基本情報入力シート!X58) -> ○○小多機 | N33: =IF(基本情報入力シート!Y58="","",基本情報入力シート!Y58) -> 小規模多機能型居宅介護 | O33: 処遇改善加算Ⅳ | P33: 処遇改善加算Ⅱ | Q33: 14885000 | S33: =IFERROR(ROUNDDOWN(Q33*VLOOKUP(N33,【参考】数式用!$AR$2:$AW$48,MATCH(P33,【参考】数式用!$AT$4:$AW$4)+2,FALSE)*0.5, 0), "") -> 5403458 | T33: ○ | U33: =IFERROR(IF(AG33<>"",Q33*VLOOKUP(N33,【参考】数式用!$AG$2:$AL$48,MATCH(P33,【参考】数式用!$AI$4:$AL$4,0)+2,0), ""), "") | W33: 1 | Y33: ― | AA33: =IFERROR(IF(Y33="ー", "", ROUNDDOWN(Z33*VLOOKUP(N33,【参考】数式用!$AR$2:$AW$48,MATCH(Y33,【参考】数式用!$AT$4:$AW$4)+2,FALSE)*0.5, 0)), "") | AC33: =IFERROR(IF(AG33<>"",Z33*VLOOKUP(N33,【参考】数式用!$AG$2:$AL$48,MATCH(Y33,【参考】数式用!$AI$4:$AL$4,0)+2,0), ""), "") | AG33: =IFERROR(VLOOKUP(O33, 【参考】数式用!$AY$5:$AY$13, 1, FALSE), "") | AH33: =IFERROR(VLOOKUP(N33, 【参考】数式用!$BA$2:$BB$48, 2, FALSE), "") -> 対象 | AI33: =IF(AND(OR(P33="処遇改善加算Ⅰ",P33="処遇改善加算Ⅱ"),AH33="対象"), 1,"") -> 1 | AJ33: =IF(OR(Y33="処遇改善加算Ⅰ",Y33="処遇改善加算Ⅱ"),IF(AND(N33<>"訪問型サービス（総合事業）",N33<>"通所型サービス（総合事業）",N33<>"（介護予防）短期入所生活介護",N33<>"（介護予防）短期入所療養介護（老健）",N33<>"（介護予防）短期入所療養介護 （病院等（老健以外）)",N33<>"（介護予防）短期入所療養介護（医療院）"),1,""),"")
A34: 21 | B34: =IF(基本情報入力シート!C59="","",基本情報入力シート!C59) -> 1111111127 | J34: =IF(基本情報入力シート!M59="","",基本情報入力シート!M59) -> 千代田区 | K34: =IF(基本情報入力シート!R59="","",基本情報入力シート!R59) -> 東京都 | L34: =IF(基本情報入力シート!W59="","",基本情報入力シート!W59) -> 千代田区 | M34: =IF(基本情報入力シート!X59="","",基本情報入力シート!X59) -> ○○小多機 | N34: =IF(基本情報入力シート!Y59="","",基本情報入力シート!Y59) -> 小規模多機能型居宅介護（短期利用型） | O34: 処遇改善加算Ⅳ | P34: 処遇改善加算Ⅱ | Q34: 14885000 | S34: =IFERROR(ROUNDDOWN(Q34*VLOOKUP(N34,【参考】数式用!$AR$2:$AW$48,MATCH(P34,【参考】数式用!$AT$4:$AW$4)+2,FALSE)*0.5, 0), "") -> 5403458 | T34: ○ | U34: =IFERROR(IF(AG34<>"",Q34*VLOOKUP(N34,【参考】数式用!$AG$2:$AL$48,MATCH(P34,【参考】数式用!$AI$4:$AL$4,0)+2,0), ""), "") | Y34: ― | AA34: =IFERROR(IF(Y34="ー", "", ROUNDDOWN(Z34*VLOOKUP(N34,【参考】数式用!$AR$2:$AW$48,MATCH(Y34,【参考】数式用!$AT$4:$AW$4)+2,FALSE)*0.5, 0)), "") | AC34: =IFERROR(IF(AG34<>"",Z34*VLOOKUP(N34,【参考】数式用!$AG$2:$AL$48,MATCH(Y34,【参考】数式用!$AI$4:$AL$4,0)+2,0), ""), "") | AG34: =IFERROR(VLOOKUP(O34, 【参考】数式用!$AY$5:$AY$13, 1, FALSE), "") | AH34: =IFERROR(VLOOKUP(N34, 【参考】数式用!$BA$2:$BB$48, 2, FALSE), "") -> 対象外 | AI34: =IF(AND(OR(P34="処遇改善加算Ⅰ",P34="処遇改善加算Ⅱ"),AH34="対象"), 1,"") | AJ34: =IF(OR(Y34="処遇改善加算Ⅰ",Y34="処遇改善加算Ⅱ"),IF(AND(N34<>"訪問型サービス（総合事業）",N34<>"通所型サービス（総合事業）",N34<>"（介護予防）短期入所生活介護",N34<>"（介護予防）短期入所療養介護（老健）",N34<>"（介護予防）短期入所療養介護 （病院等（老健以外）)",N34<>"（介護予防）短期入所療養介護（医療院）"),1,""),"")
A35: 22 | B35: =IF(基本情報入力シート!C60="","",基本情報入力シート!C60) -> 1111111128 | J35: =IF(基本情報入力シート!M60="","",基本情報入力シート!M60) -> 千代田区 | K35: =IF(基本情報入力シート!R60="","",基本情報入力シート!R60) -> 東京都 | L35: =IF(基本情報入力シート!W60="","",基本情報入力シート!W60) -> 千代田区 | M35: =IF(基本情報入力シート!X60="","",基本情報入力シート!X60) -> ○○小多機 | N35: =IF(基本情報入力シート!Y60="","",基本情報入力シート!Y60) -> 介護予防小規模多機能型居宅介護 | O35: 処遇改善加算Ⅳ | P35: 処遇改善加算Ⅱ | Q35: 14885000 | S35: =IFERROR(ROUNDDOWN(Q35*VLOOKUP(N35,【参考】数式用!$AR$2:$AW$48,MATCH(P35,【参考】数式用!$AT$4:$AW$4)+2,FALSE)*0.5, 0), "") -> 5403458 | T35: ○ | U35: =IFERROR(IF(AG35<>"",Q35*VLOOKUP(N35,【参考】数式用!$AG$2:$AL$48,MATCH(P35,【参考】数式用!$AI$4:$AL$4,0)+2,0), ""), "") | Y35: ― | AA35: =IFERROR(IF(Y35="ー", "", ROUNDDOWN(Z35*VLOOKUP(N35,【参考】数式用!$AR$2:$AW$48,MATCH(Y35,【参考】数式用!$AT$4:$AW$4)+2,FALSE)*0.5, 0)), "") | AC35: =IFERROR(IF(AG35<>"",Z35*VLOOKUP(N35,【参考】数式用!$AG$2:$AL$48,MATCH(Y35,【参考】数式用!$AI$4:$AL$4,0)+2,0), ""), "") | AG35: =IFERROR(VLOOKUP(O35, 【参考】数式用!$AY$5:$AY$13, 1, FALSE), "") | AH35: =IFERROR(VLOOKUP(N35, 【参考】数式用!$BA$2:$BB$48, 2, FALSE), "") -> 対象外 | AI35: =IF(AND(OR(P35="処遇改善加算Ⅰ",P35="処遇改善加算Ⅱ"),AH35="対象"), 1,"") | AJ35: =IF(OR(Y35="処遇改善加算Ⅰ",Y35="処遇改善加算Ⅱ"),IF(AND(N35<>"訪問型サービス（総合事業）",N35<>"通所型サービス（総合事業）",N35<>"（介護予防）短期入所生活介護",N35<>"（介護予防）短期入所療養介護（老健）",N35<>"（介護予防）短期入所療養介護 （病院等（老健以外）)",N35<>"（介護予防）短期入所療養介護（医療院）"),1,""),"")
A36: 23 | B36: =IF(基本情報入力シート!C61="","",基本情報入力シート!C61) -> 1111111129 | J36: =IF(基本情報入力シート!M61="","",基本情報入力シート!M61) -> 千代田区 | K36: =IF(基本情報入力シート!R61="","",基本情報入力シート!R61) -> 東京都 | L36: =IF(基本情報入力シート!W61="","",基本情報入力シート!W61) -> 千代田区 | M36: =IF(基本情報入力シート!X61="","",基本情報入力シート!X61) -> ○○小多機 | N36: =IF(基本情報入力シート!Y61="","",基本情報入力シート!Y61) -> 介護予防小規模多機能型居宅介護（短期利用型） | O36: 処遇改善加算Ⅳ | P36: 処遇改善加算Ⅱ | Q36: 14885000 | S36: =IFERROR(ROUNDDOWN(Q36*VLOOKUP(N36,【参考】数式用!$AR$2:$AW$48,MATCH(P36,【参考】数式用!$AT$4:$AW$4)+2,FALSE)*0.5, 0), "") -> 5403458 | T36: ○ | U36: =IFERROR(IF(AG36<>"",Q36*VLOOKUP(N36,【参考】数式用!$AG$2:$AL$48,MATCH(P36,【参考】数式用!$AI$4:$AL$4,0)+2,0), ""), "") | Y36: ― | AA36: =IFERROR(IF(Y36="ー", "", ROUNDDOWN(Z36*VLOOKUP(N36,【参考】数式用!$AR$2:$AW$48,MATCH(Y36,【参考】数式用!$AT$4:$AW$4)+2,FALSE)*0.5, 0)), "") | AC36: =IFERROR(IF(AG36<>"",Z36*VLOOKUP(N36,【参考】数式用!$AG$2:$AL$48,MATCH(Y36,【参考】数式用!$AI$4:$AL$4,0)+2,0), ""), "") | AG36: =IFERROR(VLOOKUP(O36, 【参考】数式用!$AY$5:$AY$13, 1, FALSE), "") | AH36: =IFERROR(VLOOKUP(N36, 【参考】数式用!$BA$2:$BB$48, 2, FALSE), "") -> 対象外 | AI36: =IF(AND(OR(P36="処遇改善加算Ⅰ",P36="処遇改善加算Ⅱ"),AH36="対象"), 1,"") | AJ36: =IF(OR(Y36="処遇改善加算Ⅰ",Y36="処遇改善加算Ⅱ"),IF(AND(N36<>"訪問型サービス（総合事業）",N36<>"通所型サービス（総合事業）",N36<>"（介護予防）短期入所生活介護",N36<>"（介護予防）短期入所療養介護（老健）",N36<>"（介護予防）短期入所療養介護 （病院等（老健以外）)",N36<>"（介護予防）短期入所療養介護（医療院）"),1,""),"")
A37: 24 | B37: =IF(基本情報入力シート!C62="","",基本情報入力シート!C62) -> 1111111130 | J37: =IF(基本情報入力シート!M62="","",基本情報入力シート!M62) -> 千代田区 | K37: =IF(基本情報入力シート!R62="","",基本情報入力シート!R62) -> 東京都 | L37: =IF(基本情報入力シート!W62="","",基本情報入力シート!W62) -> 千代田区 | M37: =IF(基本情報入力シート!X62="","",基本情報入力シート!X62) -> ○○看多機 | N37: =IF(基本情報入力シート!Y62="","",基本情報入力シート!Y62) -> 複合型サービス（看護小規模多機能型居宅介護） | O37: 処遇改善加算Ⅳ | P37: 処遇改善加算Ⅱ | Q37: 14885000 | S37: =IFERROR(ROUNDDOWN(Q37*VLOOKUP(N37,【参考】数式用!$AR$2:$AW$48,MATCH(P37,【参考】数式用!$AT$4:$AW$4)+2,FALSE)*0.5, 0), "") -> 5403458 | T37: ○ | U37: =IFERROR(IF(AG37<>"",Q37*VLOOKUP(N37,【参考】数式用!$AG$2:$AL$48,MATCH(P37,【参考】数式用!$AI$4:$AL$4,0)+2,0), ""), "") | W37: 1 | Y37: ― | AA37: =IFERROR(IF(Y37="ー", "", ROUNDDOWN(Z37*VLOOKUP(N37,【参考】数式用!$AR$2:$AW$48,MATCH(Y37,【参考】数式用!$AT$4:$AW$4)+2,FALSE)*0.5, 0)), "") | AC37: =IFERROR(IF(AG37<>"",Z37*VLOOKUP(N37,【参考】数式用!$AG$2:$AL$48,MATCH(Y37,【参考】数式用!$AI$4:$AL$4,0)+2,0), ""), "") | AG37: =IFERROR(VLOOKUP(O37, 【参考】数式用!$AY$5:$AY$13, 1, FALSE), "") | AH37: =IFERROR(VLOOKUP(N37, 【参考】数式用!$BA$2:$BB$48, 2, FALSE), "") -> 対象 | AI37: =IF(AND(OR(P37="処遇改善加算Ⅰ",P37="処遇改善加算Ⅱ"),AH37="対象"), 1,"") -> 1 | AJ37: =IF(OR(Y37="処遇改善加算Ⅰ",Y37="処遇改善加算Ⅱ"),IF(AND(N37<>"訪問型サービス（総合事業）",N37<>"通所型サービス（総合事業）",N37<>"（介護予防）短期入所生活介護",N37<>"（介護予防）短期入所療養介護（老健）",N37<>"（介護予防）短期入所療養介護 （病院等（老健以外）)",N37<>"（介護予防）短期入所療養介護（医療院）"),1,""),"")
A38: 25 | B38: =IF(基本情報入力シート!C63="","",基本情報入力シート!C63) -> 1111111131 | J38: =IF(基本情報入力シート!M63="","",基本情報入力シート!M63) -> 千代田区 | K38: =IF(基本情報入力シート!R63="","",基本情報入力シート!R63) -> 東京都 | L38: =IF(基本情報入力シート!W63="","",基本情報入力シート!W63) -> 千代田区 | M38: =IF(基本情報入力シート!X63="","",基本情報入力シート!X63) -> ○○看多機 | N38: =IF(基本情報入力シート!Y63="","",基本情報入力シート!Y63) -> 複合型サービス（看護小規模多機能型居宅介護・短期利用型） | O38: 処遇改善加算Ⅳ | P38: 処遇改善加算Ⅱ | Q38: 14885000 | S38: =IFERROR(ROUNDDOWN(Q38*VLOOKUP(N38,【参考】数式用!$AR$2:$AW$48,MATCH(P38,【参考】数式用!$AT$4:$AW$4)+2,FALSE)*0.5, 0), "") -> 5403458 | T38: ○ | U38: =IFERROR(IF(AG38<>"",Q38*VLOOKUP(N38,【参考】数式用!$AG$2:$AL$48,MATCH(P38,【参考】数式用!$AI$4:$AL$4,0)+2,0), ""), "") | Y38: ― | AA38: =IFERROR(IF(Y38="ー", "", ROUNDDOWN(Z38*VLOOKUP(N38,【参考】数式用!$AR$2:$AW$48,MATCH(Y38,【参考】数式用!$AT$4:$AW$4)+2,FALSE)*0.5, 0)), "") | AC38: =IFERROR(IF(AG38<>"",Z38*VLOOKUP(N38,【参考】数式用!$AG$2:$AL$48,MATCH(Y38,【参考】数式用!$AI$4:$AL$4,0)+2,0), ""), "") | AG38: =IFERROR(VLOOKUP(O38, 【参考】数式用!$AY$5:$AY$13, 1, FALSE), "") | AH38: =IFERROR(VLOOKUP(N38, 【参考】数式用!$BA$2:$BB$48, 2, FALSE), "") -> 対象外 | AI38: =IF(AND(OR(P38="処遇改善加算Ⅰ",P38="処遇改善加算Ⅱ"),AH38="対象"), 1,"") | AJ38: =IF(OR(Y38="処遇改善加算Ⅰ",Y38="処遇改善加算Ⅱ"),IF(AND(N38<>"訪問型サービス（総合事業）",N38<>"通所型サービス（総合事業）",N38<>"（介護予防）短期入所生活介護",N38<>"（介護予防）短期入所療養介護（老健）",N38<>"（介護予防）短期入所療養介護 （病院等（老健以外）)",N38<>"（介護予防）短期入所療養介護（医療院）"),1,""),"")
A39: 26 | B39: =IF(基本情報入力シート!C64="","",基本情報入力シート!C64) -> 1111111132 | J39: =IF(基本情報入力シート!M64="","",基本情報入力シート!M64) -> 千代田区 | K39: =IF(基本情報入力シート!R64="","",基本情報入力シート!R64) -> 東京都 | L39: =IF(基本情報入力シート!W64="","",基本情報入力シート!W64) -> 千代田区 | M39: =IF(基本情報入力シート!X64="","",基本情報入力シート!X64) -> ○○GH | N39: =IF(基本情報入力シート!Y64="","",基本情報入力シート!Y64) -> 認知症対応型共同生活介護 | O39: 処遇改善加算Ⅳ | P39: 処遇改善加算Ⅱ | Q39: 18246000 | S39: =IFERROR(ROUNDDOWN(Q39*VLOOKUP(N39,【参考】数式用!$AR$2:$AW$48,MATCH(P39,【参考】数式用!$AT$4:$AW$4)+2,FALSE)*0.5, 0), "") -> 6406601 | T39: ○ | U39: =IFERROR(IF(AG39<>"",Q39*VLOOKUP(N39,【参考】数式用!$AG$2:$AL$48,MATCH(P39,【参考】数式用!$AI$4:$AL$4,0)+2,0), ""), "") | W39: 1 | Y39: ― | AA39: =IFERROR(IF(Y39="ー", "", ROUNDDOWN(Z39*VLOOKUP(N39,【参考】数式用!$AR$2:$AW$48,MATCH(Y39,【参考】数式用!$AT$4:$AW$4)+2,FALSE)*0.5, 0)), "") | AC39: =IFERROR(IF(AG39<>"",Z39*VLOOKUP(N39,【参考】数式用!$AG$2:$AL$48,MATCH(Y39,【参考】数式用!$AI$4:$AL$4,0)+2,0), ""), "") | AG39: =IFERROR(VLOOKUP(O39, 【参考】数式用!$AY$5:$AY$13, 1, FALSE), "") | AH39: =IFERROR(VLOOKUP(N39, 【参考】数式用!$BA$2:$BB$48, 2, FALSE), "") -> 対象 | AI39: =IF(AND(OR(P39="処遇改善加算Ⅰ",P39="処遇改善加算Ⅱ"),AH39="対象"), 1,"") -> 1 | AJ39: =IF(OR(Y39="処遇改善加算Ⅰ",Y39="処遇改善加算Ⅱ"),IF(AND(N39<>"訪問型サービス（総合事業）",N39<>"通所型サービス（総合事業）",N39<>"（介護予防）短期入所生活介護",N39<>"（介護予防）短期入所療養介護（老健）",N39<>"（介護予防）短期入所療養介護 （病院等（老健以外）)",N39<>"（介護予防）短期入所療養介護（医療院）"),1,""),"")
A40: 27 | B40: =IF(基本情報入力シート!C65="","",基本情報入力シート!C65) -> 1111111133 | J40: =IF(基本情報入力シート!M65="","",基本情報入力シート!M65) -> 千代田区 | K40: =IF(基本情報入力シート!R65="","",基本情報入力シート!R65) -> 東京都 | L40: =IF(基本情報入力シート!W65="","",基本情報入力シート!W65) -> 千代田区 | M40: =IF(基本情報入力シート!X65="","",基本情報入力シート!X65) -> ○○GH | N40: =IF(基本情報入力シート!Y65="","",基本情報入力シート!Y65) -> 認知症対応型共同生活介護（短期利用型） | O40: 処遇改善加算Ⅳ | P40: 処遇改善加算Ⅱ | Q40: 18246000 | S40: =IFERROR(ROUNDDOWN(Q40*VLOOKUP(N40,【参考】数式用!$AR$2:$AW$48,MATCH(P40,【参考】数式用!$AT$4:$AW$4)+2,FALSE)*0.5, 0), "") -> 6406601 | T40: ○ | U40: =IFERROR(IF(AG40<>"",Q40*VLOOKUP(N40,【参考】数式用!$AG$2:$AL$48,MATCH(P40,【参考】数式用!$AI$4:$AL$4,0)+2,0), ""), "") | Y40: ― | AA40: =IFERROR(IF(Y40="ー", "", ROUNDDOWN(Z40*VLOOKUP(N40,【参考】数式用!$AR$2:$AW$48,MATCH(Y40,【参考】数式用!$AT$4:$AW$4)+2,FALSE)*0.5, 0)), "") | AC40: =IFERROR(IF(AG40<>"",Z40*VLOOKUP(N40,【参考】数式用!$AG$2:$AL$48,MATCH(Y40,【参考】数式用!$AI$4:$AL$4,0)+2,0), ""), "") | AG40: =IFERROR(VLOOKUP(O40, 【参考】数式用!$AY$5:$AY$13, 1, FALSE), "") | AH40: =IFERROR(VLOOKUP(N40, 【参考】数式用!$BA$2:$BB$48, 2, FALSE), "") -> 対象外 | AI40: =IF(AND(OR(P40="処遇改善加算Ⅰ",P40="処遇改善加算Ⅱ"),AH40="対象"), 1,"") | AJ40: =IF(OR(Y40="処遇改善加算Ⅰ",Y40="処遇改善加算Ⅱ"),IF(AND(N40<>"訪問型サービス（総合事業）",N40<>"通所型サービス（総合事業）",N40<>"（介護予防）短期入所生活介護",N40<>"（介護予防）短期入所療養介護（老健）",N40<>"（介護予防）短期入所療養介護 （病院等（老健以外）)",N40<>"（介護予防）短期入所療養介護（医療院）"),1,""),"")
A41: 28 | B41: =IF(基本情報入力シート!C66="","",基本情報入力シート!C66) -> 1111111134 | J41: =IF(基本情報入力シート!M66="","",基本情報入力シート!M66) -> 千代田区 | K41: =IF(基本情報入力シート!R66="","",基本情報入力シート!R66) -> 東京都 | L41: =IF(基本情報入力シート!W66="","",基本情報入力シート!W66) -> 千代田区 | M41: =IF(基本情報入力シート!X66="","",基本情報入力シート!X66) -> ○○GH | N41: =IF(基本情報入力シート!Y66="","",基本情報入力シート!Y66) -> 介護予防認知症対応型共同生活介護 | O41: 処遇改善加算Ⅳ | P41: 処遇改善加算Ⅱ | Q41: 18246000 | S41: =IFERROR(ROUNDDOWN(Q41*VLOOKUP(N41,【参考】数式用!$AR$2:$AW$48,MATCH(P41,【参考】数式用!$AT$4:$AW$4)+2,FALSE)*0.5, 0), "") -> 6406601 | T41: ○ | U41: =IFERROR(IF(AG41<>"",Q41*VLOOKUP(N41,【参考】数式用!$AG$2:$AL$48,MATCH(P41,【参考】数式用!$AI$4:$AL$4,0)+2,0), ""), "") | Y41: ― | AA41: =IFERROR(IF(Y41="ー", "", ROUNDDOWN(Z41*VLOOKUP(N41,【参考】数式用!$AR$2:$AW$48,MATCH(Y41,【参考】数式用!$AT$4:$AW$4)+2,FALSE)*0.5, 0)), "") | AC41: =IFERROR(IF(AG41<>"",Z41*VLOOKUP(N41,【参考】数式用!$AG$2:$AL$48,MATCH(Y41,【参考】数式用!$AI$4:$AL$4,0)+2,0), ""), "") | AG41: =IFERROR(VLOOKUP(O41, 【参考】数式用!$AY$5:$AY$13, 1, FALSE), "") | AH41: =IFERROR(VLOOKUP(N41, 【参考】数式用!$BA$2:$BB$48, 2, FALSE), "") -> 対象外 | AI41: =IF(AND(OR(P41="処遇改善加算Ⅰ",P41="処遇改善加算Ⅱ"),AH41="対象"), 1,"") | AJ41: =IF(OR(Y41="処遇改善加算Ⅰ",Y41="処遇改善加算Ⅱ"),IF(AND(N41<>"訪問型サービス（総合事業）",N41<>"通所型サービス（総合事業）",N41<>"（介護予防）短期入所生活介護",N41<>"（介護予防）短期入所療養介護（老健）",N41<>"（介護予防）短期入所療養介護 （病院等（老健以外）)",N41<>"（介護予防）短期入所療養介護（医療院）"),1,""),"")
A42: 29 | B42: =IF(基本情報入力シート!C67="","",基本情報入力シート!C67) -> 1111111135 | J42: =IF(基本情報入力シート!M67="","",基本情報入力シート!M67) -> 千代田区 | K42: =IF(基本情報入力シート!R67="","",基本情報入力シート!R67) -> 東京都 | L42: =IF(基本情報入力シート!W67="","",基本情報入力シート!W67) -> 千代田区 | M42: =IF(基本情報入力シート!X67="","",基本情報入力シート!X67) -> ○○GH | N42: =IF(基本情報入力シート!Y67="","",基本情報入力シート!Y67) -> 介護予防認知症対応型共同生活介護（短期利用型） | O42: 処遇改善加算Ⅳ | P42: 処遇改善加算Ⅱ | Q42: 18246000 | S42: =IFERROR(ROUNDDOWN(Q42*VLOOKUP(N42,【参考】数式用!$AR$2:$AW$48,MATCH(P42,【参考】数式用!$AT$4:$AW$4)+2,FALSE)*0.5, 0), "") -> 6406601 | T42: ○ | U42: =IFERROR(IF(AG42<>"",Q42*VLOOKUP(N42,【参考】数式用!$AG$2:$AL$48,MATCH(P42,【参考】数式用!$AI$4:$AL$4,0)+2,0), ""), "") | Y42: ― | AA42: =IFERROR(IF(Y42="ー", "", ROUNDDOWN(Z42*VLOOKUP(N42,【参考】数式用!$AR$2:$AW$48,MATCH(Y42,【参考】数式用!$AT$4:$AW$4)+2,FALSE)*0.5, 0)), "") | AC42: =IFERROR(IF(AG42<>"",Z42*VLOOKUP(N42,【参考】数式用!$AG$2:$AL$48,MATCH(Y42,【参考】数式用!$AI$4:$AL$4,0)+2,0), ""), "") | AG42: =IFERROR(VLOOKUP(O42, 【参考】数式用!$AY$5:$AY$13, 1, FALSE), "") | AH42: =IFERROR(VLOOKUP(N42, 【参考】数式用!$BA$2:$BB$48, 2, FALSE), "") -> 対象外 | AI42: =IF(AND(OR(P42="処遇改善加算Ⅰ",P42="処遇改善加算Ⅱ"),AH42="対象"), 1,"") | AJ42: =IF(OR(Y42="処遇改善加算Ⅰ",Y42="処遇改善加算Ⅱ"),IF(AND(N42<>"訪問型サービス（総合事業）",N42<>"通所型サービス（総合事業）",N42<>"（介護予防）短期入所生活介護",N42<>"（介護予防）短期入所療養介護（老健）",N42<>"（介護予防）短期入所療養介護 （病院等（老健以外）)",N42<>"（介護予防）短期入所療養介護（医療院）"),1,""),"")
...

Sheet 【参考】数式用
A1: 表１ 加算率一覧 | AG1: 表２ 処遇改善加算Ⅰ～Ⅳと旧ベースアップ等加算の比率（月額賃金改善要件Ⅰ・Ⅱ） | AN1: 表３ | AP1: 表５ | AR1: 表６ 処遇改善加算Ⅰ～Ⅳと旧ベースアップ等加算の比率（月額賃金改善要件Ⅰ・Ⅱ） | AY1: 表７ 月額賃金改善要件Ⅱが適用される加算区分 | BA1: 表８ キャリアパス要件Ⅳ 規定人数集計対象外リスト
A2: コード名 | B2: コード値 | C2: 介護職員処遇改善加算 | G2: 介護職員等特定処遇改善加算 | J2: 介護職員等ベースアップ等支援加算 | L2: 介護職員等処遇改善加算 | AE2: （参考）令和６年度介護報酬改定による引上げ分 | AG2: コード名 | AH2: コード値 | AI2: 旧ベースアップ等加算の加算率との比 | AN2: ✓ | AP2: 処遇改善加算Ⅰ | AR2: コード名 | AS2: コード値 | AT2: 処遇改善加算Ⅳとの比 | AY2: 令和７年３月時点の加算区分 | BA2: サービス区分 | BB2: 対象
C3: キャリアパス要件等の適合状況に応じた加算率 | G3: サービス提供体制強化加算等の算定状況に応じた加算率 | L3: 各要件の適合状況に応じた加算率（処遇改善加算（Ⅴ）は経過措置区分） | AP3: 処遇改善加算Ⅱ
C4: 旧処遇改善加算Ⅰ | D4: 旧処遇改善加算Ⅱ | E4: 旧処遇改善加算Ⅲ | F4: 旧処遇改善加算なし | G4: 特定加算Ⅰ | H4: 特定加算Ⅱ | I4: 特定加算なし | J4: ベア加算あり | K4: ベア加算なし | L4: 処遇改善加算Ⅰ | M4: 処遇改善加算Ⅱ | N4: 処遇改善加算Ⅲ | O4: 処遇改善加算Ⅳ | P4: 処遇改善加算Ⅴ（１） | Q4: 処遇改善加算Ⅴ（２） | R4: 処遇改善加算Ⅴ（３） | S4: 処遇改善加算Ⅴ（４） | T4: 処遇改善加算Ⅴ（５） | U4: 処遇改善加算Ⅴ（６） | V4: 処遇改善加算Ⅴ（７） | W4: 処遇改善加算Ⅴ（８） | X4: 処遇改善加算Ⅴ（９） | Y4: 処遇改善加算Ⅴ（10） | Z4: 処遇改善加算Ⅴ（11） | AA4: 処遇改善加算Ⅴ（12） | AB4: 処遇改善加算Ⅴ（13） | AC4: 処遇改善加算Ⅴ（14） | AD4: 処遇改善加算なし | AI4: 処遇改善加算Ⅰ | AJ4: 処遇改善加算Ⅱ | AK4: 処遇改善加算Ⅲ | AL4: 処遇改善加算Ⅳ | AP4: 処遇改善加算Ⅲ | AT4: 処遇改善加算Ⅰ | AU4: 処遇改善加算Ⅱ | AV4: 処遇改善加算Ⅲ | AW4: 処遇改善加算Ⅳ
A5: 訪問介護 | B5: 11 | C5: 0.137 | D5: 0.1 | E5: 0.055 | F5: 0 | G5: 0.063 | H5: 0.042 | I5: 0 | J5: 0.024 | K5: 0 | L5: 0.245 | M5: 0.224 | N5: 0.182 | O5: 0.145 | P5: 0.221 | Q5: 0.208 | R5: 0.2 | S5: 0.187 | T5: 0.184 | U5: 0.163 | V5: 0.163 | W5: 0.158 | X5: 0.142 | Y5: 0.139 | Z5: 0.121 | AA5: 0.118 | AB5: 0.1 | AC5: 0.076 | AD5: 0 | AE5: 0.021 | AG5: 訪問介護 | AH5: 11 | AI5: =J5/L5 -> 0.097959184 | AJ5: =J5/M5 -> 0.10714286 | AK5: =J5/N5 -> 0.13186813 | AL5: =J5/O5 -> 0.16551724 | AN5: 表４ | AP5: 処遇改善加算Ⅳ | AR5: 訪問介護 | AS5: 11 | AT5: =O5/L5 -> 0.59183673 | AU5: =O5/M5 -> 0.64732143 | AV5: =O5/N5 -> 0.7967033 | AW5: =O5/O5 -> 1 | AY5: 処遇改善加算Ⅴ（１） | BA5: 訪問介護 | BB5: 対象
A6: 夜間対応型訪問介護 | B6: 71 | C6: 0.137 | D6: 0.1 | E6: 0.055 | F6: 0 | G6: 0.063 | H6: 0.042 | I6: 0 | J6: 0.024 | K6: 0 | L6: 0.245 | M6: 0.224 | N6: 0.182 | O6: 0.145 | P6: 0.221 | Q6: 0.208 | R6: 0.2 | S6: 0.187 | T6: 0.184 | U6: 0.163 | V6: 0.163 | W6: 0.158 | X6: 0.142 | Y6: 0.139 | Z6: 0.121 | AA6: 0.118 | AB6: 0.1 | AC6: 0.076 | AD6: 0 | AE6: 0.021 | AG6: 夜間対応型訪問介護 | AH6: 71 | AI6: =J6/L6 -> 0.097959184 | AJ6: =J6/M6 -> 0.10714286 | AK6: =J6/N6 -> 0.13186813 | AL6: =J6/O6 -> 0.16551724 | AN6: ○ | AP6: ― | AR6: 夜間対応型訪問介護 | AS6: 71 | AT6: =O6/L6 -> 0.59183673 | AU6: =O6/M6 -> 0.64732143 | AV6: =O6/N6 -> 0.7967033 | AW6: =O6/O6 -> 1 | AY6: 処遇改善加算Ⅴ（３） | BA6: 夜間対応型訪問介護 | BB6: 対象
A7: 定期巡回・随時対応型訪問介護看護 | B7: 76 | C7: 0.137 | D7: 0.1 | E7: 0.055 | F7: 0 | G7: 0.063 | H7: 0.042 | I7: 0 | J7: 0.024 | K7: 0 | L7: 0.245 | M7: 0.224 | N7: 0.182 | O7: 0.145 | P7: 0.221 | Q7: 0.208 | R7: 0.2 | S7: 0.187 | T7: 0.184 | U7: 0.163 | V7: 0.163 | W7: 0.158 | X7: 0.142 | Y7: 0.139 | Z7: 0.121 | AA7: 0.118 | AB7: 0.1 | AC7: 0.076 | AD7: 0 | AE7: 0.021 | AG7: 定期巡回・随時対応型訪問介護看護 | AH7: 76 | AI7: =J7/L7 -> 0.097959184 | AJ7: =J7/M7 -> 0.10714286 | AK7: =J7/N7 -> 0.13186813 | AL7: =J7/O7 -> 0.16551724 | AR7: 定期巡回・随時対応型訪問介護看護 | AS7: 76 | AT7: =O7/L7 -> 0.59183673 | AU7: =O7/M7 -> 0.64732143 | AV7: =O7/N7 -> 0.7967033 | AW7: =O7/O7 -> 1 | AY7: 処遇改善加算Ⅴ（５） | BA7: 定期巡回・随時対応型訪問介護看護 | BB7: 対象
A8: 訪問入浴介護 | B8: 12 | C8: 0.058 | D8: 0.042 | E8: 0.023 | F8: 0 | G8: 0.021 | H8: 0.015 | I8: 0 | J8: 0.011 | K8: 0 | L8: 0.1 | M8: 0.094 | N8: 0.079 | O8: 0.063 | P8: 0.089 | Q8: 0.084 | R8: 0.083 | S8: 0.078 | T8: 0.073 | U8: 0.067 | V8: 0.065 | W8: 0.068 | X8: 0.059 | Y8: 0.054 | Z8: 0.052 | AA8: 0.048 | AB8: 0.044 | AC8: 0.033 | AD8: 0 | AE8: 0.01 | AG8: 訪問入浴介護 | AH8: 12 | AI8: =J8/L8 -> 0.11 | AJ8: =J8/M8 -> 0.11702128 | AK8: =J8/N8 -> 0.13924051 | AL8: =J8/O8 -> 0.17460317 | AR8: 訪問入浴介護 | AS8: 12 | AT8: =O8/L8 -> 0.63 | AU8: =O8/M8 -> 0.67021277 | AV8: =O8/N8 -> 0.79746835 | AW8: =O8/O8 -> 1 | AY8: 処遇改善加算Ⅴ（６） | BA8: 訪問入浴介護 | BB8: 対象
A9: 介護予防訪問入浴介護 | B9: 62 | C9: 0.058 | D9: 0.042 | E9: 0.023 | F9: 0 | G9: 0.021 | H9: 0.015 | I9: 0 | J9: 0.011 | K9: 0 | L9: 0.1 | M9: 0.094 | N9: 0.079 | O9: 0.063 | P9: 0.089 | Q9: 0.084 | R9: 0.083 | S9: 0.078 | T9: 0.073 | U9: 0.067 | V9: 0.065 | W9: 0.068 | X9: 0.059 | Y9: 0.054 | Z9: 0.052 | AA9: 0.048 | AB9: 0.044 | AC9: 0.033 | AD9: 0 | AE9: 0.01 | AG9: 介護予防訪問入浴介護 | AH9: 62 | AI9: =J9/L9 -> 0.11 | AJ9: =J9/M9 -> 0.11702128 | AK9: =J9/N9 -> 0.13924051 | AL9: =J9/O9 -> 0.17460317 | AR9: 介護予防訪問入浴介護 | AS9: 62 | AT9: =O9/L9 -> 0.63 | AU9: =O9/M9 -> 0.67021277 | AV9: =O9/N9 -> 0.79746835 | AW9: =O9/O9 -> 1 | AY9: 処遇改善加算Ⅴ（８） | BA9: 介護予防訪問入浴介護 | BB9: 対象外
A10: 通所介護 | B10: 15 | C10: 0.059 | D10: 0.043 | E10: 0.023 | F10: 0 | G10: 0.012 | H10: 0.01 | I10: 0 | J10: 0.011 | K10: 0 | L10: 0.092 | M10: 0.09 | N10: 0.08 | O10: 0.064 | P10: 0.081 | Q10: 0.076 | R10: 0.079 | S10: 0.074 | T10: 0.065 | U10: 0.063 | V10: 0.056 | W10: 0.069 | X10: 0.054 | Y10: 0.045 | Z10: 0.053 | AA10: 0.043 | AB10: 0.044 | AC10: 0.033 | AD10: 0 | AE10: 0.01 | AG10: 通所介護 | AH10: 15 | AI10: =J10/L10 -> 0.11956522 | AJ10: =J10/M10 -> 0.12222222 | AK10: =J10/N10 -> 0.1375 | AL10: =J10/O10 -> 0.171875 | AR10: 通所介護 | AS10: 15 | AT10: =O10/L10 -> 0.69565217 | AU10: =O10/M10 -> 0.71111111 | AV10: =O10/N10 -> 0.8 | AW10: =O10/O10 -> 1 | AY10: 処遇改善加算Ⅴ（10） | BA10: 通所介護 | BB10: 対象
A11: 地域密着型通所介護 | B11: 78 | C11: 0.059 | D11: 0.043 | E11: 0.023 | F11: 0 | G11: 0.012 | H11: 0.01 | I11: 0 | J11: 0.011 | K11: 0 | L11: 0.092 | M11: 0.09 | N11: 0.08 | O11: 0.064 | P11: 0.081 | Q11: 0.076 | R11: 0.079 | S11: 0.074 | T11: 0.065 | U11: 0.063 | V11: 0.056 | W11: 0.069 | X11: 0.054 | Y11: 0.045 | Z11: 0.053 | AA11: 0.043 | AB11: 0.044 | AC11: 0.033 | AD11: 0 | AE11: 0.01 | AG11: 地域密着型通所介護 | AH11: 78 | AI11: =J11/L11 -> 0.11956522 | AJ11: =J11/M11 -> 0.12222222 | AK11: =J11/N11 -> 0.1375 | AL11: =J11/O11 -> 0.171875 | AR11: 地域密着型通所介護 | AS11: 78 | AT11: =O11/L11 -> 0.69565217 | AU11: =O11/M11 -> 0.71111111 | AV11: =O11/N11 -> 0.8 | AW11: =O11/O11 -> 1 | AY11: 処遇改善加算Ⅴ（11） | BA11: 地域密着型通所介護 | BB11: 対象
A12: 通所リハビリテーション | B12: 16 | C12: 0.047 | D12: 0.034 | E12: 0.019 | F12: 0 | G12: 0.02 | H12: 0.017 | I12: 0 | J12: 0.01 | K12: 0 | L12: 0.086 | M12: 0.083 | N12: 0.066 | O12: 0.053 | P12: 0.076 | Q12: 0.073 | R12: 0.073 | S12: 0.07 | T12: 0.063 | U12: 0.06 | V12: 0.058 | W12: 0.056 | X12: 0.055 | Y12: 0.048 | Z12: 0.043 | AA12: 0.045 | AB12: 0.038 | AC12: 0.028 | AD12: 0 | AE12: 0.009 | AG12: 通所リハビリテーション | AH12: 16 | AI12: =J12/L12 -> 0.11627907 | AJ12: =J12/M12 -> 0.12048193 | AK12: =J12/N12 -> 0.15151515 | AL12: =J12/O12 -> 0.18867925 | AR12: 通所リハビリテーション | AS12: 16 | AT12: =O12/L12 -> 0.61627907 | AU12: =O12/M12 -> 0.63855422 | AV12: =O12/N12 -> 0.8030303 | AW12: =O12/O12 -> 1 | AY12: 処遇改善加算Ⅴ（12） | BA12: 通所リハビリテーション | BB12: 対象
A13: 介護予防通所リハビリテーション | B13: 66 | C13: 0.047 | D13: 0.034 | E13: 0.019 | F13: 0 | G13: 0.02 | H13: 0.017 | I13: 0 | J13: 0.01 | K13: 0 | L13: 0.086 | M13: 0.083 | N13: 0.066 | O13: 0.053 | P13: 0.076 | Q13: 0.073 | R13: 0.073 | S13: 0.07 | T13: 0.063 | U13: 0.06 | V13: 0.058 | W13: 0.056 | X13: 0.055 | Y13: 0.048 | Z13: 0.043 | AA13: 0.045 | AB13: 0.038 | AC13: 0.028 | AD13: 0 | AE13: 0.009 | AG13: 介護予防通所リハビリテーション | AH13: 66 | AI13: =J13/L13 -> 0.11627907 | AJ13: =J13/M13 -> 0.12048193 | AK13: =J13/N13 -> 0.15151515 | AL13: =J13/O13 -> 0.18867925 | AR13: 介護予防通所リハビリテーション | AS13: 66 | AT13: =O13/L13 -> 0.61627907 | AU13: =O13/M13 -> 0.63855422 | AV13: =O13/N13 -> 0.8030303 | AW13: =O13/O13 -> 1 | AY13: 処遇改善加算Ⅴ（14） | BA13: 介護予防通所リハビリテーション | BB13: 対象外
A14: 特定施設入居者生活介護 | B14: 33 | C14: 0.082 | D14: 0.06 | E14: 0.033 | F14: 0 | G14: 0.018 | H14: 0.012 | I14: 0 | J14: 0.015 | K14: 0 | L14: 0.128 | M14: 0.122 | N14: 0.11 | O14: 0.088 | P14: 0.113 | Q14: 0.106 | R14: 0.107 | S14: 0.1 | T14: 0.091 | U14: 0.085 | V14: 0.079 | W14: 0.095 | X14: 0.073 | Y14: 0.064 | Z14: 0.073 | AA14: 0.058 | AB14: 0.061 | AC14: 0.046 | AD14: 0 | AE14: 0.013 | AG14: 特定施設入居者生活介護 | AH14: 33 | AI14: =J14/L14 -> 0.1171875 | AJ14: =J14/M14 -> 0.12295082 | AK14: =J14/N14 -> 0.13636364 | AL14: =J14/O14 -> 0.17045455 | AR14: 特定施設入居者生活介護 | AS14: 33 | AT14: =O14/L14 -> 0.6875 | AU14: =O14/M14 -> 0.72131148 | AV14: =O14/N14 -> 0.8 | AW14: =O14/O14 -> 1 | BA14: 特定施設入居者生活介護 | BB14: 対象
A15: 特定施設入居者生活介護（短期利用型） | B15: 27 | C15: 0.082 | D15: 0.06 | E15: 0.033 | F15: 0 | G15: 0.018 | H15: 0.012 | I15: 0 | J15: 0.015 | K15: 0 | L15: 0.128 | M15: 0.122 | N15: 0.11 | O15: 0.088 | P15: 0.113 | Q15: 0.106 | R15: 0.107 | S15: 0.1 | T15: 0.091 | U15: 0.085 | V15: 0.079 | W15: 0.095 | X15: 0.073 | Y15: 0.064 | Z15: 0.073 | AA15: 0.058 | AB15: 0.061 | AC15: 0.046 | AD15: 0 | AE15: 0.013 | AG15: 特定施設入居者生活介護（短期利用型） | AH15: 27 | AI15: =J15/L15 -> 0.1171875 | AJ15: =J15/M15 -> 0.12295082 | AK15: =J15/N15 -> 0.13636364 | AL15: =J15/O15 -> 0.17045455 | AR15: 特定施設入居者生活介護（短期利用型） | AS15: 27 | AT15: =O15/L15 -> 0.6875 | AU15: =O15/M15 -> 0.72131148 | AV15: =O15/N15 -> 0.8 | AW15: =O15/O15 -> 1 | BA15: 特定施設入居者生活介護（短期利用型） | BB15: 対象外
A16: 介護予防特定施設入居者生活介護 | B16: 35 | C16: 0.082 | D16: 0.06 | E16: 0.033 | F16: 0 | G16: 0.018 | H16: 0.012 | I16: 0 | J16: 0.015 | K16: 0 | L16: 0.128 | M16: 0.122 | N16: 0.11 | O16: 0.088 | P16: 0.113 | Q16: 0.106 | R16: 0.107 | S16: 0.1 | T16: 0.091 | U16: 0.085 | V16: 0.079 | W16: 0.095 | X16: 0.073 | Y16: 0.064 | Z16: 0.073 | AA16: 0.058 | AB16: 0.061 | AC16: 0.046 | AD16: 0 | AE16: 0.013 | AG16: 介護予防特定施設入居者生活介護 | AH16: 35 | AI16: =J16/L16 -> 0.1171875 | AJ16: =J16/M16 -> 0.12295082 | AK16: =J16/N16 -> 0.13636364 | AL16: =J16/O16 -> 0.17045455 | AR16: 介護予防特定施設入居者生活介護 | AS16: 35 | AT16: =O16/L16 -> 0.6875 | AU16: =O16/M16 -> 0.72131148 | AV16: =O16/N16 -> 0.8 | AW16: =O16/O16 -> 1 | BA16: 介護予防特定施設入居者生活介護 | BB16: 対象外
