Workbook
Name __________kk29: #REF!
Name _________kk06: #REF!
Name _________kk29: #REF!
Name _________kk29: #REF!
Name _________kk29: #REF!
Name ________kk06: #REF!
Name ________kk06: #REF!
Name ________kk06: #REF!
Name ________kk29: #REF!
Name ________kk29: #REF!
Name ________kk29: #REF!
Name _______kk06: #REF!
Name _______kk06: #REF!
Name _______kk29: #REF!
Name _______kk29: #REF!
Name ______kk06: #REF!
Name ______kk06: #REF!
Name ______kk29: #REF!
Name ______kk29: #REF!
Name _____kk06: #REF!
Name _____kk06: #REF!
Name _____kk29: #REF!
Name _____kk29: #REF!
Name ____kk06: #REF!
Name ____kk06: #REF!
Name ____kk29: #REF!
Name ____kk29: #REF!
Name ___kk06: #REF!
Name ___kk06: #REF!
Name ___kk29: #REF!
Name ___kk29: #REF!
Name __kk06: #REF!
Name __kk06: #REF!
Name __kk06: #REF!
Name __kk06: #REF!
Name __kk06: #REF!
Name __kk06: #REF!
Name __kk06: #REF!
Name __kk06: #REF!
Name __kk29: #REF!
Name __kk29: #REF!
Name __kk29: #REF!
Name __kk29: #REF!
Name __kk29: #REF!
Name __kk29: #REF!
Name __kk29: #REF!
Name __kk29: #REF!
Name __KK30: #REF!
Name _kk06: #REF!
Name _kk06: #REF!
Name _kk06: #REF!
Name _kk06: #REF!
Name _kk06: #REF!
Name _kk06: #REF!
Name _kk06: #REF!
Name _kk06: #REF!
Name _kk29: #REF!
Name _kk29: #REF!
Name _m: #REF!
Name _miyaji: #REF!

Sheet 提出書類一覧
B1: 新規 ・ 更新 提出書類一覧 （兼チェックリスト）
B2: ※申請される際には、事業所保管用として事前に提出書類一式のコピーをとっておくようにして下さい。
R4: の箇所にご記入ください（手書き可）
D7: 新 規 | G7: 更 新 | J7: 開設希望又は更新年月日 | P7: 令和 | S7: 年 | U7: 月 | W7: 日
B9: 法 人 名
B10: 事業所名
C12: ▼提出いただいた申請書類に記載されている内容について、問い合わせする際の連絡先を記入してください。
B13: 担当者 | J13: 電 話
J14: メールアドレス
B16: 希望事業種別 | G16: 児童発達支援 | Q16: 定 員
G17: 放課後等デイサービス | M17: [多機能型] | X17: 名
G18: 保育所等訪問支援 | N18: 一体型 | R18: ※多機能型(規模別)の場合
G19: 居宅訪問型児童発達支援 | N19: 規模別 | S19: 児童発達支援 | Z19: 名
B20: 主たる障害種別 | H20: 主たる障害種別以外も受け入れる | S20: 放課後等デイサービス | Z20: 名
D21: 重症心身障害児(重心型) | S21: 保育所等訪問支援 | Z21: 名
D22: 重症心身障害児以外(一般型) | S22: 居宅訪問型児童発達支援 | Z22: 名
J24: ご用意できたものにチェックをつけてください ⇒ | T24: 申請者 確認欄 | V24: 様 式
C25: (↓品川区使用欄)
B26: 申請書 | D26: 提出物チェックリスト(本用紙) | V26: 本用紙
D27: 指定申請書 | H27: 既に指定を受けている事業所等がある場合 ⇒ 別紙の提出 | V27: 第1号様式
B28: 付 表 | D28: 指定に係る記載事項(付表)
F29: 児童発達支援 | L29: ⇒ | M29: 付表１ | V29: 別記第１号様式
F30: 放課後等デイサービス | L30: ⇒ | M30: 付表１ | V30: 別記第１号様式
F31: 居宅訪問型児童発達支援 | L31: ⇒ | M31: 付表２ | V31: 別記第２号様式
F32: 保育所等訪問支援 | L32: ⇒ | M32: 付表３ | V32: 別記第３号様式
B33: 加 算 | E33: 各加算に必要な書類を適宜ご提出ください。 | V33: （参考）加算届出書類一式
D34: 障害児通所・入所給付費の算定に係る体制等状況一覧表 ※サービス種別・障害種別ごと
D35: 障害児（通所）給付費算定に係る体制等に関する届出書
B36: 人 員 | D36: 従業者の勤務の体制及び勤務形態一覧表 | V36: 参考様式1
D37: 管 理 者 | G37: 経歴書 | V37: 参考様式2
G38: ※児発管の資格要件に必要なものは必ず提出
D39: 児童発達支援 | H39: 経歴書 ※管理者と兼務の場合は1枚にまとめてもよい | V39: 参考様式3
D40: 管理責任者 | H40: 資格証
D41: （児発管） | H41: 実務経験証明書 | V41: 参考様式4
H42: 研修修了書
D43: 従 業 員 | G43: ※職種の資格要件・加算の申請に必要なものは必ず提出
D44: （訪問支援員） | H44: 資格証
D45: ※ 保育所等訪問支 援、居宅訪問型児 童発達支援の場合 | H45: 実務経験証明書 | V45: 参考様式4
H46: 研修修了書
D47: 就業規則
...

Sheet 第1号様式
A1: 第１号様式（第２条関係）
A2: （表）
A4: 指定障害児通所支援事業所/指定障害児入所施設
E5: 指定 | G5: 申請書
O6: 年 | R6: 月 | U6: 日
B7: 品川区長 あて
H8: 所在地
G9: 申請者 | H9: 名 称
H10: 代表者
B12: 表題の事業所・施設に係る指定/指定の更新を受けたいので、下記のとおり、関係書類を添えて申請します。
F14: 法人番号(13桁)
A15: 申請者(設置者) | B15: フリガナ
B16: 名称
B17: 主たる事務所の所在地 | D17: (郵便番号 | F17: - | I17: ）
E18: 県 | H18: 市
B20: 連絡先 | D20: 電話番号 | E20: (内線) | L20: FAX番号
D21: E-mailアドレス
B22: 法人等の種類
B23: 代表者の職・氏名・生年月日 | D23: 職名 | G23: フリガナ | O23: 生年月日
G24: 氏名
B25: 代表者の住所 | D25: (郵便番号 | F25: - | I25: ）
E26: 県 | H26: 市
A28: 指定を受けようとする事業所・施設の種類 | B28: フリガナ
B29: 名称
B30: 事業所(施設)の所在地 | D30: (郵便番号 | F30: - | I30: ）
D31: 東京都品川区
B32: 多機能型事業所に係る指定の申請の場合は○
B33: 同一所在地において 行う事業等の種類 | F33: 今回の指定(更新・変更)申請をする対象事業等に○ | H33: 既に指定を受けている事業に○ | L33: 事業開始の 予定年月日 | R33: 本申請書に添付して提出する様式(付表)
E34: 共生型サービスの指定を申請するものに○
B35: 指定障害児通所支援事業所 | C35: 児童発達支援 | R35: 付表１
C36: 放課後等デイサービス | R36: 付表１
C37: 居宅訪問型児童発達支援 | R37: 付表２
C38: 保育所等訪問支援 | R38: 付表３
B39: 指定障害児入所施設 | R39: 付表４/５
A40: 【既に指定を受けている場合】事業所番号
A41: （裏）
A43: 1 | B43: 「法人等の種類」欄には、「社会福祉法人(社協以外)」、「社会福祉法人(社協)」、「医療法人」、「社団・財団」、「営利法人」、「非営利法人(ＮＰＯ)」、「農協」、「生協」、「その他法人」、「地方公共団体(都道府県)」、「地方公共団体(市町村)」、「地方公共団体(広域連合・一部事務組合等)」、「非法人」、「その他」のいずれかを記入してください。
A44: 2 | B44: 「同一所在地において行う事業等の種類」欄には、今回申請をする事業及び既に指定を受けている事業のそれぞれに「○」を記載してください。
A45: 3 | B45: 「【既に指定を受けている場合】事業所番号」欄には、申請を行う都道府県等において既に事業所としての指定を受け、番号が付番されている場合に、その事業所番号を記載してください。
A46: 4 | B46: 「事業の開始予定年月日」欄については、更新の場合にあっては、現に受けている指定の有効期間満了日を記載してください。

Sheet 付表１
A1: (表)
A2: 付表１ 児童発達支援事業所及び放課後等デイサービス事業所の指定に係る記載事項
A3: サービス種別(申請するものに○) | E3: 児童発達支援 | H3: 放課後等デイサービス
A4: 事業所 | B4: フリガナ
B5: 名 称
B6: 所在地 | C6: (郵便番号 | E6: - | G6: )
C7: 東京都品川区
B9: 連 絡 先 | C9: 電話番号 | G9: FAX
B10: E-Mail
A11: 管理者 | B11: フリガナ | F11: 生年月日
B12: 氏 名 | H12: 年 | J12: 月 | L12: 日
B13: 住 所 | C13: (郵便番号 | E13: - | G13: )
D14: 県 | F14: 市
B16: 他の事業所又は施設の従業者との兼務(兼務の場合記入) | D16: 事業所等の名称
D17: 兼務する職種及び勤務時間等
A19: 児童発達支援管理責任者 | B19: フリガナ | F19: 生年月日
B20: 氏 名 | H20: 年 | J20: 月 | L20: 日
B21: 住 所 | C21: (郵便番号 | E21: - | G21: )
D22: 県 | F22: 市
A24: 実施主体が地方公共団体である場合は、当該事業の実施について定めてある条例等 | H24: 第 条 第 項 第 号
A25: ○人員に関する基準の確認に必要な事項
A26: 従業者の職種・員数 | C26: 居宅介護等従業者 | E26: その他の従業者
C27: 専従 | D27: 兼務 | E27: 専従 | F27: 兼務
A28: 常勤(人)
A29: 非常勤(人)
A30: 常勤換算後の人数(人)
A31: 基準上の必要人数(人)
A32: ○運営・設備に関する基準の確認に必要な事項
A33: 利用定員(人)
A34: 利用者の推定数(人)
A35: 営業日(該当する日に○) | C35: 日 | D35: 月 | E35: 火 | F35: 水 | G35: 木 | H35: 金 | J35: 土 | L35: 祝
C37: その他(年末年始等)
A38: 営業時間 | C38: 平日 | E38: ： | G38: ～ | J38: ：
C39: 土曜 | E39: ： | G39: ～ | J39: ：
C40: 日・祝 | E40: ： | G40: ～ | J40: ：
A41: 送迎の有無 | C41: 有 | E41: 無
A42: 利用料
A43: その他の費用
A44: 通常の事業の実施地域
A45: 協力医療機関 | C45: 名称 | G45: 主な診療科名
...

Sheet 付表２
A1: 付表２ 居宅訪問型児童発達支援事業所の指定に係る記載事項
A2: 事業所 | B2: フリガナ
B3: 名 称
B4: 所在地 | C4: (郵便番号 | E4: - | G4: )
C5: 東京都品川区
B7: 連 絡 先 | C7: 電話番号 | G7: FAX
B8: E-Mail
A9: 管理者 | B9: フリガナ | F9: 生年月日
B10: 氏 名 | H10: 年 | J10: 月 | L10: 日
B11: 住 所 | C11: (郵便番号 | E11: - | G11: )
D12: 県 | F12: 市
B14: 他の事業所又は施設の従業者との兼務(兼務の場合記入) | D14: 事業所等の名称
D15: 兼務する職種及び勤務時間等
A17: 児童発達支援管理責任者 | B17: フリガナ | F17: 生年月日
B18: 氏 名 | H18: 年 | J18: 月 | L18: 日
B19: 住 所 | C19: (郵便番号 | E19: - | G19: )
D20: 県 | F20: 市
A22: 実施主体が地方公共団体である場合は、当該事業の実施について定めてある条例等 | H22: 第 条 第 項 第 号
A23: ○人員に関する基準の確認に必要な事項
A24: 従業者の職種・員数 | C24: 居宅介護等従業者 | E24: その他の従業者
C25: 専従 | D25: 兼務 | E25: 専従 | F25: 兼務
A26: 常勤(人)
A27: 非常勤(人)
A28: 常勤換算後の人数(人)
A29: 基準上の必要人数(人)
A30: ○運営・設備に関する基準の確認に必要な事項
A31: 専用の区画の有無 | C31: 有 | E31: 無
A32: 営業日(該当する日に○) | C32: 日 | D32: 月 | E32: 火 | F32: 水 | G32: 木 | H32: 金 | J32: 土 | L32: 祝
C34: その他(年末年始等)
A35: 営業時間 | C35: 平日 | E35: ： | G35: ～ | J35: ：
C36: 土曜 | E36: ： | G36: ～ | J36: ：
C37: 日・祝 | E37: ： | G37: ～ | J37: ：
A38: 利用料
A39: その他の費用
A40: 通常の事業の実施地域
A41: 協力医療機関 | C41: 名称 | G41: 主な診療科名
A42: (備考)
A43: １．記入欄が不足する場合は、次頁の「記入欄不足時の資料」に記載して添付してください。
A44: ２．「その他の費用」欄には、利用者に直接金銭の負担を求める場合のサービス内容についても記載してく ださい。
A45: 記入欄不足時の資料
...

Sheet 付表３
A1: 付表 ３ 保育所等訪問支援事業所の指定に係る記載事項
A2: 事業所 | B2: フリガナ
B3: 名 称
B4: 所在地 | C4: (郵便番号 | E4: - | G4: )
C5: 東京都品川区
B7: 連 絡 先 | C7: 電話番号 | G7: FAX
B8: E-Mail
A9: 管理者 | B9: フリガナ | F9: 生年月日
B10: 氏 名 | H10: 年 | J10: 月 | L10: 日
B11: 住 所 | C11: (郵便番号 | E11: - | G11: )
D12: 県 | F12: 市
B14: 他の事業所又は施設の従業者との兼務(兼務の場合記入) | D14: 事業所等の名称
D15: 兼務する職種及び勤務時間等
A17: 児童発達支援管理責任者 | B17: フリガナ | F17: 生年月日
B18: 氏 名 | H18: 年 | J18: 月 | L18: 日
B19: 住 所 | C19: (郵便番号 | E19: - | G19: )
D20: 県 | F20: 市
A22: 実施主体が地方公共団体である場合は、当該事業の実施について定めてある条例等 | H22: 第 条 第 項 第 号
A23: ○人員に関する基準の確認に必要な事項
A24: 従業者の職種・員数 | C24: 居宅介護等従業者 | E24: その他の従業者
C25: 専従 | D25: 兼務 | E25: 専従 | F25: 兼務
A26: 常勤(人)
A27: 非常勤(人)
A28: 常勤換算後の人数(人)
A29: 基準上の必要人数(人)
A30: ○運営・設備に関する基準の確認に必要な事項
A31: 営業日(該当する日に○) | C31: 日 | D31: 月 | E31: 火 | F31: 水 | G31: 木 | H31: 金 | J31: 土 | L31: 祝
C33: その他(年末年始等)
A34: 営業時間 | C34: 平日 | E34: ： | G34: ～ | J34: ：
C35: 土曜 | E35: ： | G35: ～ | J35: ：
C36: 日・祝 | E36: ： | G36: ～ | J36: ：
A37: 利用料
A38: その他の費用
A39: 通常の事業の実施地域
A40: (備考)
A41: １．記入欄が不足する場合は、次頁の「記入欄不足時の資料」に記載して添付してください。
A42: ２．「その他の費用」欄には、利用者に直接金銭の負担を求める場合のサービス内容についても記載してく ださい。
A43: 記入欄不足時の資料
A44: ■児童発達支援管理責任者
A45: 児童発達支援管理責任者 | B45: フリガナ | F45: 生年月日
...

Sheet （加算）体制状況一覧
A1: 障害児通所・入所給付費の算定に係る体制等状況一覧表
A3: 提供サービス | J3: 特例による指定の有無 | O3: 定員規模 （※1） | S3: 施設等区分 | Z3: 主たる障害種別 | AG3: その他該当する体制等
BJ4: 適用開始日
A5: 各サービス共通 | AG5: 地域区分 | AQ5: 11．一級地 12．二級地 13．三級地 14．四級地 15．五級地 16．六級地 17．七級地 23．その他
A6: 障害児通所給付費 | B6: 児童発達支援 | S6: １．児童発達支援センター ２．児童発達支援センター以外 | Z6: １．重症心身障害以外 ２．重症心身障害 | AG6: 未就学児等支援区分 | AQ6: １．非該当 ２．Ⅰ ３．Ⅱ
AG7: 定員超過 | AQ7: １．なし ２．あり
AG8: 職員欠如 | AQ8: １．なし ２．あり
AG9: 児童発達支援管理責任者欠如 | AQ9: １．なし ２．あり
AG10: 開所時間減算 | AQ10: １．なし ２．あり
AG11: 開所時間減算区分（※2） | AQ11: １．４時間未満 ２．４時間以上６時間未満
AG12: 自己評価結果等未公表減算 | AQ12: １．なし ２．あり
AG13: 支援プログラム未公表減算 | AQ13: １．なし ２．あり
AG14: 身体拘束廃止未実施 | AQ14: １．なし ２．あり
AG15: 虐待防止措置未実施 | AQ15: １．なし ２．あり
AG16: 業務継続計画未策定 | AQ16: １．なし ２．あり
AG17: 情報公表未報告 | AQ17: １．なし ２．あり
AG18: 児童指導員等加配体制 | AQ18: １．なし ４．その他従業者 ６．常勤専従（経験５年以上） ７．常勤専従（経験５年未満） ８．常勤換算（経験５年以上） ９．常勤換算（経験５年未満）
... AG41: 経過措置対象区分 | AQ41: １．非該当 ２．該当
B42: 旧医療型 児童発達支援 | S42: １．医療型児童発達支援 センター ２．指定発達支援医療機関 | AG42: 定員超過 | AQ42: １．なし ２．あり
AG43: 開所時間減算 | AQ43: １．なし ２．あり
AG44: 開所時間減算区分（※2） | AQ44: １．４時間未満 ２．４時間以上６時間未満
AG45: 支援プログラム未公表減算 | AQ45: １．なし ２．あり
AG46: 身体拘束廃止未実施 | AQ46: １．なし ２．あり
AG47: 虐待防止措置未実施 | AQ47: １．なし ２．あり
AG48: 業務継続計画未策定 | AQ48: １．なし ２．あり
AG49: 情報公表未報告 | AQ49: １．なし ２．あり
AG50: 福祉専門職員配置等 | AQ50: １．なし ３．Ⅱ ４．Ⅲ ５．Ⅰ
AG51: 食事提供加算区分 | AQ51: １．非該当 ２．Ⅰ ３．Ⅱ
AG52: 送迎体制（重度） | AQ52: １．なし ２．あり
AG53: 送迎体制（医ケア） | AQ53: １．なし ２．あり
AG54: 入浴支援体制 | AQ54: １．なし ２．あり
... AG60: 地域生活支援拠点等 | AQ60: １．非該当 ２．該当
B61: 放課後等デイサービス | AG61: 定員超過 | AQ61: １．なし ２．あり
AG62: 開所時間減算 | AQ62: １．なし ２．あり
AG63: 開所時間減算区分（※2） | AQ63: １．４時間未満 ２．４時間以上６時間未満
AG64: 職員欠如 | AQ64: １．なし ２．あり
AG65: 児童発達支援管理責任者欠如 | AQ65: １．なし ２．あり
AG66: 自己評価結果等未公表減算 | AQ66: １．なし ２．あり
AG67: 支援プログラム未公表減算 | AQ67: １．なし ２．あり
AG68: 身体拘束廃止未実施 | AQ68: １．なし ２．あり
...

Sheet （加算）体制等に関する届出書
A2: 障害児（通所・入所）給付費算定に係る体制等に関する届出書
AG4: 令和 年 月 日
B6: 品川区長 あて
N8: 届出者 | Q8: 所 在 地
Q9: 事業者名
Q10: 代表者名
A13: このことについて、関係書類を添えて以下のとおり届け出ます。
A15: 届出者 | B15: フリガナ
B16: 名称
B17: 主たる事務所 の所在地 | J17: （郵便番号 － ）
B21: 連絡先 | J21: 電話番号 | X21: ＦＡＸ番号
B22: 法人の種別 | U22: 法人所轄庁
B23: 代表者の職・氏名 | J23: 職名 | X23: 氏名
B24: 代表者の住所 | J24: （郵便番号 － ）
A28: 施設の状況 | B28: 主たる事業所の所在地 | J28: （郵便番号 － ）
B32: 連絡先 | J32: 電話番号 | X32: ＦＡＸ番号
B33: 管理者の氏名 | J33: 職名 | O33: 管理者 | X33: 氏名
B34: 管理者の住所 | J34: （郵便番号 － ）
A38: （裏面有り）
A39: (裏面）
A42: （通所・入所）支援の種類 | L42: 指定年月日 | R42: 異動等の区分 | Y42: 異動年月日 | AF42: 異動項目 （※変更の場合）
A46: 特記事項 | B46: 変更前 | T46: 変更後
A49: 関係書類 | J49: 別紙のとおり
A50: 注１ 「法人の種別欄」は、申請者が法人である場合に、「社会福祉法人」、「医療法人」、「社団法人」、 「財団法人」、「株式会社」、「有限会社」等の別を記入してください。
A52: 注２ 「法人所轄庁」欄は、申請者が認可法人である場合に、その主務官庁の名称を記載してください。
A53: 注３ 「異動等の区分」欄は、今回届出を行う事業所・施設について該当する数字に「○」を記入してください。
A54: 注４ 「異動項目」欄は、（別紙１）「障害児（通所・入所）給付費等の算定に係る体制等状況一覧表」に掲げる項目を 記載してください。
A55: 注５ 「特記事項」欄は、異動の状況について具体的に記載してください。

Sheet 参考様式1_勤務形態一覧表（児童発達支援・放課後デイサービス）
A1: 従業者の勤務の体制及び勤務形態一覧表 | AI1: サービス種別 | AK1: 児童発達支援・放課後等デイサービス
M2: 2024 | Q2: 年 | U2: 月 | AI2: 事業所名
AI3: (1)記載する期間
AI4: (2)予定/実績の別
AI5: (2)-2 定員
AG6: (3)事業所における常勤の従業者が勤務すべき時間数 | AK6: 時間/週 | AM6: 時間/月
A8: No. | B8: (4)職種 | C8: (5)勤務形態 | D8: (6)資格 | E8: (7)氏名 | F8: (8) | AK8: (9)勤務時間数合計 | AL8: (10)週平均の勤務時間数 | AM8: (11)兼務状況 （兼務先／兼務する職務の内容）等
F9: 第１週 | M9: 第２週 | T9: 第３週 | AA9: 第４週 | AH9: 第５週
F10: =DATE($M$2,$S$2,1) -> 45261 | G10: =DATE($M$2,$S$2,2) -> 45262 | H10: =DATE($M$2,$S$2,3) -> 45263 | I10: =DATE($M$2,$S$2,4) -> 45264 | J10: =DATE($M$2,$S$2,5) -> 45265 | K10: =DATE($M$2,$S$2,6) -> 45266 | L10: =DATE($M$2,$S$2,7) -> 45267 | M10: =DATE($M$2,$S$2,8) -> 45268 | N10: =DATE($M$2,$S$2,9) -> 45269 | O10: =DATE($M$2,$S$2,10) -> 45270 | P10: =DATE($M$2,$S$2,11) -> 45271 | Q10: =DATE($M$2,$S$2,12) -> 45272 | R10: =DATE($M$2,$S$2,13) -> 45273 | S10: =DATE($M$2,$S$2,14) -> 45274 | T10: =DATE($M$2,$S$2,15) -> 45275 | U10: =DATE($M$2,$S$2,16) -> 45276 | V10: =DATE($M$2,$S$2,17) -> 45277 | W10: =DATE($M$2,$S$2,18) -> 45278 | X10: =DATE($M$2,$S$2,19) -> 45279 | Y10: =DATE($M$2,$S$2,20) -> 45280 | Z10: =DATE($M$2,$S$2,21) -> 45281 | AA10: =DATE($M$2,$S$2,22) -> 45282 | AB10: =DATE($M$2,$S$2,23) -> 45283 | AC10: =DATE($M$2,$S$2,24) -> 45284 | AD10: =DATE($M$2,$S$2,25) -> 45285 | AE10: =DATE($M$2,$S$2,26) -> 45286 | AF10: =DATE($M$2,$S$2,27) -> 45287 | AG10: =DATE($M$2,$S$2,28) -> 45288 | AH10: =IF(DAY(EOMONTH(F10,0))<29,"",DATE($M$2,$S$2,29)) -> 45289 | AI10: =IF(DAY(EOMONTH(F10,0))<30,"",DATE($M$2,$S$2,30)) -> 45290 | AJ10: =IF(DAY(EOMONTH(F10,0))<31,"",DATE($M$2,$S$2,31)) -> 45291
F11: =DATE($M$2,$S$2,1) -> 45261 | G11: =DATE($M$2,$S$2,2) -> 45262 | H11: =DATE($M$2,$S$2,3) -> 45263 | I11: =DATE($M$2,$S$2,4) -> 45264 | J11: =DATE($M$2,$S$2,5) -> 45265 | K11: =DATE($M$2,$S$2,6) -> 45266 | L11: =DATE($M$2,$S$2,7) -> 45267 | M11: =DATE($M$2,$S$2,8) -> 45268 | N11: =DATE($M$2,$S$2,9) -> 45269 | O11: =DATE($M$2,$S$2,10) -> 45270 | P11: =DATE($M$2,$S$2,11) -> 45271 | Q11: =DATE($M$2,$S$2,12) -> 45272 | R11: =DATE($M$2,$S$2,13) -> 45273 | S11: =DATE($M$2,$S$2,14) -> 45274 | T11: =DATE($M$2,$S$2,15) -> 45275 | U11: =DATE($M$2,$S$2,16) -> 45276 | V11: =DATE($M$2,$S$2,17) -> 45277 | W11: =DATE($M$2,$S$2,18) -> 45278 | X11: =DATE($M$2,$S$2,19) -> 45279 | Y11: =DATE($M$2,$S$2,20) -> 45280 | Z11: =DATE($M$2,$S$2,21) -> 45281 | AA11: =DATE($M$2,$S$2,22) -> 45282 | AB11: =DATE($M$2,$S$2,23) -> 45283 | AC11: =DATE($M$2,$S$2,24) -> 45284 | AD11: =DATE($M$2,$S$2,25) -> 45285 | AE11: =DATE($M$2,$S$2,26) -> 45286 | AF11: =DATE($M$2,$S$2,27) -> 45287 | AG11: =DATE($M$2,$S$2,28) -> 45288 | AH11: =IF(DAY(EOMONTH(F11,0))<29,"",DATE($M$2,$S$2,29)) -> 45289 | AI11: =IF(DAY(EOMONTH(F11,0))<30,"",DATE($M$2,$S$2,30)) -> 45290 | AJ11: =IF(DAY(EOMONTH(F11,0))<31,"",DATE($M$2,$S$2,31)) -> 45291
A12: 1 | B12: 管理者 | C12: A | E12: A | AK12: =+SUM(F12:AJ12) -> 0 | AL12: =IF($AK$3="４週",AK12/4,AK12/(DAY(EOMONTH($F$10,0))/7)) -> 0
A13: 2 | B13: 児童発達支援管理責任者 | C13: B | E13: B | AK13: =+SUM(F13:AJ13) -> 0 | AL13: =IF($AK$3="４週",AK13/4,AK13/(DAY(EOMONTH($F$10,0))/7)) -> 0
A14: 3 | C14: C | E14: C | AK14: =+SUM(F14:AJ14) -> 0 | AL14: =IF($AK$3="４週",AK14/4,AK14/(DAY(EOMONTH($F$10,0))/7)) -> 0
A15: 4 | C15: D | E15: D | AK15: =+SUM(F15:AJ15) -> 0 | AL15: =IF($AK$3="４週",AK15/4,AK15/(DAY(EOMONTH($F$10,0))/7)) -> 0
A16: 5 | AK16: =+SUM(F16:AJ16) -> 0 | AL16: =IF($AK$3="４週",AK16/4,AK16/(DAY(EOMONTH($F$10,0))/7)) -> 0
A17: 6 | AK17: =+SUM(F17:AJ17) -> 0 | AL17: =IF($AK$3="４週",AK17/4,AK17/(DAY(EOMONTH($F$10,0))/7)) -> 0
A18: 7 | AK18: =+SUM(F18:AJ18) -> 0 | AL18: =IF($AK$3="４週",AK18/4,AK18/(DAY(EOMONTH($F$10,0))/7)) -> 0
A19: 8 | AK19: =+SUM(F19:AJ19) -> 0 | AL19: =IF($AK$3="４週",AK19/4,AK19/(DAY(EOMONTH($F$10,0))/7)) -> 0
A20: 9 | AK20: =+SUM(F20:AJ20) -> 0 | AL20: =IF($AK$3="４週",AK20/4,AK20/(DAY(EOMONTH($F$10,0))/7)) -> 0
A21: 10 | AK21: =+SUM(F21:AJ21) -> 0 | AL21: =IF($AK$3="４週",AK21/4,AK21/(DAY(EOMONTH($F$10,0))/7)) -> 0
A22: 11 | AK22: =+SUM(F22:AJ22) -> 0 | AL22: =IF($AK$3="４週",AK22/4,AK22/(DAY(EOMONTH($F$10,0))/7)) -> 0
A23: 12 | AK23: =+SUM(F23:AJ23) -> 0 | AL23: =IF($AK$3="４週",AK23/4,AK23/(DAY(EOMONTH($F$10,0))/7)) -> 0
A24: 13 | AK24: =+SUM(F24:AJ24) -> 0 | AL24: =IF($AK$3="４週",AK24/4,AK24/(DAY(EOMONTH($F$10,0))/7)) -> 0
A25: 14 | AK25: =+SUM(F25:AJ25) -> 0 | AL25: =IF($AK$3="４週",AK25/4,AK25/(DAY(EOMONTH($F$10,0))/7)) -> 0
A26: 15 | AK26: =+SUM(F26:AJ26) -> 0 | AL26: =IF($AK$3="４週",AK26/4,AK26/(DAY(EOMONTH($F$10,0))/7)) -> 0
A27: 16 | AK27: =+SUM(F27:AJ27) -> 0 | AL27: =IF($AK$3="４週",AK27/4,AK27/(DAY(EOMONTH($F$10,0))/7)) -> 0
... A31: 20 | AK31: =+SUM(F31:AJ31) -> 0 | AL31: =IF($AK$3="４週",AK31/4,AK31/(DAY(EOMONTH($F$10,0))/7)) -> 0
A32: 合計 | F32: =+SUM(F12:F31) -> 0 | G32: =+SUM(G12:G31) -> 0 | H32: =+SUM(H12:H31) -> 0 | I32: =+SUM(I12:I31) -> 0 | J32: =+SUM(J12:J31) -> 0 | K32: =+SUM(K12:K31) -> 0 | L32: =+SUM(L12:L31) -> 0 | M32: =+SUM(M12:M31) -> 0 | ... AJ32: =+SUM(AJ12:AJ31) -> 0 | AK32: =+SUM(F32:AJ32) -> 0 | AL32: =IF($AK$3="４週",AK32/4,AK32/(DAY(EOMONTH($F$10,0))/7)) -> 0
A33: サービス提供時間
A38: ＜実人数集計＞
C39: =IF(VLOOKUP($AK$1,選択肢!$A$1:$J$8,C44,FALSE)=0,"-",VLOOKUP($AK$1,選択肢!$A$1:$J$8,C44,FALSE)) -> 管理者 | E39: =IF(VLOOKUP($AK$1,選択肢!$A$1:$J$8,E44,FALSE)=0,"-",VLOOKUP($AK$1,選択肢!$A$1:$J$8,E44,FALSE)) -> 児童発達支援管理責任者 | I39: =IF(VLOOKUP($AK$1,選択肢!$A$1:$J$8,I44,FALSE)=0,"-",VLOOKUP($AK$1,選択肢!$A$1:$J$8,I44,FALSE)) -> 児童指導員 | O39: =IF(VLOOKUP($AK$1,選択肢!$A$1:$J$8,O44,FALSE)=0,"-",VLOOKUP($AK$1,選択肢!$A$1:$J$8,O44,FALSE)) -> 保育士 | U39: =IF(VLOOKUP($AK$1,選択肢!$A$1:$J$8,U44,FALSE)=0,"-",VLOOKUP($AK$1,選択肢!$A$1:$J$8,U44,FALSE)) -> 機能訓練担当職員 | AA39: =IF(VLOOKUP($AK$1,選択肢!$A$1:$J$8,AA44,FALSE)=0,"-",VLOOKUP($AK$1,選択肢!$A$1:$J$8,AA44,FALSE)) -> 看護職員 | AG39: =IF(VLOOKUP($AK$1,選択肢!$A$1:$J$8,AG44,FALSE)=0,"-",VLOOKUP($AK$1,選択肢!$A$1:$J$8,AG44,FALSE)) -> その他職員 | AL39: =IF(VLOOKUP($AK$1,選択肢!$A$1:$J$8,AL44,FALSE)=0,"-",VLOOKUP($AK$1,選択肢!$A$1:$J$8,AL44,FALSE)) -> -
C40: 専従 | D40: 兼務 | E40: 専従 | F40: 兼務 | I40: 専従 | L40: 兼務 | O40: 専従 | R40: 兼務 | U40: 専従 | X40: 兼務 | AA40: 専従 | AD40: 兼務 | AG40: 専従 | AJ40: 兼務 | AL40: 専従 | AM40: 兼務
B41: 常勤 | C41: =COUNTIFS($B$12:$B$31,C$39,$C$12:$C$31,"A",$E$12:$E$31,"*") -> 1 | D41: =COUNTIFS($B$12:$B$31,C$39,$C$12:$C$31,"B",$E$12:$E$31,"*") -> 0 | E41: =COUNTIFS($B$12:$B$31,E$39,$C$12:$C$31,"A",$E$12:$E$31,"*") -> 0 | F41: =COUNTIFS($B$12:$B$31,E$39,$C$12:$C$31,"B",$E$12:$E$31,"*") -> 1 | I41: =COUNTIFS($B$12:$B$31,I$39,$C$12:$C$31,"A",$E$12:$E$31,"*") -> 0 | L41: =COUNTIFS($B$12:$B$31,I$39,$C$12:$C$31,"B",$E$12:$E$31,"*") -> 0 | O41: =COUNTIFS($B$12:$B$31,O$39,$C$12:$C$31,"A",$E$12:$E$31,"*") -> 0 | R41: =COUNTIFS($B$12:$B$31,O$39,$C$12:$C$31,"B",$E$12:$E$31,"*") -> 0 | U41: =COUNTIFS($B$12:$B$31,U$39,$C$12:$C$31,"A",$E$12:$E$31,"*") -> 0 | X41: =COUNTIFS($B$12:$B$31,U$39,$C$12:$C$31,"B",$E$12:$E$31,"*") -> 0 | AA41: =COUNTIFS($B$12:$B$31,AA$39,$C$12:$C$31,"A",$E$12:$E$31,"*") -> 0 | AD41: =COUNTIFS($B$12:$B$31,AA$39,$C$12:$C$31,"B",$E$12:$E$31,"*") -> 0 | AG41: =COUNTIFS($B$12:$B$31,AG$39,$C$12:$C$31,"A",$E$12:$E$31,"*") -> 0 | AJ41: =COUNTIFS($B$12:$B$31,AG$39,$C$12:$C$31,"B",$E$12:$E$31,"*") -> 0 | AL41: =COUNTIFS($B$12:$B$31,AL$39,$C$12:$C$31,"A",$E$12:$E$31,"*") -> 0 | AM41: =COUNTIFS($B$12:$B$31,AL$39,$C$12:$C$31,"B",$E$12:$E$31,"*") -> 0
B42: 非常勤 | C42: =COUNTIFS($B$12:$B$31,C$39,$C$12:$C$31,"C",$E$12:$E$31,"*") -> 0 | D42: =COUNTIFS($B$12:$B$31,C$39,$C$12:$C$31,"D",$E$12:$E$31,"*") -> 0 | E42: =COUNTIFS($B$12:$B$31,E$39,$C$12:$C$31,"C",$E$12:$E$31,"*") -> 0 | F42: =COUNTIFS($B$12:$B$31,E$39,$C$12:$C$31,"D",$E$12:$E$31,"*") -> 0 | I42: =COUNTIFS($B$12:$B$31,I$39,$C$12:$C$31,"C",$E$12:$E$31,"*") -> 0 | L42: =COUNTIFS($B$12:$B$31,I$39,$C$12:$C$31,"D",$E$12:$E$31,"*") -> 0 | O42: =COUNTIFS($B$12:$B$31,O$39,$C$12:$C$31,"C",$E$12:$E$31,"*") -> 0 | R42: =COUNTIFS($B$12:$B$31,O$39,$C$12:$C$31,"D",$E$12:$E$31,"*") -> 0 | U42: =COUNTIFS($B$12:$B$31,U$39,$C$12:$C$31,"C",$E$12:$E$31,"*") -> 0 | X42: =COUNTIFS($B$12:$B$31,U$39,$C$12:$C$31,"D",$E$12:$E$31,"*") -> 0 | AA42: =COUNTIFS($B$12:$B$31,AA$39,$C$12:$C$31,"C",$E$12:$E$31,"*") -> 0 | AD42: =COUNTIFS($B$12:$B$31,AA$39,$C$12:$C$31,"D",$E$12:$E$31,"*") -> 0 | AG42: =COUNTIFS($B$12:$B$31,AG$39,$C$12:$C$31,"C",$E$12:$E$31,"*") -> 0 | AJ42: =COUNTIFS($B$12:$B$31,AG$39,$C$12:$C$31,"D",$E$12:$E$31,"*") -> 0 | AL42: =COUNTIFS($B$12:$B$31,AL$39,$C$12:$C$31,"C",$E$12:$E$31,"*") -> 0 | AM42: =COUNTIFS($B$12:$B$31,AL$39,$C$12:$C$31,"D",$E$12:$E$31,"*") -> 0
B43: 常勤換算数 | C43: =IF($AK$3="４週",SUMIFS($AK$12:$AK$31,$B$12:$B$31,C39)/4/$AH$6,IF($AK$3="歴月",SUMIFS($AK$12:$AK$31,$B$12:$B$31,C39)/$AL$6,"記載する期間を選択してください")) -> 記載する期間を選択してください | E43: =IF($AK$3="４週",SUMIFS($AK$12:$AK$31,$B$12:$B$31,E39)/4/$AH$6,IF($AK$3="歴月",SUMIFS($AK$12:$AK$31,$B$12:$B$31,E39)/$AL$6,"記載する期間を選択してください")) -> 記載する期間を選択してください | I43: =IF($AK$3="４週",SUMIFS($AK$12:$AK$31,$B$12:$B$31,I39)/4/$AH$6,IF($AK$3="歴月",SUMIFS($AK$12:$AK$31,$B$12:$B$31,I39)/$AL$6,"記載する期間を選択してください")) -> 記載する期間を選択してください | O43: =IF($AK$3="４週",SUMIFS($AK$12:$AK$31,$B$12:$B$31,O39)/4/$AH$6,IF($AK$3="歴月",SUMIFS($AK$12:$AK$31,$B$12:$B$31,O39)/$AL$6,"記載する期間を選択してください")) -> 記載する期間を選択してください | U43: =IF($AK$3="４週",SUMIFS($AK$12:$AK$31,$B$12:$B$31,U39)/4/$AH$6,IF($AK$3="歴月",SUMIFS($AK$12:$AK$31,$B$12:$B$31,U39)/$AL$6,"記載する期間を選択してください")) -> 記載する期間を選択してください | AA43: =IF($AK$3="４週",SUMIFS($AK$12:$AK$31,$B$12:$B$31,AA39)/4/$AH$6,IF($AK$3="歴月",SUMIFS($AK$12:$AK$31,$B$12:$B$31,AA39)/$AL$6,"記載する期間を選択してください")) -> 記載する期間を選択してください | AG43: =IF($AK$3="４週",SUMIFS($AK$12:$AK$31,$B$12:$B$31,AG39)/4/$AH$6,IF($AK$3="歴月",SUMIFS($AK$12:$AK$31,$B$12:$B$31,AG39)/$AL$6,"記載する期間を選択してください")) -> 記載する期間を選択してください | AL43: =IF($AK$3="４週",SUMIFS($AK$12:$AK$31,$B$12:$B$31,AL39)/4/$AH$6,IF($AK$3="歴月",SUMIFS($AK$12:$AK$31,$B$12:$B$31,AL39)/$AL$6,"記載する期間を選択してください")) -> 記載する期間を選択してください
C44: 2 | E44: 3 | I44: 4 | O44: 5 | U44: 6 | AA44: 7 | AG44: 8 | AL44: 9
A45: ・最初に「年月欄」「サービス種別」「事業所名」を入力してください。 | R45: 6 | X45: 7 | AD45: 8 | AJ45: 9
A46: (1) 「４週」・「暦月」のいずれかを選択してください。
A47: (2) 「予定」・「実績」のいずれかを選択してください。
A48: (2) -2 定員数を入力してください。
...

Sheet 参考様式1_勤務形態一覧表（児発・主として重症心身障害児）
A1: 従業者の勤務の体制及び勤務形態一覧表 | AI1: サービス種別 | AK1: 児童発達支援・主として重症心身障害児を対象とする場合
M2: 2024 | Q2: 年 | U2: 月 | AI2: 事業所名
AI3: (1)記載する期間
AI4: (2)予定/実績の別
AI5: (2)-2 定員
AG6: (3)事業所における常勤の従業者が勤務すべき時間数 | AK6: 時間/週 | AM6: 時間/月
A8: No. | B8: (4)職種 | C8: (5)勤務形態 | D8: (6)資格 | E8: (7)氏名 | F8: (8) | AK8: (9)勤務時間数合計 | AL8: (10)週平均の勤務時間数 | AM8: (11)兼務状況 （兼務先／兼務する職務の内容）等
F9: 第１週 | M9: 第２週 | T9: 第３週 | AA9: 第４週 | AH9: 第５週
F10: =DATE($M$2,$S$2,1) -> 45261 | G10: =DATE($M$2,$S$2,2) -> 45262 | H10: =DATE($M$2,$S$2,3) -> 45263 | I10: =DATE($M$2,$S$2,4) -> 45264 | J10: =DATE($M$2,$S$2,5) -> 45265 | K10: =DATE($M$2,$S$2,6) -> 45266 | L10: =DATE($M$2,$S$2,7) -> 45267 | M10: =DATE($M$2,$S$2,8) -> 45268 | N10: =DATE($M$2,$S$2,9) -> 45269 | O10: =DATE($M$2,$S$2,10) -> 45270 | P10: =DATE($M$2,$S$2,11) -> 45271 | Q10: =DATE($M$2,$S$2,12) -> 45272 | R10: =DATE($M$2,$S$2,13) -> 45273 | S10: =DATE($M$2,$S$2,14) -> 45274 | T10: =DATE($M$2,$S$2,15) -> 45275 | U10: =DATE($M$2,$S$2,16) -> 45276 | V10: =DATE($M$2,$S$2,17) -> 45277 | W10: =DATE($M$2,$S$2,18) -> 45278 | X10: =DATE($M$2,$S$2,19) -> 45279 | Y10: =DATE($M$2,$S$2,20) -> 45280 | Z10: =DATE($M$2,$S$2,21) -> 45281 | AA10: =DATE($M$2,$S$2,22) -> 45282 | AB10: =DATE($M$2,$S$2,23) -> 45283 | AC10: =DATE($M$2,$S$2,24) -> 45284 | AD10: =DATE($M$2,$S$2,25) -> 45285 | AE10: =DATE($M$2,$S$2,26) -> 45286 | AF10: =DATE($M$2,$S$2,27) -> 45287 | AG10: =DATE($M$2,$S$2,28) -> 45288 | AH10: =IF(DAY(EOMONTH(F10,0))<29,"",DATE($M$2,$S$2,29)) -> 45289 | AI10: =IF(DAY(EOMONTH(F10,0))<30,"",DATE($M$2,$S$2,30)) -> 45290 | AJ10: =IF(DAY(EOMONTH(F10,0))<31,"",DATE($M$2,$S$2,31)) -> 45291
F11: =DATE($M$2,$S$2,1) -> 45261 | G11: =DATE($M$2,$S$2,2) -> 45262 | H11: =DATE($M$2,$S$2,3) -> 45263 | I11: =DATE($M$2,$S$2,4) -> 45264 | J11: =DATE($M$2,$S$2,5) -> 45265 | K11: =DATE($M$2,$S$2,6) -> 45266 | L11: =DATE($M$2,$S$2,7) -> 45267 | M11: =DATE($M$2,$S$2,8) -> 45268 | N11: =DATE($M$2,$S$2,9) -> 45269 | O11: =DATE($M$2,$S$2,10) -> 45270 | P11: =DATE($M$2,$S$2,11) -> 45271 | Q11: =DATE($M$2,$S$2,12) -> 45272 | R11: =DATE($M$2,$S$2,13) -> 45273 | S11: =DATE($M$2,$S$2,14) -> 45274 | T11: =DATE($M$2,$S$2,15) -> 45275 | U11: =DATE($M$2,$S$2,16) -> 45276 | V11: =DATE($M$2,$S$2,17) -> 45277 | W11: =DATE($M$2,$S$2,18) -> 45278 | X11: =DATE($M$2,$S$2,19) -> 45279 | Y11: =DATE($M$2,$S$2,20) -> 45280 | Z11: =DATE($M$2,$S$2,21) -> 45281 | AA11: =DATE($M$2,$S$2,22) -> 45282 | AB11: =DATE($M$2,$S$2,23) -> 45283 | AC11: =DATE($M$2,$S$2,24) -> 45284 | AD11: =DATE($M$2,$S$2,25) -> 45285 | AE11: =DATE($M$2,$S$2,26) -> 45286 | AF11: =DATE($M$2,$S$2,27) -> 45287 | AG11: =DATE($M$2,$S$2,28) -> 45288 | AH11: =IF(DAY(EOMONTH(F11,0))<29,"",DATE($M$2,$S$2,29)) -> 45289 | AI11: =IF(DAY(EOMONTH(F11,0))<30,"",DATE($M$2,$S$2,30)) -> 45290 | AJ11: =IF(DAY(EOMONTH(F11,0))<31,"",DATE($M$2,$S$2,31)) -> 45291
A12: 1 | B12: サービス管理責任者 | C12: A | E12: A | AK12: =+SUM(F12:AJ12) -> 0 | AL12: =IF($AK$3="４週",AK12/4,AK12/(DAY(EOMONTH($F$10,0))/7)) -> 0
A13: 2 | B13: サービス管理責任者 | C13: B | E13: B | AK13: =+SUM(F13:AJ13) -> 0 | AL13: =IF($AK$3="４週",AK13/4,AK13/(DAY(EOMONTH($F$10,0))/7)) -> 0
A14: 3 | B14: サービス管理責任者 | C14: C | E14: C | AK14: =+SUM(F14:AJ14) -> 0 | AL14: =IF($AK$3="４週",AK14/4,AK14/(DAY(EOMONTH($F$10,0))/7)) -> 0
A15: 4 | B15: サービス管理責任者 | C15: D | E15: D | AK15: =+SUM(F15:AJ15) -> 0 | AL15: =IF($AK$3="４週",AK15/4,AK15/(DAY(EOMONTH($F$10,0))/7)) -> 0
A16: 5 | AK16: =+SUM(F16:AJ16) -> 0 | AL16: =IF($AK$3="４週",AK16/4,AK16/(DAY(EOMONTH($F$10,0))/7)) -> 0
A17: 6 | AK17: =+SUM(F17:AJ17) -> 0 | AL17: =IF($AK$3="４週",AK17/4,AK17/(DAY(EOMONTH($F$10,0))/7)) -> 0
A18: 7 | AK18: =+SUM(F18:AJ18) -> 0 | AL18: =IF($AK$3="４週",AK18/4,AK18/(DAY(EOMONTH($F$10,0))/7)) -> 0
A19: 8 | AK19: =+SUM(F19:AJ19) -> 0 | AL19: =IF($AK$3="４週",AK19/4,AK19/(DAY(EOMONTH($F$10,0))/7)) -> 0
A20: 9 | AK20: =+SUM(F20:AJ20) -> 0 | AL20: =IF($AK$3="４週",AK20/4,AK20/(DAY(EOMONTH($F$10,0))/7)) -> 0
A21: 10 | AK21: =+SUM(F21:AJ21) -> 0 | AL21: =IF($AK$3="４週",AK21/4,AK21/(DAY(EOMONTH($F$10,0))/7)) -> 0
A22: 11 | AK22: =+SUM(F22:AJ22) -> 0 | AL22: =IF($AK$3="４週",AK22/4,AK22/(DAY(EOMONTH($F$10,0))/7)) -> 0
A23: 12 | AK23: =+SUM(F23:AJ23) -> 0 | AL23: =IF($AK$3="４週",AK23/4,AK23/(DAY(EOMONTH($F$10,0))/7)) -> 0
A24: 13 | AK24: =+SUM(F24:AJ24) -> 0 | AL24: =IF($AK$3="４週",AK24/4,AK24/(DAY(EOMONTH($F$10,0))/7)) -> 0
A25: 14 | AK25: =+SUM(F25:AJ25) -> 0 | AL25: =IF($AK$3="４週",AK25/4,AK25/(DAY(EOMONTH($F$10,0))/7)) -> 0
A26: 15 | AK26: =+SUM(F26:AJ26) -> 0 | AL26: =IF($AK$3="４週",AK26/4,AK26/(DAY(EOMONTH($F$10,0))/7)) -> 0
A27: 16 | AK27: =+SUM(F27:AJ27) -> 0 | AL27: =IF($AK$3="４週",AK27/4,AK27/(DAY(EOMONTH($F$10,0))/7)) -> 0
... A31: 20 | AK31: =+SUM(F31:AJ31) -> 0 | AL31: =IF($AK$3="４週",AK31/4,AK31/(DAY(EOMONTH($F$10,0))/7)) -> 0
A32: 合計 | F32: =+SUM(F12:F31) -> 0 | G32: =+SUM(G12:G31) -> 0 | H32: =+SUM(H12:H31) -> 0 | I32: =+SUM(I12:I31) -> 0 | J32: =+SUM(J12:J31) -> 0 | K32: =+SUM(K12:K31) -> 0 | L32: =+SUM(L12:L31) -> 0 | M32: =+SUM(M12:M31) -> 0 | ... AJ32: =+SUM(AJ12:AJ31) -> 0 | AK32: =+SUM(F32:AJ32) -> 0 | AL32: =IF($AK$3="４週",AK32/4,AK32/(DAY(EOMONTH($F$10,0))/7)) -> 0
A33: サービス提供時間
A36: ＜実人数集計＞
C37: =IF(VLOOKUP($AK$1,選択肢!$A$1:$J$8,C42,FALSE)=0,"-",VLOOKUP($AK$1,選択肢!$A$1:$J$8,C42,FALSE)) -> 管理者 | E37: =IF(VLOOKUP($AK$1,選択肢!$A$1:$J$8,E42,FALSE)=0,"-",VLOOKUP($AK$1,選択肢!$A$1:$J$8,E42,FALSE)) -> 児童発達支援管理責任者 | I37: =IF(VLOOKUP($AK$1,選択肢!$A$1:$J$8,I42,FALSE)=0,"-",VLOOKUP($AK$1,選択肢!$A$1:$J$8,I42,FALSE)) -> 嘱託医 | O37: =IF(VLOOKUP($AK$1,選択肢!$A$1:$J$8,O42,FALSE)=0,"-",VLOOKUP($AK$1,選択肢!$A$1:$J$8,O42,FALSE)) -> 看護職員 | U37: =IF(VLOOKUP($AK$1,選択肢!$A$1:$J$8,U42,FALSE)=0,"-",VLOOKUP($AK$1,選択肢!$A$1:$J$8,U42,FALSE)) -> 児童指導員 | AA37: =IF(VLOOKUP($AK$1,選択肢!$A$1:$J$8,AA42,FALSE)=0,"-",VLOOKUP($AK$1,選択肢!$A$1:$J$8,AA42,FALSE)) -> 保育士 | AG37: =IF(VLOOKUP($AK$1,選択肢!$A$1:$J$8,AG42,FALSE)=0,"-",VLOOKUP($AK$1,選択肢!$A$1:$J$8,AG42,FALSE)) -> 機能訓練担当職員 | AL37: =IF(VLOOKUP($AK$1,選択肢!$A$1:$J$8,AL42,FALSE)=0,"-",VLOOKUP($AK$1,選択肢!$A$1:$J$8,AL42,FALSE)) -> その他職員
C38: 専従 | D38: 兼務 | E38: 専従 | F38: 兼務 | I38: 専従 | L38: 兼務 | O38: 専従 | R38: 兼務 | U38: 専従 | X38: 兼務 | AA38: 専従 | AD38: 兼務 | AG38: 専従 | AJ38: 兼務 | AL38: 専従 | AM38: 兼務
B39: 常勤 | C39: =COUNTIFS($B$12:$B$31,C$37,$C$12:$C$31,"A",$E$12:$E$31,"*") -> 0 | D39: =COUNTIFS($B$12:$B$31,C$37,$C$12:$C$31,"B",$E$12:$E$31,"*") -> 0 | E39: =COUNTIFS($B$12:$B$31,E$37,$C$12:$C$31,"A",$E$12:$E$31,"*") -> 0 | F39: =COUNTIFS($B$12:$B$31,E$37,$C$12:$C$31,"B",$E$12:$E$31,"*") -> 0 | I39: =COUNTIFS($B$12:$B$31,I$37,$C$12:$C$31,"A",$E$12:$E$31,"*") -> 0 | L39: =COUNTIFS($B$12:$B$31,I$37,$C$12:$C$31,"B",$E$12:$E$31,"*") -> 0 | O39: =COUNTIFS($B$12:$B$31,O$37,$C$12:$C$31,"A",$E$12:$E$31,"*") -> 0 | R39: =COUNTIFS($B$12:$B$31,O$37,$C$12:$C$31,"B",$E$12:$E$31,"*") -> 0 | U39: =COUNTIFS($B$12:$B$31,U$37,$C$12:$C$31,"A",$E$12:$E$31,"*") -> 0 | X39: =COUNTIFS($B$12:$B$31,U$37,$C$12:$C$31,"B",$E$12:$E$31,"*") -> 0 | AA39: =COUNTIFS($B$12:$B$31,AA$37,$C$12:$C$31,"A",$E$12:$E$31,"*") -> 0 | AD39: =COUNTIFS($B$12:$B$31,AA$37,$C$12:$C$31,"B",$E$12:$E$31,"*") -> 0 | AG39: =COUNTIFS($B$12:$B$31,AG$37,$C$12:$C$31,"A",$E$12:$E$31,"*") -> 0 | AJ39: =COUNTIFS($B$12:$B$31,AG$37,$C$12:$C$31,"B",$E$12:$E$31,"*") -> 0 | AL39: =COUNTIFS($B$12:$B$31,AL$37,$C$12:$C$31,"A",$E$12:$E$31,"*") -> 0 | AM39: =COUNTIFS($B$12:$B$31,AL$37,$C$12:$C$31,"B",$E$12:$E$31,"*") -> 0
B40: 非常勤 | C40: =COUNTIFS($B$12:$B$31,C$37,$C$12:$C$31,"C",$E$12:$E$31,"*") -> 0 | D40: =COUNTIFS($B$12:$B$31,C$37,$C$12:$C$31,"D",$E$12:$E$31,"*") -> 0 | E40: =COUNTIFS($B$12:$B$31,E$37,$C$12:$C$31,"C",$E$12:$E$31,"*") -> 0 | F40: =COUNTIFS($B$12:$B$31,E$37,$C$12:$C$31,"D",$E$12:$E$31,"*") -> 0 | I40: =COUNTIFS($B$12:$B$31,I$37,$C$12:$C$31,"C",$E$12:$E$31,"*") -> 0 | L40: =COUNTIFS($B$12:$B$31,I$37,$C$12:$C$31,"D",$E$12:$E$31,"*") -> 0 | O40: =COUNTIFS($B$12:$B$31,O$37,$C$12:$C$31,"C",$E$12:$E$31,"*") -> 0 | R40: =COUNTIFS($B$12:$B$31,O$37,$C$12:$C$31,"D",$E$12:$E$31,"*") -> 0 | U40: =COUNTIFS($B$12:$B$31,U$37,$C$12:$C$31,"C",$E$12:$E$31,"*") -> 0 | X40: =COUNTIFS($B$12:$B$31,U$37,$C$12:$C$31,"D",$E$12:$E$31,"*") -> 0 | AA40: =COUNTIFS($B$12:$B$31,AA$37,$C$12:$C$31,"C",$E$12:$E$31,"*") -> 0 | AD40: =COUNTIFS($B$12:$B$31,AA$37,$C$12:$C$31,"D",$E$12:$E$31,"*") -> 0 | AG40: =COUNTIFS($B$12:$B$31,AG$37,$C$12:$C$31,"C",$E$12:$E$31,"*") -> 0 | AJ40: =COUNTIFS($B$12:$B$31,AG$37,$C$12:$C$31,"D",$E$12:$E$31,"*") -> 0 | AL40: =COUNTIFS($B$12:$B$31,AL$37,$C$12:$C$31,"C",$E$12:$E$31,"*") -> 0 | AM40: =COUNTIFS($B$12:$B$31,AL$37,$C$12:$C$31,"D",$E$12:$E$31,"*") -> 0
B41: 常勤換算数 | C41: =IF($AK$3="４週",SUMIFS($AK$12:$AK$31,$B$12:$B$31,C37)/4/$AH$6,IF($AK$3="歴月",SUMIFS($AK$12:$AK$31,$B$12:$B$31,C37)/$AL$6,"記載する期間を選択してください")) -> 記載する期間を選択してください | E41: =IF($AK$3="４週",SUMIFS($AK$12:$AK$31,$B$12:$B$31,E37)/4/$AH$6,IF($AK$3="歴月",SUMIFS($AK$12:$AK$31,$B$12:$B$31,E37)/$AL$6,"記載する期間を選択してください")) -> 記載する期間を選択してください | I41: =IF($AK$3="４週",SUMIFS($AK$12:$AK$31,$B$12:$B$31,I37)/4/$AH$6,IF($AK$3="歴月",SUMIFS($AK$12:$AK$31,$B$12:$B$31,I37)/$AL$6,"記載する期間を選択してください")) -> 記載する期間を選択してください | O41: =IF($AK$3="４週",SUMIFS($AK$12:$AK$31,$B$12:$B$31,O37)/4/$AH$6,IF($AK$3="歴月",SUMIFS($AK$12:$AK$31,$B$12:$B$31,O37)/$AL$6,"記載する期間を選択してください")) -> 記載する期間を選択してください | U41: =IF($AK$3="４週",SUMIFS($AK$12:$AK$31,$B$12:$B$31,U37)/4/$AH$6,IF($AK$3="歴月",SUMIFS($AK$12:$AK$31,$B$12:$B$31,U37)/$AL$6,"記載する期間を選択してください")) -> 記載する期間を選択してください | AA41: =IF($AK$3="４週",SUMIFS($AK$12:$AK$31,$B$12:$B$31,AA37)/4/$AH$6,IF($AK$3="歴月",SUMIFS($AK$12:$AK$31,$B$12:$B$31,AA37)/$AL$6,"記載する期間を選択してください")) -> 記載する期間を選択してください | AG41: =IF($AK$3="４週",SUMIFS($AK$12:$AK$31,$B$12:$B$31,AG37)/4/$AH$6,IF($AK$3="歴月",SUMIFS($AK$12:$AK$31,$B$12:$B$31,AG37)/$AL$6,"記載する期間を選択してください")) -> 記載する期間を選択してください | AL41: =IF($AK$3="４週",SUMIFS($AK$12:$AK$31,$B$12:$B$31,AL37)/4/$AH$6,IF($AK$3="歴月",SUMIFS($AK$12:$AK$31,$B$12:$B$31,AL37)/$AL$6,"記載する期間を選択してください")) -> 記載する期間を選択してください
C42: 2 | E42: 3 | I42: 4 | O42: 5 | U42: 6 | AA42: 7 | AG42: 8 | AL42: 9
A43: ・最初に「年月欄」「サービス種別」「事業所名」を入力してください。 | R43: 6 | X43: 7 | AD43: 8 | AJ43: 9
A44: (1) 「４週」・「暦月」のいずれかを選択してください。
A45: (2) 「予定」・「実績」のいずれかを選択してください。
A46: (2) -2 定員数を入力してください。
...

Sheet 参考様式1_勤務形態一覧表（児童発達支援センター）
A1: 従業者の勤務の体制及び勤務形態一覧表 | AI1: サービス種別 | AK1: 児童発達支援・児童発達支援センターであるもの
M2: 2024 | Q2: 年 | U2: 月 | AI2: 事業所名
AI3: (1)記載する期間
AI4: (2)予定/実績の別
AI5: (2)-2 定員
AG6: (3)事業所における常勤の従業者が勤務すべき時間数 | AK6: 時間/週 | AM6: 時間/月
A8: No. | B8: (4)職種 | C8: (5)勤務形態 | D8: (6)資格 | E8: (7)氏名 | F8: (8) | AK8: (9)勤務時間数合計 | AL8: (10)週平均の勤務時間数 | AM8: (11)兼務状況 （兼務先／兼務する職務の内容）等
F9: 第１週 | M9: 第２週 | T9: 第３週 | AA9: 第４週 | AH9: 第５週
F10: =DATE($M$2,$S$2,1) -> 45261 | G10: =DATE($M$2,$S$2,2) -> 45262 | H10: =DATE($M$2,$S$2,3) -> 45263 | I10: =DATE($M$2,$S$2,4) -> 45264 | J10: =DATE($M$2,$S$2,5) -> 45265 | K10: =DATE($M$2,$S$2,6) -> 45266 | L10: =DATE($M$2,$S$2,7) -> 45267 | M10: =DATE($M$2,$S$2,8) -> 45268 | N10: =DATE($M$2,$S$2,9) -> 45269 | O10: =DATE($M$2,$S$2,10) -> 45270 | P10: =DATE($M$2,$S$2,11) -> 45271 | Q10: =DATE($M$2,$S$2,12) -> 45272 | R10: =DATE($M$2,$S$2,13) -> 45273 | S10: =DATE($M$2,$S$2,14) -> 45274 | T10: =DATE($M$2,$S$2,15) -> 45275 | U10: =DATE($M$2,$S$2,16) -> 45276 | V10: =DATE($M$2,$S$2,17) -> 45277 | W10: =DATE($M$2,$S$2,18) -> 45278 | X10: =DATE($M$2,$S$2,19) -> 45279 | Y10: =DATE($M$2,$S$2,20) -> 45280 | Z10: =DATE($M$2,$S$2,21) -> 45281 | AA10: =DATE($M$2,$S$2,22) -> 45282 | AB10: =DATE($M$2,$S$2,23) -> 45283 | AC10: =DATE($M$2,$S$2,24) -> 45284 | AD10: =DATE($M$2,$S$2,25) -> 45285 | AE10: =DATE($M$2,$S$2,26) -> 45286 | AF10: =DATE($M$2,$S$2,27) -> 45287 | AG10: =DATE($M$2,$S$2,28) -> 45288 | AH10: =IF(DAY(EOMONTH(F10,0))<29,"",DATE($M$2,$S$2,29)) -> 45289 | AI10: =IF(DAY(EOMONTH(F10,0))<30,"",DATE($M$2,$S$2,30)) -> 45290 | AJ10: =IF(DAY(EOMONTH(F10,0))<31,"",DATE($M$2,$S$2,31)) -> 45291
F11: =DATE($M$2,$S$2,1) -> 45261 | G11: =DATE($M$2,$S$2,2) -> 45262 | H11: =DATE($M$2,$S$2,3) -> 45263 | I11: =DATE($M$2,$S$2,4) -> 45264 | J11: =DATE($M$2,$S$2,5) -> 45265 | K11: =DATE($M$2,$S$2,6) -> 45266 | L11: =DATE($M$2,$S$2,7) -> 45267 | M11: =DATE($M$2,$S$2,8) -> 45268 | N11: =DATE($M$2,$S$2,9) -> 45269 | O11: =DATE($M$2,$S$2,10) -> 45270 | P11: =DATE($M$2,$S$2,11) -> 45271 | Q11: =DATE($M$2,$S$2,12) -> 45272 | R11: =DATE($M$2,$S$2,13) -> 45273 | S11: =DATE($M$2,$S$2,14) -> 45274 | T11: =DATE($M$2,$S$2,15) -> 45275 | U11: =DATE($M$2,$S$2,16) -> 45276 | V11: =DATE($M$2,$S$2,17) -> 45277 | W11: =DATE($M$2,$S$2,18) -> 45278 | X11: =DATE($M$2,$S$2,19) -> 45279 | Y11: =DATE($M$2,$S$2,20) -> 45280 | Z11: =DATE($M$2,$S$2,21) -> 45281 | AA11: =DATE($M$2,$S$2,22) -> 45282 | AB11: =DATE($M$2,$S$2,23) -> 45283 | AC11: =DATE($M$2,$S$2,24) -> 45284 | AD11: =DATE($M$2,$S$2,25) -> 45285 | AE11: =DATE($M$2,$S$2,26) -> 45286 | AF11: =DATE($M$2,$S$2,27) -> 45287 | AG11: =DATE($M$2,$S$2,28) -> 45288 | AH11: =IF(DAY(EOMONTH(F11,0))<29,"",DATE($M$2,$S$2,29)) -> 45289 | AI11: =IF(DAY(EOMONTH(F11,0))<30,"",DATE($M$2,$S$2,30)) -> 45290 | AJ11: =IF(DAY(EOMONTH(F11,0))<31,"",DATE($M$2,$S$2,31)) -> 45291
A12: 1 | B12: サービス管理責任者 | C12: A | E12: A | AK12: =+SUM(F12:AJ12) -> 0 | AL12: =IF($AK$3="４週",AK12/4,AK12/(DAY(EOMONTH($F$10,0))/7)) -> 0
A13: 2 | B13: サービス管理責任者 | C13: B | E13: B | AK13: =+SUM(F13:AJ13) -> 0 | AL13: =IF($AK$3="４週",AK13/4,AK13/(DAY(EOMONTH($F$10,0))/7)) -> 0
A14: 3 | B14: サービス管理責任者 | C14: C | E14: C | AK14: =+SUM(F14:AJ14) -> 0 | AL14: =IF($AK$3="４週",AK14/4,AK14/(DAY(EOMONTH($F$10,0))/7)) -> 0
A15: 4 | B15: サービス管理責任者 | C15: D | E15: D | AK15: =+SUM(F15:AJ15) -> 0 | AL15: =IF($AK$3="４週",AK15/4,AK15/(DAY(EOMONTH($F$10,0))/7)) -> 0
A16: 5 | AK16: =+SUM(F16:AJ16) -> 0 | AL16: =IF($AK$3="４週",AK16/4,AK16/(DAY(EOMONTH($F$10,0))/7)) -> 0
A17: 6 | AK17: =+SUM(F17:AJ17) -> 0 | AL17: =IF($AK$3="４週",AK17/4,AK17/(DAY(EOMONTH($F$10,0))/7)) -> 0
A18: 7 | AK18: =+SUM(F18:AJ18) -> 0 | AL18: =IF($AK$3="４週",AK18/4,AK18/(DAY(EOMONTH($F$10,0))/7)) -> 0
A19: 8 | AK19: =+SUM(F19:AJ19) -> 0 | AL19: =IF($AK$3="４週",AK19/4,AK19/(DAY(EOMONTH($F$10,0))/7)) -> 0
A20: 9 | AK20: =+SUM(F20:AJ20) -> 0 | AL20: =IF($AK$3="４週",AK20/4,AK20/(DAY(EOMONTH($F$10,0))/7)) -> 0
A21: 10 | AK21: =+SUM(F21:AJ21) -> 0 | AL21: =IF($AK$3="４週",AK21/4,AK21/(DAY(EOMONTH($F$10,0))/7)) -> 0
A22: 11 | AK22: =+SUM(F22:AJ22) -> 0 | AL22: =IF($AK$3="４週",AK22/4,AK22/(DAY(EOMONTH($F$10,0))/7)) -> 0
A23: 12 | AK23: =+SUM(F23:AJ23) -> 0 | AL23: =IF($AK$3="４週",AK23/4,AK23/(DAY(EOMONTH($F$10,0))/7)) -> 0
A24: 13 | AK24: =+SUM(F24:AJ24) -> 0 | AL24: =IF($AK$3="４週",AK24/4,AK24/(DAY(EOMONTH($F$10,0))/7)) -> 0
A25: 14 | AK25: =+SUM(F25:AJ25) -> 0 | AL25: =IF($AK$3="４週",AK25/4,AK25/(DAY(EOMONTH($F$10,0))/7)) -> 0
A26: 15 | AK26: =+SUM(F26:AJ26) -> 0 | AL26: =IF($AK$3="４週",AK26/4,AK26/(DAY(EOMONTH($F$10,0))/7)) -> 0
A27: 16 | AK27: =+SUM(F27:AJ27) -> 0 | AL27: =IF($AK$3="４週",AK27/4,AK27/(DAY(EOMONTH($F$10,0))/7)) -> 0
... A31: 20 | AK31: =+SUM(F31:AJ31) -> 0 | AL31: =IF($AK$3="４週",AK31/4,AK31/(DAY(EOMONTH($F$10,0))/7)) -> 0
A32: 合計 | F32: =+SUM(F12:F31) -> 0 | G32: =+SUM(G12:G31) -> 0 | H32: =+SUM(H12:H31) -> 0 | I32: =+SUM(I12:I31) -> 0 | J32: =+SUM(J12:J31) -> 0 | K32: =+SUM(K12:K31) -> 0 | L32: =+SUM(L12:L31) -> 0 | M32: =+SUM(M12:M31) -> 0 | ... AJ32: =+SUM(AJ12:AJ31) -> 0 | AK32: =+SUM(F32:AJ32) -> 0 | AL32: =IF($AK$3="４週",AK32/4,AK32/(DAY(EOMONTH($F$10,0))/7)) -> 0
A33: サービス提供時間
A37: ＜実人数集計＞
C38: =IF(VLOOKUP($AK$1,選択肢!$A$1:$J$8,C43,FALSE)=0,"-",VLOOKUP($AK$1,選択肢!$A$1:$J$8,C43,FALSE)) -> 管理者 | E38: =IF(VLOOKUP($AK$1,選択肢!$A$1:$J$8,E43,FALSE)=0,"-",VLOOKUP($AK$1,選択肢!$A$1:$J$8,E43,FALSE)) -> 児童発達支援管理責任者 | I38: =IF(VLOOKUP($AK$1,選択肢!$A$1:$J$8,I43,FALSE)=0,"-",VLOOKUP($AK$1,選択肢!$A$1:$J$8,I43,FALSE)) -> 嘱託医 | O38: =IF(VLOOKUP($AK$1,選択肢!$A$1:$J$8,O43,FALSE)=0,"-",VLOOKUP($AK$1,選択肢!$A$1:$J$8,O43,FALSE)) -> 児童指導員 | U38: =IF(VLOOKUP($AK$1,選択肢!$A$1:$J$8,U43,FALSE)=0,"-",VLOOKUP($AK$1,選択肢!$A$1:$J$8,U43,FALSE)) -> 保育士 | AA38: =IF(VLOOKUP($AK$1,選択肢!$A$1:$J$8,AA43,FALSE)=0,"-",VLOOKUP($AK$1,選択肢!$A$1:$J$8,AA43,FALSE)) -> 栄養士 | AG38: =IF(VLOOKUP($AK$1,選択肢!$A$1:$J$8,AG43,FALSE)=0,"-",VLOOKUP($AK$1,選択肢!$A$1:$J$8,AG43,FALSE)) -> 調理員 | AL38: =IF(VLOOKUP($AK$1,選択肢!$A$1:$J$8,AL43,FALSE)=0,"-",VLOOKUP($AK$1,選択肢!$A$1:$J$8,AL43,FALSE)) -> 機能訓練担当職員
C39: 専従 | D39: 兼務 | E39: 専従 | F39: 兼務 | I39: 専従 | L39: 兼務 | O39: 専従 | R39: 兼務 | U39: 専従 | X39: 兼務 | AA39: 専従 | AD39: 兼務 | AG39: 専従 | AJ39: 兼務 | AL39: 専従 | AM39: 兼務
B40: 常勤 | C40: =COUNTIFS($B$12:$B$31,C$38,$C$12:$C$31,"A",$E$12:$E$31,"*") -> 0 | D40: =COUNTIFS($B$12:$B$31,C$38,$C$12:$C$31,"B",$E$12:$E$31,"*") -> 0 | E40: =COUNTIFS($B$12:$B$31,E$38,$C$12:$C$31,"A",$E$12:$E$31,"*") -> 0 | F40: =COUNTIFS($B$12:$B$31,E$38,$C$12:$C$31,"B",$E$12:$E$31,"*") -> 0 | I40: =COUNTIFS($B$12:$B$31,I$38,$C$12:$C$31,"A",$E$12:$E$31,"*") -> 0 | L40: =COUNTIFS($B$12:$B$31,I$38,$C$12:$C$31,"B",$E$12:$E$31,"*") -> 0 | O40: =COUNTIFS($B$12:$B$31,O$38,$C$12:$C$31,"A",$E$12:$E$31,"*") -> 0 | R40: =COUNTIFS($B$12:$B$31,O$38,$C$12:$C$31,"B",$E$12:$E$31,"*") -> 0 | U40: =COUNTIFS($B$12:$B$31,U$38,$C$12:$C$31,"A",$E$12:$E$31,"*") -> 0 | X40: =COUNTIFS($B$12:$B$31,U$38,$C$12:$C$31,"B",$E$12:$E$31,"*") -> 0 | AA40: =COUNTIFS($B$12:$B$31,AA$38,$C$12:$C$31,"A",$E$12:$E$31,"*") -> 0 | AD40: =COUNTIFS($B$12:$B$31,AA$38,$C$12:$C$31,"B",$E$12:$E$31,"*") -> 0 | AG40: =COUNTIFS($B$12:$B$31,AG$38,$C$12:$C$31,"A",$E$12:$E$31,"*") -> 0 | AJ40: =COUNTIFS($B$12:$B$31,AG$38,$C$12:$C$31,"B",$E$12:$E$31,"*") -> 0 | AL40: =COUNTIFS($B$12:$B$31,AL$38,$C$12:$C$31,"A",$E$12:$E$31,"*") -> 0 | AM40: =COUNTIFS($B$12:$B$31,AL$38,$C$12:$C$31,"B",$E$12:$E$31,"*") -> 0
B41: 非常勤 | C41: =COUNTIFS($B$12:$B$31,C$38,$C$12:$C$31,"C",$E$12:$E$31,"*") -> 0 | D41: =COUNTIFS($B$12:$B$31,C$38,$C$12:$C$31,"D",$E$12:$E$31,"*") -> 0 | E41: =COUNTIFS($B$12:$B$31,E$38,$C$12:$C$31,"C",$E$12:$E$31,"*") -> 0 | F41: =COUNTIFS($B$12:$B$31,E$38,$C$12:$C$31,"D",$E$12:$E$31,"*") -> 0 | I41: =COUNTIFS($B$12:$B$31,I$38,$C$12:$C$31,"C",$E$12:$E$31,"*") -> 0 | L41: =COUNTIFS($B$12:$B$31,I$38,$C$12:$C$31,"D",$E$12:$E$31,"*") -> 0 | O41: =COUNTIFS($B$12:$B$31,O$38,$C$12:$C$31,"C",$E$12:$E$31,"*") -> 0 | R41: =COUNTIFS($B$12:$B$31,O$38,$C$12:$C$31,"D",$E$12:$E$31,"*") -> 0 | U41: =COUNTIFS($B$12:$B$31,U$38,$C$12:$C$31,"C",$E$12:$E$31,"*") -> 0 | X41: =COUNTIFS($B$12:$B$31,U$38,$C$12:$C$31,"D",$E$12:$E$31,"*") -> 0 | AA41: =COUNTIFS($B$12:$B$31,AA$38,$C$12:$C$31,"C",$E$12:$E$31,"*") -> 0 | AD41: =COUNTIFS($B$12:$B$31,AA$38,$C$12:$C$31,"D",$E$12:$E$31,"*") -> 0 | AG41: =COUNTIFS($B$12:$B$31,AG$38,$C$12:$C$31,"C",$E$12:$E$31,"*") -> 0 | AJ41: =COUNTIFS($B$12:$B$31,AG$38,$C$12:$C$31,"D",$E$12:$E$31,"*") -> 0 | AL41: =COUNTIFS($B$12:$B$31,AL$38,$C$12:$C$31,"C",$E$12:$E$31,"*") -> 0 | AM41: =COUNTIFS($B$12:$B$31,AL$38,$C$12:$C$31,"D",$E$12:$E$31,"*") -> 0
B42: 常勤換算数 | C42: =IF($AK$3="４週",SUMIFS($AK$12:$AK$31,$B$12:$B$31,C38)/4/$AH$6,IF($AK$3="歴月",SUMIFS($AK$12:$AK$31,$B$12:$B$31,C38)/$AL$6,"記載する期間を選択してください")) -> 記載する期間を選択してください | E42: =IF($AK$3="４週",SUMIFS($AK$12:$AK$31,$B$12:$B$31,E38)/4/$AH$6,IF($AK$3="歴月",SUMIFS($AK$12:$AK$31,$B$12:$B$31,E38)/$AL$6,"記載する期間を選択してください")) -> 記載する期間を選択してください | I42: =IF($AK$3="４週",SUMIFS($AK$12:$AK$31,$B$12:$B$31,I38)/4/$AH$6,IF($AK$3="歴月",SUMIFS($AK$12:$AK$31,$B$12:$B$31,I38)/$AL$6,"記載する期間を選択してください")) -> 記載する期間を選択してください | O42: =IF($AK$3="４週",SUMIFS($AK$12:$AK$31,$B$12:$B$31,O38)/4/$AH$6,IF($AK$3="歴月",SUMIFS($AK$12:$AK$31,$B$12:$B$31,O38)/$AL$6,"記載する期間を選択してください")) -> 記載する期間を選択してください | U42: =IF($AK$3="４週",SUMIFS($AK$12:$AK$31,$B$12:$B$31,U38)/4/$AH$6,IF($AK$3="歴月",SUMIFS($AK$12:$AK$31,$B$12:$B$31,U38)/$AL$6,"記載する期間を選択してください")) -> 記載する期間を選択してください | AA42: =IF($AK$3="４週",SUMIFS($AK$12:$AK$31,$B$12:$B$31,AA38)/4/$AH$6,IF($AK$3="歴月",SUMIFS($AK$12:$AK$31,$B$12:$B$31,AA38)/$AL$6,"記載する期間を選択してください")) -> 記載する期間を選択してください | AG42: =IF($AK$3="４週",SUMIFS($AK$12:$AK$31,$B$12:$B$31,AG38)/4/$AH$6,IF($AK$3="歴月",SUMIFS($AK$12:$AK$31,$B$12:$B$31,AG38)/$AL$6,"記載する期間を選択してください")) -> 記載する期間を選択してください | AL42: =IF($AK$3="４週",SUMIFS($AK$12:$AK$31,$B$12:$B$31,AL38)/4/$AH$6,IF($AK$3="歴月",SUMIFS($AK$12:$AK$31,$B$12:$B$31,AL38)/$AL$6,"記載する期間を選択してください")) -> 記載する期間を選択してください
C43: 2 | E43: 3 | I43: 4 | O43: 5 | U43: 6 | AA43: 7 | AG43: 8 | AL43: 9
A44: ・最初に「年月欄」「サービス種別」「事業所名」を入力してください。 | R44: 6 | X44: 7 | AD44: 8 | AJ44: 9
A45: (1) 「４週」・「暦月」のいずれかを選択してください。
A46: (2) 「予定」・「実績」のいずれかを選択してください。
A47: (2) -2 定員数を入力してください。
...

Sheet 参考様式1_勤務形態一覧表（居宅訪問型児童発達支援）
A1: 従業者の勤務の体制及び勤務形態一覧表 | AI1: サービス種別 | AK1: 居宅訪問型児童発達支援
M2: 2024 | Q2: 年 | U2: 月 | AI2: 事業所名
AI3: (1)記載する期間
AI4: (2)予定/実績の別
AG5: (3)事業所における常勤の従業者が勤務すべき時間数 | AK5: 時間/週 | AM5: 時間/月
A7: No. | B7: (4)職種 | C7: (5)勤務形態 | D7: (6)資格 | E7: (7)氏名 | F7: (8) | AK7: (9)勤務時間数合計 | AL7: (10)週平均の勤務時間数 | AM7: (11)兼務状況 （兼務先／兼務する職務の内容）等
F8: 第１週 | M8: 第２週 | T8: 第３週 | AA8: 第４週 | AH8: 第５週
F9: =DATE($M$2,$S$2,1) -> 45261 | G9: =DATE($M$2,$S$2,2) -> 45262 | H9: =DATE($M$2,$S$2,3) -> 45263 | I9: =DATE($M$2,$S$2,4) -> 45264 | J9: =DATE($M$2,$S$2,5) -> 45265 | K9: =DATE($M$2,$S$2,6) -> 45266 | L9: =DATE($M$2,$S$2,7) -> 45267 | M9: =DATE($M$2,$S$2,8) -> 45268 | N9: =DATE($M$2,$S$2,9) -> 45269 | O9: =DATE($M$2,$S$2,10) -> 45270 | P9: =DATE($M$2,$S$2,11) -> 45271 | Q9: =DATE($M$2,$S$2,12) -> 45272 | R9: =DATE($M$2,$S$2,13) -> 45273 | S9: =DATE($M$2,$S$2,14) -> 45274 | T9: =DATE($M$2,$S$2,15) -> 45275 | U9: =DATE($M$2,$S$2,16) -> 45276 | V9: =DATE($M$2,$S$2,17) -> 45277 | W9: =DATE($M$2,$S$2,18) -> 45278 | X9: =DATE($M$2,$S$2,19) -> 45279 | Y9: =DATE($M$2,$S$2,20) -> 45280 | Z9: =DATE($M$2,$S$2,21) -> 45281 | AA9: =DATE($M$2,$S$2,22) -> 45282 | AB9: =DATE($M$2,$S$2,23) -> 45283 | AC9: =DATE($M$2,$S$2,24) -> 45284 | AD9: =DATE($M$2,$S$2,25) -> 45285 | AE9: =DATE($M$2,$S$2,26) -> 45286 | AF9: =DATE($M$2,$S$2,27) -> 45287 | AG9: =DATE($M$2,$S$2,28) -> 45288 | AH9: =IF(DAY(EOMONTH(F9,0))<29,"",DATE($M$2,$S$2,29)) -> 45289 | AI9: =IF(DAY(EOMONTH(F9,0))<30,"",DATE($M$2,$S$2,30)) -> 45290 | AJ9: =IF(DAY(EOMONTH(F9,0))<31,"",DATE($M$2,$S$2,31)) -> 45291
F10: =DATE($M$2,$S$2,1) -> 45261 | G10: =DATE($M$2,$S$2,2) -> 45262 | H10: =DATE($M$2,$S$2,3) -> 45263 | I10: =DATE($M$2,$S$2,4) -> 45264 | J10: =DATE($M$2,$S$2,5) -> 45265 | K10: =DATE($M$2,$S$2,6) -> 45266 | L10: =DATE($M$2,$S$2,7) -> 45267 | M10: =DATE($M$2,$S$2,8) -> 45268 | N10: =DATE($M$2,$S$2,9) -> 45269 | O10: =DATE($M$2,$S$2,10) -> 45270 | P10: =DATE($M$2,$S$2,11) -> 45271 | Q10: =DATE($M$2,$S$2,12) -> 45272 | R10: =DATE($M$2,$S$2,13) -> 45273 | S10: =DATE($M$2,$S$2,14) -> 45274 | T10: =DATE($M$2,$S$2,15) -> 45275 | U10: =DATE($M$2,$S$2,16) -> 45276 | V10: =DATE($M$2,$S$2,17) -> 45277 | W10: =DATE($M$2,$S$2,18) -> 45278 | X10: =DATE($M$2,$S$2,19) -> 45279 | Y10: =DATE($M$2,$S$2,20) -> 45280 | Z10: =DATE($M$2,$S$2,21) -> 45281 | AA10: =DATE($M$2,$S$2,22) -> 45282 | AB10: =DATE($M$2,$S$2,23) -> 45283 | AC10: =DATE($M$2,$S$2,24) -> 45284 | AD10: =DATE($M$2,$S$2,25) -> 45285 | AE10: =DATE($M$2,$S$2,26) -> 45286 | AF10: =DATE($M$2,$S$2,27) -> 45287 | AG10: =DATE($M$2,$S$2,28) -> 45288 | AH10: =IF(DAY(EOMONTH(F10,0))<29,"",DATE($M$2,$S$2,29)) -> 45289 | AI10: =IF(DAY(EOMONTH(F10,0))<30,"",DATE($M$2,$S$2,30)) -> 45290 | AJ10: =IF(DAY(EOMONTH(F10,0))<31,"",DATE($M$2,$S$2,31)) -> 45291
A11: 1 | B11: サービス管理責任者 | C11: A | E11: A | AK11: =+SUM(F11:AJ11) -> 0 | AL11: =IF($AK$3="４週",AK11/4,AK11/(DAY(EOMONTH($F$9,0))/7)) -> 0
A12: 2 | B12: サービス管理責任者 | C12: B | E12: B | AK12: =+SUM(F12:AJ12) -> 0 | AL12: =IF($AK$3="４週",AK12/4,AK12/(DAY(EOMONTH($F$9,0))/7)) -> 0
A13: 3 | B13: サービス管理責任者 | C13: C | E13: C | AK13: =+SUM(F13:AJ13) -> 0 | AL13: =IF($AK$3="４週",AK13/4,AK13/(DAY(EOMONTH($F$9,0))/7)) -> 0
A14: 4 | B14: サービス管理責任者 | C14: D | E14: D | AK14: =+SUM(F14:AJ14) -> 0 | AL14: =IF($AK$3="４週",AK14/4,AK14/(DAY(EOMONTH($F$9,0))/7)) -> 0
A15: 5 | AK15: =+SUM(F15:AJ15) -> 0 | AL15: =IF($AK$3="４週",AK15/4,AK15/(DAY(EOMONTH($F$9,0))/7)) -> 0
A16: 6 | AK16: =+SUM(F16:AJ16) -> 0 | AL16: =IF($AK$3="４週",AK16/4,AK16/(DAY(EOMONTH($F$9,0))/7)) -> 0
A17: 7 | AK17: =+SUM(F17:AJ17) -> 0 | AL17: =IF($AK$3="４週",AK17/4,AK17/(DAY(EOMONTH($F$9,0))/7)) -> 0
A18: 8 | AK18: =+SUM(F18:AJ18) -> 0 | AL18: =IF($AK$3="４週",AK18/4,AK18/(DAY(EOMONTH($F$9,0))/7)) -> 0
A19: 9 | AK19: =+SUM(F19:AJ19) -> 0 | AL19: =IF($AK$3="４週",AK19/4,AK19/(DAY(EOMONTH($F$9,0))/7)) -> 0
A20: 10 | AK20: =+SUM(F20:AJ20) -> 0 | AL20: =IF($AK$3="４週",AK20/4,AK20/(DAY(EOMONTH($F$9,0))/7)) -> 0
A21: 11 | AK21: =+SUM(F21:AJ21) -> 0 | AL21: =IF($AK$3="４週",AK21/4,AK21/(DAY(EOMONTH($F$9,0))/7)) -> 0
A22: 12 | AK22: =+SUM(F22:AJ22) -> 0 | AL22: =IF($AK$3="４週",AK22/4,AK22/(DAY(EOMONTH($F$9,0))/7)) -> 0
A23: 13 | AK23: =+SUM(F23:AJ23) -> 0 | AL23: =IF($AK$3="４週",AK23/4,AK23/(DAY(EOMONTH($F$9,0))/7)) -> 0
A24: 14 | AK24: =+SUM(F24:AJ24) -> 0 | AL24: =IF($AK$3="４週",AK24/4,AK24/(DAY(EOMONTH($F$9,0))/7)) -> 0
A25: 15 | AK25: =+SUM(F25:AJ25) -> 0 | AL25: =IF($AK$3="４週",AK25/4,AK25/(DAY(EOMONTH($F$9,0))/7)) -> 0
A26: 16 | AK26: =+SUM(F26:AJ26) -> 0 | AL26: =IF($AK$3="４週",AK26/4,AK26/(DAY(EOMONTH($F$9,0))/7)) -> 0
... A30: 20 | AK30: =+SUM(F30:AJ30) -> 0 | AL30: =IF($AK$3="４週",AK30/4,AK30/(DAY(EOMONTH($F$9,0))/7)) -> 0
A31: 合計 | F31: =+SUM(F11:F30) -> 0 | G31: =+SUM(G11:G30) -> 0 | H31: =+SUM(H11:H30) -> 0 | I31: =+SUM(I11:I30) -> 0 | J31: =+SUM(J11:J30) -> 0 | K31: =+SUM(K11:K30) -> 0 | L31: =+SUM(L11:L30) -> 0 | M31: =+SUM(M11:M30) -> 0 | ... AJ31: =+SUM(AJ11:AJ30) -> 0 | AK31: =+SUM(F31:AJ31) -> 0 | AL31: =IF($AK$3="４週",AK31/4,AK31/(DAY(EOMONTH($F$9,0))/7)) -> 0
A32: サービス提供時間
A36: ＜実人数集計＞
C37: =IF(VLOOKUP($AK$1,選択肢!$A$1:$J$8,C42,FALSE)=0,"-",VLOOKUP($AK$1,選択肢!$A$1:$J$8,C42,FALSE)) -> 管理者 | E37: =IF(VLOOKUP($AK$1,選択肢!$A$1:$J$8,E42,FALSE)=0,"-",VLOOKUP($AK$1,選択肢!$A$1:$J$8,E42,FALSE)) -> 児童発達支援管理責任者 | I37: =IF(VLOOKUP($AK$1,選択肢!$A$1:$J$8,I42,FALSE)=0,"-",VLOOKUP($AK$1,選択肢!$A$1:$J$8,I42,FALSE)) -> 訪問支援員 | O37: =IF(VLOOKUP($AK$1,選択肢!$A$1:$J$8,O42,FALSE)=0,"-",VLOOKUP($AK$1,選択肢!$A$1:$J$8,O42,FALSE)) -> - | U37: =IF(VLOOKUP($AK$1,選択肢!$A$1:$J$8,U42,FALSE)=0,"-",VLOOKUP($AK$1,選択肢!$A$1:$J$8,U42,FALSE)) -> - | AA37: =IF(VLOOKUP($AK$1,選択肢!$A$1:$J$8,AA42,FALSE)=0,"-",VLOOKUP($AK$1,選択肢!$A$1:$J$8,AA42,FALSE)) -> - | AG37: =IF(VLOOKUP($AK$1,選択肢!$A$1:$J$8,AG42,FALSE)=0,"-",VLOOKUP($AK$1,選択肢!$A$1:$J$8,AG42,FALSE)) -> - | AL37: =IF(VLOOKUP($AK$1,選択肢!$A$1:$J$8,AL42,FALSE)=0,"-",VLOOKUP($AK$1,選択肢!$A$1:$J$8,AL42,FALSE)) -> -
C38: 専従 | D38: 兼務 | E38: 専従 | F38: 兼務 | I38: 専従 | L38: 兼務 | O38: 専従 | R38: 兼務 | U38: 専従 | X38: 兼務 | AA38: 専従 | AD38: 兼務 | AG38: 専従 | AJ38: 兼務 | AL38: 専従 | AM38: 兼務
B39: 常勤 | C39: =COUNTIFS($B$11:$B$30,C$37,$C$11:$C$30,"A",$E$11:$E$30,"*") -> 0 | D39: =COUNTIFS($B$11:$B$30,C$37,$C$11:$C$30,"B",$E$11:$E$30,"*") -> 0 | E39: =COUNTIFS($B$11:$B$30,E$37,$C$11:$C$30,"A",$E$11:$E$30,"*") -> 0 | F39: =COUNTIFS($B$11:$B$30,E$37,$C$11:$C$30,"B",$E$11:$E$30,"*") -> 0 | I39: =COUNTIFS($B$11:$B$30,I$37,$C$11:$C$30,"A",$E$11:$E$30,"*") -> 0 | L39: =COUNTIFS($B$11:$B$30,I$37,$C$11:$C$30,"B",$E$11:$E$30,"*") -> 0 | O39: =COUNTIFS($B$11:$B$30,O$37,$C$11:$C$30,"A",$E$11:$E$30,"*") -> 0 | R39: =COUNTIFS($B$11:$B$30,O$37,$C$11:$C$30,"B",$E$11:$E$30,"*") -> 0 | U39: =COUNTIFS($B$11:$B$30,U$37,$C$11:$C$30,"A",$E$11:$E$30,"*") -> 0 | X39: =COUNTIFS($B$11:$B$30,U$37,$C$11:$C$30,"B",$E$11:$E$30,"*") -> 0 | AA39: =COUNTIFS($B$11:$B$30,AA$37,$C$11:$C$30,"A",$E$11:$E$30,"*") -> 0 | AD39: =COUNTIFS($B$11:$B$30,AA$37,$C$11:$C$30,"B",$E$11:$E$30,"*") -> 0 | AG39: =COUNTIFS($B$11:$B$30,AG$37,$C$11:$C$30,"A",$E$11:$E$30,"*") -> 0 | AJ39: =COUNTIFS($B$11:$B$30,AG$37,$C$11:$C$30,"B",$E$11:$E$30,"*") -> 0 | AL39: =COUNTIFS($B$11:$B$30,AL$37,$C$11:$C$30,"A",$E$11:$E$30,"*") -> 0 | AM39: =COUNTIFS($B$11:$B$30,AL$37,$C$11:$C$30,"B",$E$11:$E$30,"*") -> 0
B40: 非常勤 | C40: =COUNTIFS($B$11:$B$30,C$37,$C$11:$C$30,"C",$E$11:$E$30,"*") -> 0 | D40: =COUNTIFS($B$11:$B$30,C$37,$C$11:$C$30,"D",$E$11:$E$30,"*") -> 0 | E40: =COUNTIFS($B$11:$B$30,E$37,$C$11:$C$30,"C",$E$11:$E$30,"*") -> 0 | F40: =COUNTIFS($B$11:$B$30,E$37,$C$11:$C$30,"D",$E$11:$E$30,"*") -> 0 | I40: =COUNTIFS($B$11:$B$30,I$37,$C$11:$C$30,"C",$E$11:$E$30,"*") -> 0 | L40: =COUNTIFS($B$11:$B$30,I$37,$C$11:$C$30,"D",$E$11:$E$30,"*") -> 0 | O40: =COUNTIFS($B$11:$B$30,O$37,$C$11:$C$30,"C",$E$11:$E$30,"*") -> 0 | R40: =COUNTIFS($B$11:$B$30,O$37,$C$11:$C$30,"D",$E$11:$E$30,"*") -> 0 | U40: =COUNTIFS($B$11:$B$30,U$37,$C$11:$C$30,"C",$E$11:$E$30,"*") -> 0 | X40: =COUNTIFS($B$11:$B$30,U$37,$C$11:$C$30,"D",$E$11:$E$30,"*") -> 0 | AA40: =COUNTIFS($B$11:$B$30,AA$37,$C$11:$C$30,"C",$E$11:$E$30,"*") -> 0 | AD40: =COUNTIFS($B$11:$B$30,AA$37,$C$11:$C$30,"D",$E$11:$E$30,"*") -> 0 | AG40: =COUNTIFS($B$11:$B$30,AG$37,$C$11:$C$30,"C",$E$11:$E$30,"*") -> 0 | AJ40: =COUNTIFS($B$11:$B$30,AG$37,$C$11:$C$30,"D",$E$11:$E$30,"*") -> 0 | AL40: =COUNTIFS($B$11:$B$30,AL$37,$C$11:$C$30,"C",$E$11:$E$30,"*") -> 0 | AM40: =COUNTIFS($B$11:$B$30,AL$37,$C$11:$C$30,"D",$E$11:$E$30,"*") -> 0
B41: 常勤換算数 | C41: =IF($AK$3="４週",SUMIFS($AK$11:$AK$30,$B$11:$B$30,C37)/4/$AH$5,IF($AK$3="歴月",SUMIFS($AK$11:$AK$30,$B$11:$B$30,C37)/$AL$5,"記載する期間を選択してください")) -> 記載する期間を選択してください | E41: =IF($AK$3="４週",SUMIFS($AK$11:$AK$30,$B$11:$B$30,E37)/4/$AH$5,IF($AK$3="歴月",SUMIFS($AK$11:$AK$30,$B$11:$B$30,E37)/$AL$5,"記載する期間を選択してください")) -> 記載する期間を選択してください | I41: =IF($AK$3="４週",SUMIFS($AK$11:$AK$30,$B$11:$B$30,I37)/4/$AH$5,IF($AK$3="歴月",SUMIFS($AK$11:$AK$30,$B$11:$B$30,I37)/$AL$5,"記載する期間を選択してください")) -> 記載する期間を選択してください | O41: =IF($AK$3="４週",SUMIFS($AK$11:$AK$30,$B$11:$B$30,O37)/4/$AH$5,IF($AK$3="歴月",SUMIFS($AK$11:$AK$30,$B$11:$B$30,O37)/$AL$5,"記載する期間を選択してください")) -> 記載する期間を選択してください | U41: =IF($AK$3="４週",SUMIFS($AK$11:$AK$30,$B$11:$B$30,U37)/4/$AH$5,IF($AK$3="歴月",SUMIFS($AK$11:$AK$30,$B$11:$B$30,U37)/$AL$5,"記載する期間を選択してください")) -> 記載する期間を選択してください | AA41: =IF($AK$3="４週",SUMIFS($AK$11:$AK$30,$B$11:$B$30,AA37)/4/$AH$5,IF($AK$3="歴月",SUMIFS($AK$11:$AK$30,$B$11:$B$30,AA37)/$AL$5,"記載する期間を選択してください")) -> 記載する期間を選択してください | AG41: =IF($AK$3="４週",SUMIFS($AK$11:$AK$30,$B$11:$B$30,AG37)/4/$AH$5,IF($AK$3="歴月",SUMIFS($AK$11:$AK$30,$B$11:$B$30,AG37)/$AL$5,"記載する期間を選択してください")) -> 記載する期間を選択してください | AL41: =IF($AK$3="４週",SUMIFS($AK$11:$AK$30,$B$11:$B$30,AL37)/4/$AH$5,IF($AK$3="歴月",SUMIFS($AK$11:$AK$30,$B$11:$B$30,AL37)/$AL$5,"記載する期間を選択してください")) -> 記載する期間を選択してください
C42: 2 | E42: 3 | I42: 4 | O42: 5 | U42: 6 | AA42: 7 | AG42: 8 | AL42: 9
A43: ・最初に「年月欄」「サービス種別」「事業所名」を入力してください。 | R43: 6 | X43: 7 | AD43: 8 | AJ43: 9
A44: (1) 「４週」・「暦月」のいずれかを選択してください。
A45: (2) 「予定」・「実績」のいずれかを選択してください。
A46: (3) 事業所における常勤の従業者が勤務すべき時間数を入力してください。
A47: (4) 従業者の職種を入力してください。
...

Sheet 参考様式1_勤務形態一覧表（保育所等訪問支援）
A1: 従業者の勤務の体制及び勤務形態一覧表 | AI1: サービス種別 | AK1: 保育所等訪問支援
M2: 2024 | Q2: 年 | U2: 月 | AI2: 事業所名
AI3: (1)記載する期間
AI4: (2)予定/実績の別
AG5: (3)事業所における常勤の従業者が勤務すべき時間数 | AK5: 時間/週 | AM5: 時間/月
A7: No. | B7: (4)職種 | C7: (5)勤務形態 | D7: (6)資格 | E7: (7)氏名 | F7: (8) | AK7: (9)勤務時間数合計 | AL7: (10)週平均の勤務時間数 | AM7: (11)兼務状況 （兼務先／兼務する職務の内容）等
F8: 第１週 | M8: 第２週 | T8: 第３週 | AA8: 第４週 | AH8: 第５週
F9: =DATE($M$2,$S$2,1) -> 45261 | G9: =DATE($M$2,$S$2,2) -> 45262 | H9: =DATE($M$2,$S$2,3) -> 45263 | I9: =DATE($M$2,$S$2,4) -> 45264 | J9: =DATE($M$2,$S$2,5) -> 45265 | K9: =DATE($M$2,$S$2,6) -> 45266 | L9: =DATE($M$2,$S$2,7) -> 45267 | M9: =DATE($M$2,$S$2,8) -> 45268 | N9: =DATE($M$2,$S$2,9) -> 45269 | O9: =DATE($M$2,$S$2,10) -> 45270 | P9: =DATE($M$2,$S$2,11) -> 45271 | Q9: =DATE($M$2,$S$2,12) -> 45272 | R9: =DATE($M$2,$S$2,13) -> 45273 | S9: =DATE($M$2,$S$2,14) -> 45274 | T9: =DATE($M$2,$S$2,15) -> 45275 | U9: =DATE($M$2,$S$2,16) -> 45276 | V9: =DATE($M$2,$S$2,17) -> 45277 | W9: =DATE($M$2,$S$2,18) -> 45278 | X9: =DATE($M$2,$S$2,19) -> 45279 | Y9: =DATE($M$2,$S$2,20) -> 45280 | Z9: =DATE($M$2,$S$2,21) -> 45281 | AA9: =DATE($M$2,$S$2,22) -> 45282 | AB9: =DATE($M$2,$S$2,23) -> 45283 | AC9: =DATE($M$2,$S$2,24) -> 45284 | AD9: =DATE($M$2,$S$2,25) -> 45285 | AE9: =DATE($M$2,$S$2,26) -> 45286 | AF9: =DATE($M$2,$S$2,27) -> 45287 | AG9: =DATE($M$2,$S$2,28) -> 45288 | AH9: =IF(DAY(EOMONTH(F9,0))<29,"",DATE($M$2,$S$2,29)) -> 45289 | AI9: =IF(DAY(EOMONTH(F9,0))<30,"",DATE($M$2,$S$2,30)) -> 45290 | AJ9: =IF(DAY(EOMONTH(F9,0))<31,"",DATE($M$2,$S$2,31)) -> 45291
F10: =DATE($M$2,$S$2,1) -> 45261 | G10: =DATE($M$2,$S$2,2) -> 45262 | H10: =DATE($M$2,$S$2,3) -> 45263 | I10: =DATE($M$2,$S$2,4) -> 45264 | J10: =DATE($M$2,$S$2,5) -> 45265 | K10: =DATE($M$2,$S$2,6) -> 45266 | L10: =DATE($M$2,$S$2,7) -> 45267 | M10: =DATE($M$2,$S$2,8) -> 45268 | N10: =DATE($M$2,$S$2,9) -> 45269 | O10: =DATE($M$2,$S$2,10) -> 45270 | P10: =DATE($M$2,$S$2,11) -> 45271 | Q10: =DATE($M$2,$S$2,12) -> 45272 | R10: =DATE($M$2,$S$2,13) -> 45273 | S10: =DATE($M$2,$S$2,14) -> 45274 | T10: =DATE($M$2,$S$2,15) -> 45275 | U10: =DATE($M$2,$S$2,16) -> 45276 | V10: =DATE($M$2,$S$2,17) -> 45277 | W10: =DATE($M$2,$S$2,18) -> 45278 | X10: =DATE($M$2,$S$2,19) -> 45279 | Y10: =DATE($M$2,$S$2,20) -> 45280 | Z10: =DATE($M$2,$S$2,21) -> 45281 | AA10: =DATE($M$2,$S$2,22) -> 45282 | AB10: =DATE($M$2,$S$2,23) -> 45283 | AC10: =DATE($M$2,$S$2,24) -> 45284 | AD10: =DATE($M$2,$S$2,25) -> 45285 | AE10: =DATE($M$2,$S$2,26) -> 45286 | AF10: =DATE($M$2,$S$2,27) -> 45287 | AG10: =DATE($M$2,$S$2,28) -> 45288 | AH10: =IF(DAY(EOMONTH(F10,0))<29,"",DATE($M$2,$S$2,29)) -> 45289 | AI10: =IF(DAY(EOMONTH(F10,0))<30,"",DATE($M$2,$S$2,30)) -> 45290 | AJ10: =IF(DAY(EOMONTH(F10,0))<31,"",DATE($M$2,$S$2,31)) -> 45291
A11: 1 | B11: サービス管理責任者 | C11: A | E11: A | AK11: =+SUM(F11:AJ11) -> 0 | AL11: =IF($AK$3="４週",AK11/4,AK11/(DAY(EOMONTH($F$9,0))/7)) -> 0
A12: 2 | B12: サービス管理責任者 | C12: B | E12: B | AK12: =+SUM(F12:AJ12) -> 0 | AL12: =IF($AK$3="４週",AK12/4,AK12/(DAY(EOMONTH($F$9,0))/7)) -> 0
A13: 3 | B13: サービス管理責任者 | C13: C | E13: C | AK13: =+SUM(F13:AJ13) -> 0 | AL13: =IF($AK$3="４週",AK13/4,AK13/(DAY(EOMONTH($F$9,0))/7)) -> 0
A14: 4 | B14: サービス管理責任者 | C14: D | E14: D | AK14: =+SUM(F14:AJ14) -> 0 | AL14: =IF($AK$3="４週",AK14/4,AK14/(DAY(EOMONTH($F$9,0))/7)) -> 0
A15: 5 | AK15: =+SUM(F15:AJ15) -> 0 | AL15: =IF($AK$3="４週",AK15/4,AK15/(DAY(EOMONTH($F$9,0))/7)) -> 0
A16: 6 | AK16: =+SUM(F16:AJ16) -> 0 | AL16: =IF($AK$3="４週",AK16/4,AK16/(DAY(EOMONTH($F$9,0))/7)) -> 0
A17: 7 | AK17: =+SUM(F17:AJ17) -> 0 | AL17: =IF($AK$3="４週",AK17/4,AK17/(DAY(EOMONTH($F$9,0))/7)) -> 0
A18: 8 | AK18: =+SUM(F18:AJ18) -> 0 | AL18: =IF($AK$3="４週",AK18/4,AK18/(DAY(EOMONTH($F$9,0))/7)) -> 0
A19: 9 | AK19: =+SUM(F19:AJ19) -> 0 | AL19: =IF($AK$3="４週",AK19/4,AK19/(DAY(EOMONTH($F$9,0))/7)) -> 0
A20: 10 | AK20: =+SUM(F20:AJ20) -> 0 | AL20: =IF($AK$3="４週",AK20/4,AK20/(DAY(EOMONTH($F$9,0))/7)) -> 0
A21: 11 | AK21: =+SUM(F21:AJ21) -> 0 | AL21: =IF($AK$3="４週",AK21/4,AK21/(DAY(EOMONTH($F$9,0))/7)) -> 0
A22: 12 | AK22: =+SUM(F22:AJ22) -> 0 | AL22: =IF($AK$3="４週",AK22/4,AK22/(DAY(EOMONTH($F$9,0))/7)) -> 0
A23: 13 | AK23: =+SUM(F23:AJ23) -> 0 | AL23: =IF($AK$3="４週",AK23/4,AK23/(DAY(EOMONTH($F$9,0))/7)) -> 0
A24: 14 | AK24: =+SUM(F24:AJ24) -> 0 | AL24: =IF($AK$3="４週",AK24/4,AK24/(DAY(EOMONTH($F$9,0))/7)) -> 0
A25: 15 | AK25: =+SUM(F25:AJ25) -> 0 | AL25: =IF($AK$3="４週",AK25/4,AK25/(DAY(EOMONTH($F$9,0))/7)) -> 0
A26: 16 | AK26: =+SUM(F26:AJ26) -> 0 | AL26: =IF($AK$3="４週",AK26/4,AK26/(DAY(EOMONTH($F$9,0))/7)) -> 0
... A30: 20 | AK30: =+SUM(F30:AJ30) -> 0 | AL30: =IF($AK$3="４週",AK30/4,AK30/(DAY(EOMONTH($F$9,0))/7)) -> 0
A31: 合計 | F31: =+SUM(F11:F30) -> 0 | G31: =+SUM(G11:G30) -> 0 | H31: =+SUM(H11:H30) -> 0 | I31: =+SUM(I11:I30) -> 0 | J31: =+SUM(J11:J30) -> 0 | K31: =+SUM(K11:K30) -> 0 | L31: =+SUM(L11:L30) -> 0 | M31: =+SUM(M11:M30) -> 0 | ... AJ31: =+SUM(AJ11:AJ30) -> 0 | AK31: =+SUM(F31:AJ31) -> 0 | AL31: =IF($AK$3="４週",AK31/4,AK31/(DAY(EOMONTH($F$9,0))/7)) -> 0
A32: サービス提供時間
A36: ＜実人数集計＞
C37: =IF(VLOOKUP($AK$1,選択肢!$A$1:$J$8,C42,FALSE)=0,"-",VLOOKUP($AK$1,選択肢!$A$1:$J$8,C42,FALSE)) -> 管理者 | E37: =IF(VLOOKUP($AK$1,選択肢!$A$1:$J$8,E42,FALSE)=0,"-",VLOOKUP($AK$1,選択肢!$A$1:$J$8,E42,FALSE)) -> 児童発達支援管理責任者 | I37: =IF(VLOOKUP($AK$1,選択肢!$A$1:$J$8,I42,FALSE)=0,"-",VLOOKUP($AK$1,選択肢!$A$1:$J$8,I42,FALSE)) -> 訪問支援員 | O37: =IF(VLOOKUP($AK$1,選択肢!$A$1:$J$8,O42,FALSE)=0,"-",VLOOKUP($AK$1,選択肢!$A$1:$J$8,O42,FALSE)) -> - | U37: =IF(VLOOKUP($AK$1,選択肢!$A$1:$J$8,U42,FALSE)=0,"-",VLOOKUP($AK$1,選択肢!$A$1:$J$8,U42,FALSE)) -> - | AA37: =IF(VLOOKUP($AK$1,選択肢!$A$1:$J$8,AA42,FALSE)=0,"-",VLOOKUP($AK$1,選択肢!$A$1:$J$8,AA42,FALSE)) -> - | AG37: =IF(VLOOKUP($AK$1,選択肢!$A$1:$J$8,AG42,FALSE)=0,"-",VLOOKUP($AK$1,選択肢!$A$1:$J$8,AG42,FALSE)) -> - | AL37: =IF(VLOOKUP($AK$1,選択肢!$A$1:$J$8,AL42,FALSE)=0,"-",VLOOKUP($AK$1,選択肢!$A$1:$J$8,AL42,FALSE)) -> -
C38: 専従 | D38: 兼務 | E38: 専従 | F38: 兼務 | I38: 専従 | L38: 兼務 | O38: 専従 | R38: 兼務 | U38: 専従 | X38: 兼務 | AA38: 専従 | AD38: 兼務 | AG38: 専従 | AJ38: 兼務 | AL38: 専従 | AM38: 兼務
B39: 常勤 | C39: =COUNTIFS($B$11:$B$30,C$37,$C$11:$C$30,"A",$E$11:$E$30,"*") -> 0 | D39: =COUNTIFS($B$11:$B$30,C$37,$C$11:$C$30,"B",$E$11:$E$30,"*") -> 0 | E39: =COUNTIFS($B$11:$B$30,E$37,$C$11:$C$30,"A",$E$11:$E$30,"*") -> 0 | F39: =COUNTIFS($B$11:$B$30,E$37,$C$11:$C$30,"B",$E$11:$E$30,"*") -> 0 | I39: =COUNTIFS($B$11:$B$30,I$37,$C$11:$C$30,"A",$E$11:$E$30,"*") -> 0 | L39: =COUNTIFS($B$11:$B$30,I$37,$C$11:$C$30,"B",$E$11:$E$30,"*") -> 0 | O39: =COUNTIFS($B$11:$B$30,O$37,$C$11:$C$30,"A",$E$11:$E$30,"*") -> 0 | R39: =COUNTIFS($B$11:$B$30,O$37,$C$11:$C$30,"B",$E$11:$E$30,"*") -> 0 | U39: =COUNTIFS($B$11:$B$30,U$37,$C$11:$C$30,"A",$E$11:$E$30,"*") -> 0 | X39: =COUNTIFS($B$11:$B$30,U$37,$C$11:$C$30,"B",$E$11:$E$30,"*") -> 0 | AA39: =COUNTIFS($B$11:$B$30,AA$37,$C$11:$C$30,"A",$E$11:$E$30,"*") -> 0 | AD39: =COUNTIFS($B$11:$B$30,AA$37,$C$11:$C$30,"B",$E$11:$E$30,"*") -> 0 | AG39: =COUNTIFS($B$11:$B$30,AG$37,$C$11:$C$30,"A",$E$11:$E$30,"*") -> 0 | AJ39: =COUNTIFS($B$11:$B$30,AG$37,$C$11:$C$30,"B",$E$11:$E$30,"*") -> 0 | AL39: =COUNTIFS($B$11:$B$30,AL$37,$C$11:$C$30,"A",$E$11:$E$30,"*") -> 0 | AM39: =COUNTIFS($B$11:$B$30,AL$37,$C$11:$C$30,"B",$E$11:$E$30,"*") -> 0
B40: 非常勤 | C40: =COUNTIFS($B$11:$B$30,C$37,$C$11:$C$30,"C",$E$11:$E$30,"*") -> 0 | D40: =COUNTIFS($B$11:$B$30,C$37,$C$11:$C$30,"D",$E$11:$E$30,"*") -> 0 | E40: =COUNTIFS($B$11:$B$30,E$37,$C$11:$C$30,"C",$E$11:$E$30,"*") -> 0 | F40: =COUNTIFS($B$11:$B$30,E$37,$C$11:$C$30,"D",$E$11:$E$30,"*") -> 0 | I40: =COUNTIFS($B$11:$B$30,I$37,$C$11:$C$30,"C",$E$11:$E$30,"*") -> 0 | L40: =COUNTIFS($B$11:$B$30,I$37,$C$11:$C$30,"D",$E$11:$E$30,"*") -> 0 | O40: =COUNTIFS($B$11:$B$30,O$37,$C$11:$C$30,"C",$E$11:$E$30,"*") -> 0 | R40: =COUNTIFS($B$11:$B$30,O$37,$C$11:$C$30,"D",$E$11:$E$30,"*") -> 0 | U40: =COUNTIFS($B$11:$B$30,U$37,$C$11:$C$30,"C",$E$11:$E$30,"*") -> 0 | X40: =COUNTIFS($B$11:$B$30,U$37,$C$11:$C$30,"D",$E$11:$E$30,"*") -> 0 | AA40: =COUNTIFS($B$11:$B$30,AA$37,$C$11:$C$30,"C",$E$11:$E$30,"*") -> 0 | AD40: =COUNTIFS($B$11:$B$30,AA$37,$C$11:$C$30,"D",$E$11:$E$30,"*") -> 0 | AG40: =COUNTIFS($B$11:$B$30,AG$37,$C$11:$C$30,"C",$E$11:$E$30,"*") -> 0 | AJ40: =COUNTIFS($B$11:$B$30,AG$37,$C$11:$C$30,"D",$E$11:$E$30,"*") -> 0 | AL40: =COUNTIFS($B$11:$B$30,AL$37,$C$11:$C$30,"C",$E$11:$E$30,"*") -> 0 | AM40: =COUNTIFS($B$11:$B$30,AL$37,$C$11:$C$30,"D",$E$11:$E$30,"*") -> 0
