Workbook

Sheet シート一覧
D2: ・・・入力が必要
D3: ・・・自動作成
C5: ① | D5: ② | E5: ③ | F5: ④
B6: シート名 | C6: 当初交付申請 | D6: 変更交付申請 | E6: 請求 | F6: 実績報告
B7: 【入力シート】 | C7: 〇 | D7: 〇 | E7: 〇 | F7: 〇
B8: ①【入力】就業規則等一覧 | C8: 〇
B9: ①【入力】別紙_職員一覧 | C9: 〇
B10: ①事業所別一覧 | C10: 〇
B11: ①提出内容確認書 | C11: 〇
B12: ①第１号様式_交付申請書 | C12: 〇
B13: ②【入力】就業規則等一覧（変更） | D13: 〇
B14: ②【入力】別紙_職員一覧（変更） | D14: 〇
B15: ②事業所別一覧 (変更) | D15: 〇
B16: ②提出内容確認書（変更） | D16: 〇
B17: ②第３号様式_変更交付申請書 | D17: 〇
B18: ③第５号様式_請求書 | E18: 〇
B19: ④【入力】別紙_職員一覧（実績） | F19: 〇
B20: ④事業所別一覧 (実績) | F20: 〇
B21: ④第６号様式_実績報告書 | F21: 〇
B22: ④精算書 | F22: 〇

Sheet 【入力シート】
C1: 令和 | D1: 7 | E1: 年度品川区障害福祉サービス等居住支援手当事業補助金交付申請書 入力シート
A3: １．提出年月日等
B4: ◆交付申請
B5: 提出日 | J5: 令和 | N5: 年 | R5: 月 | V5: 日
B7: ◆変更交付申請 | H7: 該当
B8: 提出日 | J8: 令和 | N8: 年 | R8: 月 | V8: 日
B9: 当初交付決定額 | Q9: 円
B10: 変更理由 | AK10: 職員情報の変更があるため
AK11: 法人情報・振込先口座の変更があるため
B12: ◆請求 | AK12: その他（下記に理由を記入）
B13: 交付決定日 | J13: 令和 | N13: 年 | R13: 月 | V13: 日
B14: 文書番号 | J14: 品福支発第 | Q14: 号 | Y14: 交付決定通知（変更交付した場合は変更交付決定通知）から転記
B15: 交付決定額 | Q15: 円
B17: ◆実績報告
B18: 提出日 | J18: 令和 | N18: 年 | R18: 月 | V18: 日
A20: ２．申請法人情報
B21: 会社法人等番号（12桁） | AJ21: ※12桁でハイフンは不要です。
B22: 法人名称 | AJ22: 申請時点で最新の情報をご入力下さい。
B23: 法人所在地 | J23: 郵便番号 | P23: ー | AJ23: 申請時点で最新の情報をご入力下さい。
J24: 住所 | AJ24: 申請時点で最新の情報をご入力下さい。
B25: 代表者職名 | AJ25: 申請時点で最新の情報をご入力下さい。
B26: 代表者氏名 | AJ26: 申請時点で最新の情報をご入力下さい。
A28: ３．事務取扱者
B29: 部署名 | AJ29: ご担当者の方の部署名をご入力下さい。
B30: 担当者 | AJ30: ご担当者の方の氏名をご入力下さい。
B31: TEL | O31: ー | X31: ー | AJ31: ご担当者の方と連絡がつく電話番号ご入力下さい。
B32: e-mail | AJ32: ご担当者の方と連絡がつくe-mailアドレスご入力下さい。
A34: ４．振込先口座 | AJ34: ※ゆうちょ銀行の場合は、公式WEBサイトにて記号番号から振込用の店名・預金種目・口座番号を調べて入力して下さい。
B35: 金融機関名 | T35: 銀行 | X35: ←選択して下さい | AJ35: 金融機関名は、最大1８文字まで表示されます 銀行・信用金庫・信用組合・農協を選択して下さい
B36: 本・支店名 | T36: 支店 | X36: ←選択して下さい | AJ36: 本・支店名は、最大12文字まで表示されます。 本店・支店・出張所を選択して下さい
B37: 金融機関コード（4桁） | T37: ←4桁で入力して下さい | AJ37: 預金通帳等に記載されている4桁の金融機関コードを入力してください
B38: 支店コード（3桁） | T38: ←3桁で入力して下さい | AJ38: 預金通帳等に記載されている3桁の支店コードを入力してください
B39: 預金種目 | P39: ←１普通、２当座、４貯蓄、９別段 を選択して下さい | AJ39: 該当の預金種目を選択して下さい
B40: 口座番号 | T40: ←7桁で入力して下さい | AJ40: 口座番号（7桁） ※7桁に満たない場合は、頭に「０」をつけて入力してください
B41: 口座名義人（カタカナ） | AJ41: 最大30文字まで半角表示されます

Sheet ①【入力】就業規則等一覧
B1: 就業規則または給与規程等一覧
U3: =【入力シート】!J5 -> 令和 | W3: =IF(【入力シート】!L5="","",【入力シート】!L5) | Y3: 年 | Z3: =IF(【入力シート】!O5="","",【入力シート】!O5) | AB3: 月 | AC3: =IF(【入力シート】!S5="","",【入力シート】!S5) | AE3: 日
L5: 法人名称 | P5: =IF(【入力シート】!J22="","",【入力シート】!J22)
B6: =" "&【入力シート】!C1&【入力シート】!D1&"年度品川区障害福祉サービス等職員居住支援手当の支給に係る補助事業実施要綱第４条に基づき定めた就業規則または給与規程等を提出します。" -> 令和7年度品川区障害福祉サービス等職員居住支援手当の支給に係る補助事業実施要綱第４条に基づき定めた就業規則または給与規程等を提出します。
B10: ※行が不足する場合は、事務局に連絡をして下さい。
B11: 就業規則等番号 (対象職員一覧に記載) | H11: 就業規則等名称 | S11: 就業規則等の適用年月日 | AA11: 支給月額 （円）
B13: a
B14: b
B15: c
B16: d
B17: e
B18: f
B19: g
B20: h
B21: i
B22: j
B23: k
B24: l
... B28: 就業規則または給与規程等を定めていない役員（法人代表者含む）および従業員ごとに作成する労働条件通知書により当該手当の支給を定めている場合は下記のとおり対応します。
B30: 就業規則等番号 (対象職員一覧に記載) | H30: 種別 | AA30: 支給月額 （円）
B32: 1 | H32: 役員※就業規則等の添付は不要
B33: 2 | H33: 個別の労働条件通知書等※対象職員全員分を提出

Sheet ①【入力】別紙_職員一覧
A2: =【入力シート】!C1&【入力シート】!D1&"年度品川区障害福祉サービス等職員居住支援手当事業補助金交付申請対象職員一覧" -> 令和7年度品川区障害福祉サービス等職員居住支援手当事業補助金交付申請対象職員一覧 | Q2: 別紙（第１号様式）
C3: 法人名称： | D3: =IF(【入力シート】!J22="","",【入力シート】!J22)
P4: 手当支給にかかる補助対象額合計額(F) | Q4: =SUM(Q13:Q162) -> 0
C5: =IF(COUNTIF(T13:T112,"月数オーバー！")>0,"※黄色の行は申請対象月数が12か月を超えています。修正してから印刷してください。","") | P5: 社会保険料雇用主負担額に相当する額(G=F×15%) | Q5: =ROUNDUP(Q4*0.15,0) -> 0
P6: 補助対象額合計(H=F+G) | Q6: =Q4+Q5 -> 0
P7: 交付申請額(Hを千円未満切捨て) | Q7: =ROUNDDOWN((Q6),-3) -> 0
M10: A | N10: B | O10: C | P10: D | Q10: E＝A×D
A11: No. | C11: 事業所情報 | F11: 対象職員情報 | J11: 該当する 就業規則又は 給与規定等 一覧 | K11: 役員 （法人代表者含む） | L11: 福祉・介護職員 | M11: 申請対象 月数 | N11: 支給 月額 | O11: 補助基準月額 10,000円 | P11: 補助 月額 | Q11: 補助対象額 (円)
B12: ※作業用※ | C12: 事業所 指定番号 | D12: サービス種別 | E12: 事業所 名称 | F12: 採用 予定者 | G12: 姓 | H12: 名 | I12: 生年月日
A13: 1 | B13: =C13&D13 | K13: =IF(OR(J13="1",J13=1),"〇","") | N13: =IF(J13="","",IF(OR(J13="1",J13="2"),VLOOKUP(J13,①【入力】就業規則等一覧!$B$32:$AD$33,26,FALSE),VLOOKUP(J13,①【入力】就業規則等一覧!$B$13:$AD$27,26,FALSE))) | O13: =IF(M13="","",10000) | P13: =IF(N13="","",MIN(N13,10000)) | Q13: =IF(OR(M13="",N13=""),"",M13*P13)
A14: 2 | B14: =C14&D14 | K14: =IF(OR(J14="1",J14=1),"〇","") | N14: =IF(J14="","",IF(OR(J14="1",J14="2"),VLOOKUP(J14,①【入力】就業規則等一覧!$B$32:$AD$33,26,FALSE),VLOOKUP(J14,①【入力】就業規則等一覧!$B$13:$AD$27,26,FALSE))) | O14: =IF(M14="","",10000) | P14: =IF(N14="","",MIN(N14,10000)) | Q14: =IF(OR(M14="",N14=""),"",M14*P14)
A15: 3 | B15: =C15&D15 | K15: =IF(OR(J15="1",J15=1),"〇","") | N15: =IF(J15="","",IF(OR(J15="1",J15="2"),VLOOKUP(J15,①【入力】就業規則等一覧!$B$32:$AD$33,26,FALSE),VLOOKUP(J15,①【入力】就業規則等一覧!$B$13:$AD$27,26,FALSE))) | O15: =IF(M15="","",10000) | P15: =IF(N15="","",MIN(N15,10000)) | Q15: =IF(OR(M15="",N15=""),"",M15*P15)
A16: 4 | B16: =C16&D16 | K16: =IF(OR(J16="1",J16=1),"〇","") | N16: =IF(J16="","",IF(OR(J16="1",J16="2"),VLOOKUP(J16,①【入力】就業規則等一覧!$B$32:$AD$33,26,FALSE),VLOOKUP(J16,①【入力】就業規則等一覧!$B$13:$AD$27,26,FALSE))) | O16: =IF(M16="","",10000) | P16: =IF(N16="","",MIN(N16,10000)) | Q16: =IF(OR(M16="",N16=""),"",M16*P16)
A17: 5 | B17: =C17&D17 | K17: =IF(OR(J17="1",J17=1),"〇","") | N17: =IF(J17="","",IF(OR(J17="1",J17="2"),VLOOKUP(J17,①【入力】就業規則等一覧!$B$32:$AD$33,26,FALSE),VLOOKUP(J17,①【入力】就業規則等一覧!$B$13:$AD$27,26,FALSE))) | O17: =IF(M17="","",10000) | P17: =IF(N17="","",MIN(N17,10000)) | Q17: =IF(OR(M17="",N17=""),"",M17*P17)
A18: 6 | B18: =C18&D18 | K18: =IF(OR(J18="1",J18=1),"〇","") | N18: =IF(J18="","",IF(OR(J18="1",J18="2"),VLOOKUP(J18,①【入力】就業規則等一覧!$B$32:$AD$33,26,FALSE),VLOOKUP(J18,①【入力】就業規則等一覧!$B$13:$AD$27,26,FALSE))) | O18: =IF(M18="","",10000) | P18: =IF(N18="","",MIN(N18,10000)) | Q18: =IF(OR(M18="",N18=""),"",M18*P18)
A19: 7 | B19: =C19&D19 | K19: =IF(OR(J19="1",J19=1),"〇","") | N19: =IF(J19="","",IF(OR(J19="1",J19="2"),VLOOKUP(J19,①【入力】就業規則等一覧!$B$32:$AD$33,26,FALSE),VLOOKUP(J19,①【入力】就業規則等一覧!$B$13:$AD$27,26,FALSE))) | O19: =IF(M19="","",10000) | P19: =IF(N19="","",MIN(N19,10000)) | Q19: =IF(OR(M19="",N19=""),"",M19*P19)
A20: 8 | B20: =C20&D20 | K20: =IF(OR(J20="1",J20=1),"〇","") | N20: =IF(J20="","",IF(OR(J20="1",J20="2"),VLOOKUP(J20,①【入力】就業規則等一覧!$B$32:$AD$33,26,FALSE),VLOOKUP(J20,①【入力】就業規則等一覧!$B$13:$AD$27,26,FALSE))) | O20: =IF(M20="","",10000) | P20: =IF(N20="","",MIN(N20,10000)) | Q20: =IF(OR(M20="",N20=""),"",M20*P20)
A21: 9 | B21: =C21&D21 | K21: =IF(OR(J21="1",J21=1),"〇","") | N21: =IF(J21="","",IF(OR(J21="1",J21="2"),VLOOKUP(J21,①【入力】就業規則等一覧!$B$32:$AD$33,26,FALSE),VLOOKUP(J21,①【入力】就業規則等一覧!$B$13:$AD$27,26,FALSE))) | O21: =IF(M21="","",10000) | P21: =IF(N21="","",MIN(N21,10000)) | Q21: =IF(OR(M21="",N21=""),"",M21*P21)
A22: 10 | B22: =C22&D22 | K22: =IF(OR(J22="1",J22=1),"〇","") | N22: =IF(J22="","",IF(OR(J22="1",J22="2"),VLOOKUP(J22,①【入力】就業規則等一覧!$B$32:$AD$33,26,FALSE),VLOOKUP(J22,①【入力】就業規則等一覧!$B$13:$AD$27,26,FALSE))) | O22: =IF(M22="","",10000) | P22: =IF(N22="","",MIN(N22,10000)) | Q22: =IF(OR(M22="",N22=""),"",M22*P22)
A23: 11 | B23: =C23&D23 | K23: =IF(OR(J23="1",J23=1),"〇","") | N23: =IF(J23="","",IF(OR(J23="1",J23="2"),VLOOKUP(J23,①【入力】就業規則等一覧!$B$32:$AD$33,26,FALSE),VLOOKUP(J23,①【入力】就業規則等一覧!$B$13:$AD$27,26,FALSE))) | O23: =IF(M23="","",10000) | P23: =IF(N23="","",MIN(N23,10000)) | Q23: =IF(OR(M23="",N23=""),"",M23*P23)
A24: 12 | B24: =C24&D24 | K24: =IF(OR(J24="1",J24=1),"〇","") | N24: =IF(J24="","",IF(OR(J24="1",J24="2"),VLOOKUP(J24,①【入力】就業規則等一覧!$B$32:$AD$33,26,FALSE),VLOOKUP(J24,①【入力】就業規則等一覧!$B$13:$AD$27,26,FALSE))) | O24: =IF(M24="","",10000) | P24: =IF(N24="","",MIN(N24,10000)) | Q24: =IF(OR(M24="",N24=""),"",M24*P24)
... A109: 97 | B109: =C109&D109 | K109: =IF(OR(J109="1",J109=1),"〇","") | N109: =IF(J109="","",IF(OR(J109="1",J109="2"),VLOOKUP(J109,①【入力】就業規則等一覧!$B$32:$AD$33,26,FALSE),VLOOKUP(J109,①【入力】就業規則等一覧!$B$13:$AD$27,26,FALSE))) | O109: =IF(M109="","",10000) | P109: =IF(N109="","",MIN(N109,10000)) | Q109: =IF(OR(M109="",N109=""),"",M109*P109)
A110: 98 | B110: =C110&D110 | N110: =IF(J110="","",IF(OR(J110="1",J110="2"),VLOOKUP(J110,①【入力】就業規則等一覧!$B$32:$AD$33,26,FALSE),VLOOKUP(J110,①【入力】就業規則等一覧!$B$13:$AD$27,26,FALSE))) | O110: =IF(M110="","",10000) | P110: =IF(N110="","",MIN(N110,10000)) | Q110: =IF(OR(M110="",N110=""),"",M110*P110)
A111: 99 | B111: =C111&D111 | N111: =IF(J111="","",IF(OR(J111="1",J111="2"),VLOOKUP(J111,①【入力】就業規則等一覧!$B$32:$AD$33,26,FALSE),VLOOKUP(J111,①【入力】就業規則等一覧!$B$13:$AD$27,26,FALSE))) | O111: =IF(M111="","",10000) | P111: =IF(N111="","",MIN(N111,10000)) | Q111: =IF(OR(M111="",N111=""),"",M111*P111)
A112: 100 | B112: =C112&D112 | N112: =IF(J112="","",IF(OR(J112="1",J112="2"),VLOOKUP(J112,①【入力】就業規則等一覧!$B$32:$AD$33,26,FALSE),VLOOKUP(J112,①【入力】就業規則等一覧!$B$13:$AD$27,26,FALSE))) | O112: =IF(M112="","",10000) | P112: =IF(N112="","",MIN(N112,10000)) | Q112: =IF(OR(M112="",N112=""),"",M112*P112)
A113: 101 | B113: =C113&D113 | N113: =IF(J113="","",IF(OR(J113="1",J113="2"),VLOOKUP(J113,①【入力】就業規則等一覧!$B$32:$AD$33,26,FALSE),VLOOKUP(J113,①【入力】就業規則等一覧!$B$13:$AD$27,26,FALSE))) | O113: =IF(M113="","",10000) | P113: =IF(N113="","",MIN(N113,10000)) | Q113: =IF(OR(M113="",N113=""),"",M113*P113)
A114: 102 | B114: =C114&D114 | N114: =IF(J114="","",IF(OR(J114="1",J114="2"),VLOOKUP(J114,①【入力】就業規則等一覧!$B$32:$AD$33,26,FALSE),VLOOKUP(J114,①【入力】就業規則等一覧!$B$13:$AD$27,26,FALSE))) | O114: =IF(M114="","",10000) | P114: =IF(N114="","",MIN(N114,10000)) | Q114: =IF(OR(M114="",N114=""),"",M114*P114)
A115: 103 | B115: =C115&D115 | N115: =IF(J115="","",IF(OR(J115="1",J115="2"),VLOOKUP(J115,①【入力】就業規則等一覧!$B$32:$AD$33,26,FALSE),VLOOKUP(J115,①【入力】就業規則等一覧!$B$13:$AD$27,26,FALSE))) | O115: =IF(M115="","",10000) | P115: =IF(N115="","",MIN(N115,10000)) | Q115: =IF(OR(M115="",N115=""),"",M115*P115)
A116: 104 | B116: =C116&D116 | N116: =IF(J116="","",IF(OR(J116="1",J116="2"),VLOOKUP(J116,①【入力】就業規則等一覧!$B$32:$AD$33,26,FALSE),VLOOKUP(J116,①【入力】就業規則等一覧!$B$13:$AD$27,26,FALSE))) | O116: =IF(M116="","",10000) | P116: =IF(N116="","",MIN(N116,10000)) | Q116: =IF(OR(M116="",N116=""),"",M116*P116)
A117: 105 | B117: =C117&D117 | N117: =IF(J117="","",IF(OR(J117="1",J117="2"),VLOOKUP(J117,①【入力】就業規則等一覧!$B$32:$AD$33,26,FALSE),VLOOKUP(J117,①【入力】就業規則等一覧!$B$13:$AD$27,26,FALSE))) | O117: =IF(M117="","",10000) | P117: =IF(N117="","",MIN(N117,10000)) | Q117: =IF(OR(M117="",N117=""),"",M117*P117)
A118: 106 | B118: =C118&D118 | K118: =IF(OR(J118="1",J118=1),"〇","") | N118: =IF(J118="","",IF(OR(J118="1",J118="2"),VLOOKUP(J118,①【入力】就業規則等一覧!$B$32:$AD$33,26,FALSE),VLOOKUP(J118,①【入力】就業規則等一覧!$B$13:$AD$27,26,FALSE))) | O118: =IF(M118="","",10000) | P118: =IF(N118="","",MIN(N118,10000)) | Q118: =IF(OR(M118="",N118=""),"",M118*P118)
A119: 107 | B119: =C119&D119 | N119: =IF(J119="","",IF(OR(J119="1",J119="2"),VLOOKUP(J119,①【入力】就業規則等一覧!$B$32:$AD$33,26,FALSE),VLOOKUP(J119,①【入力】就業規則等一覧!$B$13:$AD$27,26,FALSE))) | O119: =IF(M119="","",10000) | P119: =IF(N119="","",MIN(N119,10000)) | Q119: =IF(OR(M119="",N119=""),"",M119*P119)
A120: 108 | B120: =C120&D120 | N120: =IF(J120="","",IF(OR(J120="1",J120="2"),VLOOKUP(J120,①【入力】就業規則等一覧!$B$32:$AD$33,26,FALSE),VLOOKUP(J120,①【入力】就業規則等一覧!$B$13:$AD$27,26,FALSE))) | O120: =IF(M120="","",10000) | P120: =IF(N120="","",MIN(N120,10000)) | Q120: =IF(OR(M120="",N120=""),"",M120*P120)
A121: 109 | B121: =C121&D121 | N121: =IF(J121="","",IF(OR(J121="1",J121="2"),VLOOKUP(J121,①【入力】就業規則等一覧!$B$32:$AD$33,26,FALSE),VLOOKUP(J121,①【入力】就業規則等一覧!$B$13:$AD$27,26,FALSE))) | O121: =IF(M121="","",10000) | P121: =IF(N121="","",MIN(N121,10000)) | Q121: =IF(OR(M121="",N121=""),"",M121*P121)
A122: 110 | B122: =C122&D122 | N122: =IF(J122="","",IF(OR(J122="1",J122="2"),VLOOKUP(J122,①【入力】就業規則等一覧!$B$32:$AD$33,26,FALSE),VLOOKUP(J122,①【入力】就業規則等一覧!$B$13:$AD$27,26,FALSE))) | O122: =IF(M122="","",10000) | P122: =IF(N122="","",MIN(N122,10000)) | Q122: =IF(OR(M122="",N122=""),"",M122*P122)
A123: 111 | B123: =C123&D123 | N123: =IF(J123="","",IF(OR(J123="1",J123="2"),VLOOKUP(J123,①【入力】就業規則等一覧!$B$32:$AD$33,26,FALSE),VLOOKUP(J123,①【入力】就業規則等一覧!$B$13:$AD$27,26,FALSE))) | O123: =IF(M123="","",10000) | P123: =IF(N123="","",MIN(N123,10000)) | Q123: =IF(OR(M123="",N123=""),"",M123*P123)
A124: 112 | B124: =C124&D124 | N124: =IF(J124="","",IF(OR(J124="1",J124="2"),VLOOKUP(J124,①【入力】就業規則等一覧!$B$32:$AD$33,26,FALSE),VLOOKUP(J124,①【入力】就業規則等一覧!$B$13:$AD$27,26,FALSE))) | O124: =IF(M124="","",10000) | P124: =IF(N124="","",MIN(N124,10000)) | Q124: =IF(OR(M124="",N124=""),"",M124*P124)
A125: 113 | B125: =C125&D125 | N125: =IF(J125="","",IF(OR(J125="1",J125="2"),VLOOKUP(J125,①【入力】就業規則等一覧!$B$32:$AD$33,26,FALSE),VLOOKUP(J125,①【入力】就業規則等一覧!$B$13:$AD$27,26,FALSE))) | O125: =IF(M125="","",10000) | P125: =IF(N125="","",MIN(N125,10000)) | Q125: =IF(OR(M125="",N125=""),"",M125*P125)
A126: 114 | B126: =C126&D126 | N126: =IF(J126="","",IF(OR(J126="1",J126="2"),VLOOKUP(J126,①【入力】就業規則等一覧!$B$32:$AD$33,26,FALSE),VLOOKUP(J126,①【入力】就業規則等一覧!$B$13:$AD$27,26,FALSE))) | O126: =IF(M126="","",10000) | P126: =IF(N126="","",MIN(N126,10000)) | Q126: =IF(OR(M126="",N126=""),"",M126*P126)
A127: 115 | B127: =C127&D127 | N127: =IF(J127="","",IF(OR(J127="1",J127="2"),VLOOKUP(J127,①【入力】就業規則等一覧!$B$32:$AD$33,26,FALSE),VLOOKUP(J127,①【入力】就業規則等一覧!$B$13:$AD$27,26,FALSE))) | O127: =IF(M127="","",10000) | P127: =IF(N127="","",MIN(N127,10000)) | Q127: =IF(OR(M127="",N127=""),"",M127*P127)
...

Sheet ①事業所別一覧
A1: =【入力シート】!C1&【入力シート】!D1&"年度品川区障害福祉サービス等居住支援手当事業補助金交付申請書 事業所別補助対象額一覧" -> 令和7年度品川区障害福祉サービス等居住支援手当事業補助金交付申請書 事業所別補助対象額一覧
J3: 法人名称： | K3: =IF(【入力シート】!J22="","",【入力シート】!J22)
A6: No | B6: ※作業用※ 配列数式は編集後はCtrl+Shift+Enter | C6: 事業所 指定番号 | D6: サービス種別 | E6: 事業所名称 | F6: 事業所ごとの 補助対象額 | G6: 事業所ごとの 交付申請額 | H6: 職員総数 | I6: 採用予定者 | J6: 役員 | K6: 福祉・介護職員
A7: 1 | B7: =IF(①【入力】別紙_職員一覧!B13="","",①【入力】別紙_職員一覧!B13) | C7: =IF(B7="","",VLOOKUP($B7,①【入力】別紙_職員一覧!$B$1:$Q$162,2,FALSE)) | D7: =IF(B7="","",VLOOKUP($B7,①【入力】別紙_職員一覧!$B$13:$Q$162,3,FALSE)) | E7: =IF(B7="","",VLOOKUP($B7,①【入力】別紙_職員一覧!$B$13:$Q$162,4,FALSE)) | F7: =IF(B7="","",SUMIF(①【入力】別紙_職員一覧!$B$13:$B$162,①事業所別一覧!B7,①【入力】別紙_職員一覧!$Q$13:$Q$162)) | G7: =IF(C7="","",ROUNDDOWN(F7+ROUNDUP(F7*0.15,0),-3)) | H7: =IF(B7="","",COUNTIF(①【入力】別紙_職員一覧!$B$13:$B$162,①事業所別一覧!B7)) | I7: =IF(B7="","",COUNTIFS(①【入力】別紙_職員一覧!$B$13:$B$162,①事業所別一覧!B7,①【入力】別紙_職員一覧!$F$13:$F$162,"〇")) | J7: =IF(B7="","",COUNTIFS(①【入力】別紙_職員一覧!$B$13:$B$162,①事業所別一覧!B7,①【入力】別紙_職員一覧!$K$13:$K$162,"〇")) | K7: =IF(B7="","",COUNTIFS(①【入力】別紙_職員一覧!$B$13:$B$162,①事業所別一覧!B7,①【入力】別紙_職員一覧!$L$13:$L$162,$K$6))
A8: 2 | B8: {=IFERROR(IF(INDEX(①【入力】別紙_職員一覧!$B$13:$B$162,MATCH(0,COUNTIF(B$7:B7,①【入力】別紙_職員一覧!$B$13:$B$162),0))=0,"",INDEX(①【入力】別紙_職員一覧!$B$13:$B$162,MATCH(0,COUNTIF(B$7:B7,①【入力】別紙_職員一覧!$B$13:$B$162),0))),"")} | C8: =IF(B8="","",VLOOKUP($B8,①【入力】別紙_職員一覧!$B$1:$Q$162,2,FALSE)) | D8: =IF(B8="","",VLOOKUP($B8,①【入力】別紙_職員一覧!$B$13:$Q$162,3,FALSE)) | E8: =IF(B8="","",VLOOKUP($B8,①【入力】別紙_職員一覧!$B$13:$Q$162,4,FALSE)) | F8: =IF(B8="","",SUMIF(①【入力】別紙_職員一覧!$B$13:$B$162,①事業所別一覧!B8,①【入力】別紙_職員一覧!$Q$13:$Q$162)) | G8: =IF(C8="","",ROUNDDOWN(F8+ROUNDUP(F8*0.15,0),-3)) | H8: =IF(B8="","",COUNTIF(①【入力】別紙_職員一覧!$B$13:$B$162,①事業所別一覧!B8)) | I8: =IF(B8="","",COUNTIFS(①【入力】別紙_職員一覧!$B$13:$B$162,①事業所別一覧!B8,①【入力】別紙_職員一覧!$F$13:$F$162,"〇")) | J8: =IF(B8="","",COUNTIFS(①【入力】別紙_職員一覧!$B$13:$B$162,①事業所別一覧!B8,①【入力】別紙_職員一覧!$K$13:$K$162,"〇")) | K8: =IF(B8="","",COUNTIFS(①【入力】別紙_職員一覧!$B$13:$B$162,①事業所別一覧!B8,①【入力】別紙_職員一覧!$L$13:$L$162,$K$6))
A9: 3 | B9: {=IFERROR(IF(INDEX(①【入力】別紙_職員一覧!$B$13:$B$162,MATCH(0,COUNTIF(B$7:B8,①【入力】別紙_職員一覧!$B$13:$B$162),0))=0,"",INDEX(①【入力】別紙_職員一覧!$B$13:$B$162,MATCH(0,COUNTIF(B$7:B8,①【入力】別紙_職員一覧!$B$13:$B$162),0))),"")} | C9: =IF(B9="","",VLOOKUP($B9,①【入力】別紙_職員一覧!$B$1:$Q$162,2,FALSE)) | D9: =IF(B9="","",VLOOKUP($B9,①【入力】別紙_職員一覧!$B$13:$Q$162,3,FALSE)) | E9: =IF(B9="","",VLOOKUP($B9,①【入力】別紙_職員一覧!$B$13:$Q$162,4,FALSE)) | F9: =IF(B9="","",SUMIF(①【入力】別紙_職員一覧!$B$13:$B$162,①事業所別一覧!B9,①【入力】別紙_職員一覧!$Q$13:$Q$162)) | G9: =IF(C9="","",ROUNDDOWN(F9+ROUNDUP(F9*0.15,0),-3)) | H9: =IF(B9="","",COUNTIF(①【入力】別紙_職員一覧!$B$13:$B$162,①事業所別一覧!B9)) | I9: =IF(B9="","",COUNTIFS(①【入力】別紙_職員一覧!$B$13:$B$162,①事業所別一覧!B9,①【入力】別紙_職員一覧!$F$13:$F$162,"〇")) | J9: =IF(B9="","",COUNTIFS(①【入力】別紙_職員一覧!$B$13:$B$162,①事業所別一覧!B9,①【入力】別紙_職員一覧!$K$13:$K$162,"〇")) | K9: =IF(B9="","",COUNTIFS(①【入力】別紙_職員一覧!$B$13:$B$162,①事業所別一覧!B9,①【入力】別紙_職員一覧!$L$13:$L$162,$K$6))
A10: 4 | B10: {=IFERROR(IF(INDEX(①【入力】別紙_職員一覧!$B$13:$B$162,MATCH(0,COUNTIF(B$7:B9,①【入力】別紙_職員一覧!$B$13:$B$162),0))=0,"",INDEX(①【入力】別紙_職員一覧!$B$13:$B$162,MATCH(0,COUNTIF(B$7:B9,①【入力】別紙_職員一覧!$B$13:$B$162),0))),"")} | C10: =IF(B10="","",VLOOKUP($B10,①【入力】別紙_職員一覧!$B$1:$Q$162,2,FALSE)) | D10: =IF(B10="","",VLOOKUP($B10,①【入力】別紙_職員一覧!$B$13:$Q$162,3,FALSE)) | E10: =IF(B10="","",VLOOKUP($B10,①【入力】別紙_職員一覧!$B$13:$Q$162,4,FALSE)) | F10: =IF(B10="","",SUMIF(①【入力】別紙_職員一覧!$B$13:$B$162,①事業所別一覧!B10,①【入力】別紙_職員一覧!$Q$13:$Q$162)) | G10: =IF(C10="","",ROUNDDOWN(F10+ROUNDUP(F10*0.15,0),-3)) | H10: =IF(B10="","",COUNTIF(①【入力】別紙_職員一覧!$B$13:$B$162,①事業所別一覧!B10)) | I10: =IF(B10="","",COUNTIFS(①【入力】別紙_職員一覧!$B$13:$B$162,①事業所別一覧!B10,①【入力】別紙_職員一覧!$F$13:$F$162,"〇")) | J10: =IF(B10="","",COUNTIFS(①【入力】別紙_職員一覧!$B$13:$B$162,①事業所別一覧!B10,①【入力】別紙_職員一覧!$K$13:$K$162,"〇")) | K10: =IF(B10="","",COUNTIFS(①【入力】別紙_職員一覧!$B$13:$B$162,①事業所別一覧!B10,①【入力】別紙_職員一覧!$L$13:$L$162,$K$6))
A11: 5 | B11: {=IFERROR(IF(INDEX(①【入力】別紙_職員一覧!$B$13:$B$162,MATCH(0,COUNTIF(B$7:B10,①【入力】別紙_職員一覧!$B$13:$B$162),0))=0,"",INDEX(①【入力】別紙_職員一覧!$B$13:$B$162,MATCH(0,COUNTIF(B$7:B10,①【入力】別紙_職員一覧!$B$13:$B$162),0))),"")} | C11: =IF(B11="","",VLOOKUP($B11,①【入力】別紙_職員一覧!$B$1:$Q$162,2,FALSE)) | D11: =IF(B11="","",VLOOKUP($B11,①【入力】別紙_職員一覧!$B$13:$Q$162,3,FALSE)) | E11: =IF(B11="","",VLOOKUP($B11,①【入力】別紙_職員一覧!$B$13:$Q$162,4,FALSE)) | F11: =IF(B11="","",SUMIF(①【入力】別紙_職員一覧!$B$13:$B$162,①事業所別一覧!B11,①【入力】別紙_職員一覧!$Q$13:$Q$162)) | G11: =IF(C11="","",ROUNDDOWN(F11+ROUNDUP(F11*0.15,0),-3)) | H11: =IF(B11="","",COUNTIF(①【入力】別紙_職員一覧!$B$13:$B$162,①事業所別一覧!B11)) | I11: =IF(B11="","",COUNTIFS(①【入力】別紙_職員一覧!$B$13:$B$162,①事業所別一覧!B11,①【入力】別紙_職員一覧!$F$13:$F$162,"〇")) | J11: =IF(B11="","",COUNTIFS(①【入力】別紙_職員一覧!$B$13:$B$162,①事業所別一覧!B11,①【入力】別紙_職員一覧!$K$13:$K$162,"〇")) | K11: =IF(B11="","",COUNTIFS(①【入力】別紙_職員一覧!$B$13:$B$162,①事業所別一覧!B11,①【入力】別紙_職員一覧!$L$13:$L$162,$K$6))
A12: 6 | B12: {=IFERROR(IF(INDEX(①【入力】別紙_職員一覧!$B$13:$B$162,MATCH(0,COUNTIF(B$7:B11,①【入力】別紙_職員一覧!$B$13:$B$162),0))=0,"",INDEX(①【入力】別紙_職員一覧!$B$13:$B$162,MATCH(0,COUNTIF(B$7:B11,①【入力】別紙_職員一覧!$B$13:$B$162),0))),"")} | C12: =IF(B12="","",VLOOKUP($B12,①【入力】別紙_職員一覧!$B$1:$Q$162,2,FALSE)) | D12: =IF(B12="","",VLOOKUP($B12,①【入力】別紙_職員一覧!$B$13:$Q$162,3,FALSE)) | E12: =IF(B12="","",VLOOKUP($B12,①【入力】別紙_職員一覧!$B$13:$Q$162,4,FALSE)) | F12: =IF(B12="","",SUMIF(①【入力】別紙_職員一覧!$B$13:$B$162,①事業所別一覧!B12,①【入力】別紙_職員一覧!$Q$13:$Q$162)) | G12: =IF(C12="","",ROUNDDOWN(F12+ROUNDUP(F12*0.15,0),-3)) | H12: =IF(B12="","",COUNTIF(①【入力】別紙_職員一覧!$B$13:$B$162,①事業所別一覧!B12)) | I12: =IF(B12="","",COUNTIFS(①【入力】別紙_職員一覧!$B$13:$B$162,①事業所別一覧!B12,①【入力】別紙_職員一覧!$F$13:$F$162,"〇")) | J12: =IF(B12="","",COUNTIFS(①【入力】別紙_職員一覧!$B$13:$B$162,①事業所別一覧!B12,①【入力】別紙_職員一覧!$K$13:$K$162,"〇")) | K12: =IF(B12="","",COUNTIFS(①【入力】別紙_職員一覧!$B$13:$B$162,①事業所別一覧!B12,①【入力】別紙_職員一覧!$L$13:$L$162,$K$6))
A13: 7 | B13: {=IFERROR(IF(INDEX(①【入力】別紙_職員一覧!$B$13:$B$162,MATCH(0,COUNTIF(B$7:B12,①【入力】別紙_職員一覧!$B$13:$B$162),0))=0,"",INDEX(①【入力】別紙_職員一覧!$B$13:$B$162,MATCH(0,COUNTIF(B$7:B12,①【入力】別紙_職員一覧!$B$13:$B$162),0))),"")} | C13: =IF(B13="","",VLOOKUP($B13,①【入力】別紙_職員一覧!$B$1:$Q$162,2,FALSE)) | D13: =IF(B13="","",VLOOKUP($B13,①【入力】別紙_職員一覧!$B$13:$Q$162,3,FALSE)) | E13: =IF(B13="","",VLOOKUP($B13,①【入力】別紙_職員一覧!$B$13:$Q$162,4,FALSE)) | F13: =IF(B13="","",SUMIF(①【入力】別紙_職員一覧!$B$13:$B$162,①事業所別一覧!B13,①【入力】別紙_職員一覧!$Q$13:$Q$162)) | G13: =IF(C13="","",ROUNDDOWN(F13+ROUNDUP(F13*0.15,0),-3)) | H13: =IF(B13="","",COUNTIF(①【入力】別紙_職員一覧!$B$13:$B$162,①事業所別一覧!B13)) | I13: =IF(B13="","",COUNTIFS(①【入力】別紙_職員一覧!$B$13:$B$162,①事業所別一覧!B13,①【入力】別紙_職員一覧!$F$13:$F$162,"〇")) | J13: =IF(B13="","",COUNTIFS(①【入力】別紙_職員一覧!$B$13:$B$162,①事業所別一覧!B13,①【入力】別紙_職員一覧!$K$13:$K$162,"〇")) | K13: =IF(B13="","",COUNTIFS(①【入力】別紙_職員一覧!$B$13:$B$162,①事業所別一覧!B13,①【入力】別紙_職員一覧!$L$13:$L$162,$K$6))
A14: 8 | B14: {=IFERROR(IF(INDEX(①【入力】別紙_職員一覧!$B$13:$B$162,MATCH(0,COUNTIF(B$7:B13,①【入力】別紙_職員一覧!$B$13:$B$162),0))=0,"",INDEX(①【入力】別紙_職員一覧!$B$13:$B$162,MATCH(0,COUNTIF(B$7:B13,①【入力】別紙_職員一覧!$B$13:$B$162),0))),"")} | C14: =IF(B14="","",VLOOKUP($B14,①【入力】別紙_職員一覧!$B$1:$Q$162,2,FALSE)) | D14: =IF(B14="","",VLOOKUP($B14,①【入力】別紙_職員一覧!$B$13:$Q$162,3,FALSE)) | E14: =IF(B14="","",VLOOKUP($B14,①【入力】別紙_職員一覧!$B$13:$Q$162,4,FALSE)) | F14: =IF(B14="","",SUMIF(①【入力】別紙_職員一覧!$B$13:$B$162,①事業所別一覧!B14,①【入力】別紙_職員一覧!$Q$13:$Q$162)) | G14: =IF(C14="","",ROUNDDOWN(F14+ROUNDUP(F14*0.15,0),-3)) | H14: =IF(B14="","",COUNTIF(①【入力】別紙_職員一覧!$B$13:$B$162,①事業所別一覧!B14)) | I14: =IF(B14="","",COUNTIFS(①【入力】別紙_職員一覧!$B$13:$B$162,①事業所別一覧!B14,①【入力】別紙_職員一覧!$F$13:$F$162,"〇")) | J14: =IF(B14="","",COUNTIFS(①【入力】別紙_職員一覧!$B$13:$B$162,①事業所別一覧!B14,①【入力】別紙_職員一覧!$K$13:$K$162,"〇")) | K14: =IF(B14="","",COUNTIFS(①【入力】別紙_職員一覧!$B$13:$B$162,①事業所別一覧!B14,①【入力】別紙_職員一覧!$L$13:$L$162,$K$6))
A15: 9 | B15: {=IFERROR(IF(INDEX(①【入力】別紙_職員一覧!$B$13:$B$162,MATCH(0,COUNTIF(B$7:B14,①【入力】別紙_職員一覧!$B$13:$B$162),0))=0,"",INDEX(①【入力】別紙_職員一覧!$B$13:$B$162,MATCH(0,COUNTIF(B$7:B14,①【入力】別紙_職員一覧!$B$13:$B$162),0))),"")} | C15: =IF(B15="","",VLOOKUP($B15,①【入力】別紙_職員一覧!$B$1:$Q$162,2,FALSE)) | D15: =IF(B15="","",VLOOKUP($B15,①【入力】別紙_職員一覧!$B$13:$Q$162,3,FALSE)) | E15: =IF(B15="","",VLOOKUP($B15,①【入力】別紙_職員一覧!$B$13:$Q$162,4,FALSE)) | F15: =IF(B15="","",SUMIF(①【入力】別紙_職員一覧!$B$13:$B$162,①事業所別一覧!B15,①【入力】別紙_職員一覧!$Q$13:$Q$162)) | G15: =IF(C15="","",ROUNDDOWN(F15+ROUNDUP(F15*0.15,0),-3)) | H15: =IF(B15="","",COUNTIF(①【入力】別紙_職員一覧!$B$13:$B$162,①事業所別一覧!B15)) | I15: =IF(B15="","",COUNTIFS(①【入力】別紙_職員一覧!$B$13:$B$162,①事業所別一覧!B15,①【入力】別紙_職員一覧!$F$13:$F$162,"〇")) | J15: =IF(B15="","",COUNTIFS(①【入力】別紙_職員一覧!$B$13:$B$162,①事業所別一覧!B15,①【入力】別紙_職員一覧!$K$13:$K$162,"〇")) | K15: =IF(B15="","",COUNTIFS(①【入力】別紙_職員一覧!$B$13:$B$162,①事業所別一覧!B15,①【入力】別紙_職員一覧!$L$13:$L$162,$K$6))
A16: 10 | B16: {=IFERROR(IF(INDEX(①【入力】別紙_職員一覧!$B$13:$B$162,MATCH(0,COUNTIF(B$7:B15,①【入力】別紙_職員一覧!$B$13:$B$162),0))=0,"",INDEX(①【入力】別紙_職員一覧!$B$13:$B$162,MATCH(0,COUNTIF(B$7:B15,①【入力】別紙_職員一覧!$B$13:$B$162),0))),"")} | C16: =IF(B16="","",VLOOKUP($B16,①【入力】別紙_職員一覧!$B$1:$Q$162,2,FALSE)) | D16: =IF(B16="","",VLOOKUP($B16,①【入力】別紙_職員一覧!$B$13:$Q$162,3,FALSE)) | E16: =IF(B16="","",VLOOKUP($B16,①【入力】別紙_職員一覧!$B$13:$Q$162,4,FALSE)) | F16: =IF(B16="","",SUMIF(①【入力】別紙_職員一覧!$B$13:$B$162,①事業所別一覧!B16,①【入力】別紙_職員一覧!$Q$13:$Q$162)) | G16: =IF(C16="","",ROUNDDOWN(F16+ROUNDUP(F16*0.15,0),-3)) | H16: =IF(B16="","",COUNTIF(①【入力】別紙_職員一覧!$B$13:$B$162,①事業所別一覧!B16)) | I16: =IF(B16="","",COUNTIFS(①【入力】別紙_職員一覧!$B$13:$B$162,①事業所別一覧!B16,①【入力】別紙_職員一覧!$F$13:$F$162,"〇")) | J16: =IF(B16="","",COUNTIFS(①【入力】別紙_職員一覧!$B$13:$B$162,①事業所別一覧!B16,①【入力】別紙_職員一覧!$K$13:$K$162,"〇")) | K16: =IF(B16="","",COUNTIFS(①【入力】別紙_職員一覧!$B$13:$B$162,①事業所別一覧!B16,①【入力】別紙_職員一覧!$L$13:$L$162,$K$6))
A17: 11 | B17: {=IFERROR(IF(INDEX(①【入力】別紙_職員一覧!$B$13:$B$162,MATCH(0,COUNTIF(B$7:B16,①【入力】別紙_職員一覧!$B$13:$B$162),0))=0,"",INDEX(①【入力】別紙_職員一覧!$B$13:$B$162,MATCH(0,COUNTIF(B$7:B16,①【入力】別紙_職員一覧!$B$13:$B$162),0))),"")} | C17: =IF(B17="","",VLOOKUP($B17,①【入力】別紙_職員一覧!$B$1:$Q$162,2,FALSE)) | D17: =IF(B17="","",VLOOKUP($B17,①【入力】別紙_職員一覧!$B$13:$Q$162,3,FALSE)) | E17: =IF(B17="","",VLOOKUP($B17,①【入力】別紙_職員一覧!$B$13:$Q$162,4,FALSE)) | F17: =IF(B17="","",SUMIF(①【入力】別紙_職員一覧!$B$13:$B$162,①事業所別一覧!B17,①【入力】別紙_職員一覧!$Q$13:$Q$162)) | G17: =IF(C17="","",ROUNDDOWN(F17+ROUNDUP(F17*0.15,0),-3)) | H17: =IF(B17="","",COUNTIF(①【入力】別紙_職員一覧!$B$13:$B$162,①事業所別一覧!B17)) | I17: =IF(B17="","",COUNTIFS(①【入力】別紙_職員一覧!$B$13:$B$162,①事業所別一覧!B17,①【入力】別紙_職員一覧!$F$13:$F$162,"〇")) | J17: =IF(B17="","",COUNTIFS(①【入力】別紙_職員一覧!$B$13:$B$162,①事業所別一覧!B17,①【入力】別紙_職員一覧!$K$13:$K$162,"〇")) | K17: =IF(B17="","",COUNTIFS(①【入力】別紙_職員一覧!$B$13:$B$162,①事業所別一覧!B17,①【入力】別紙_職員一覧!$L$13:$L$162,$K$6))
A18: 12 | B18: {=IFERROR(IF(INDEX(①【入力】別紙_職員一覧!$B$13:$B$162,MATCH(0,COUNTIF(B$7:B17,①【入力】別紙_職員一覧!$B$13:$B$162),0))=0,"",INDEX(①【入力】別紙_職員一覧!$B$13:$B$162,MATCH(0,COUNTIF(B$7:B17,①【入力】別紙_職員一覧!$B$13:$B$162),0))),"")} | C18: =IF(B18="","",VLOOKUP($B18,①【入力】別紙_職員一覧!$B$1:$Q$162,2,FALSE)) | D18: =IF(B18="","",VLOOKUP($B18,①【入力】別紙_職員一覧!$B$13:$Q$162,3,FALSE)) | E18: =IF(B18="","",VLOOKUP($B18,①【入力】別紙_職員一覧!$B$13:$Q$162,4,FALSE)) | F18: =IF(B18="","",SUMIF(①【入力】別紙_職員一覧!$B$13:$B$162,①事業所別一覧!B18,①【入力】別紙_職員一覧!$Q$13:$Q$162)) | G18: =IF(C18="","",ROUNDDOWN(F18+ROUNDUP(F18*0.15,0),-3)) | H18: =IF(B18="","",COUNTIF(①【入力】別紙_職員一覧!$B$13:$B$162,①事業所別一覧!B18)) | I18: =IF(B18="","",COUNTIFS(①【入力】別紙_職員一覧!$B$13:$B$162,①事業所別一覧!B18,①【入力】別紙_職員一覧!$F$13:$F$162,"〇")) | J18: =IF(B18="","",COUNTIFS(①【入力】別紙_職員一覧!$B$13:$B$162,①事業所別一覧!B18,①【入力】別紙_職員一覧!$K$13:$K$162,"〇")) | K18: =IF(B18="","",COUNTIFS(①【入力】別紙_職員一覧!$B$13:$B$162,①事業所別一覧!B18,①【入力】別紙_職員一覧!$L$13:$L$162,$K$6))
A19: 13 | B19: {=IFERROR(IF(INDEX(①【入力】別紙_職員一覧!$B$13:$B$162,MATCH(0,COUNTIF(B$7:B18,①【入力】別紙_職員一覧!$B$13:$B$162),0))=0,"",INDEX(①【入力】別紙_職員一覧!$B$13:$B$162,MATCH(0,COUNTIF(B$7:B18,①【入力】別紙_職員一覧!$B$13:$B$162),0))),"")} | C19: =IF(B19="","",VLOOKUP($B19,①【入力】別紙_職員一覧!$B$1:$Q$162,2,FALSE)) | D19: =IF(B19="","",VLOOKUP($B19,①【入力】別紙_職員一覧!$B$13:$Q$162,3,FALSE)) | E19: =IF(B19="","",VLOOKUP($B19,①【入力】別紙_職員一覧!$B$13:$Q$162,4,FALSE)) | F19: =IF(B19="","",SUMIF(①【入力】別紙_職員一覧!$B$13:$B$162,①事業所別一覧!B19,①【入力】別紙_職員一覧!$Q$13:$Q$162)) | G19: =IF(C19="","",ROUNDDOWN(F19+ROUNDUP(F19*0.15,0),-3)) | H19: =IF(B19="","",COUNTIF(①【入力】別紙_職員一覧!$B$13:$B$162,①事業所別一覧!B19)) | I19: =IF(B19="","",COUNTIFS(①【入力】別紙_職員一覧!$B$13:$B$162,①事業所別一覧!B19,①【入力】別紙_職員一覧!$F$13:$F$162,"〇")) | J19: =IF(B19="","",COUNTIFS(①【入力】別紙_職員一覧!$B$13:$B$162,①事業所別一覧!B19,①【入力】別紙_職員一覧!$K$13:$K$162,"〇")) | K19: =IF(B19="","",COUNTIFS(①【入力】別紙_職員一覧!$B$13:$B$162,①事業所別一覧!B19,①【入力】別紙_職員一覧!$L$13:$L$162,$K$6))
... A26: 20 | B26: {=IFERROR(IF(INDEX(①【入力】別紙_職員一覧!$B$13:$B$162,MATCH(0,COUNTIF(B$7:B25,①【入力】別紙_職員一覧!$B$13:$B$162),0))=0,"",INDEX(①【入力】別紙_職員一覧!$B$13:$B$162,MATCH(0,COUNTIF(B$7:B25,①【入力】別紙_職員一覧!$B$13:$B$162),0))),"")} | C26: =IF(B26="","",VLOOKUP($B26,①【入力】別紙_職員一覧!$B$1:$Q$162,2,FALSE)) | D26: =IF(B26="","",VLOOKUP($B26,①【入力】別紙_職員一覧!$B$13:$Q$162,3,FALSE)) | E26: =IF(B26="","",VLOOKUP($B26,①【入力】別紙_職員一覧!$B$13:$Q$162,4,FALSE)) | F26: =IF(B26="","",SUMIF(①【入力】別紙_職員一覧!$B$13:$B$162,①事業所別一覧!B26,①【入力】別紙_職員一覧!$Q$13:$Q$162)) | G26: =IF(C26="","",ROUNDDOWN(F26+ROUNDUP(F26*0.15,0),-3)) | H26: =IF(B26="","",COUNTIF(①【入力】別紙_職員一覧!$B$13:$B$162,①事業所別一覧!B26)) | I26: =IF(B26="","",COUNTIFS(①【入力】別紙_職員一覧!$B$13:$B$162,①事業所別一覧!B26,①【入力】別紙_職員一覧!$F$13:$F$162,"〇")) | J26: =IF(B26="","",COUNTIFS(①【入力】別紙_職員一覧!$B$13:$B$162,①事業所別一覧!B26,①【入力】別紙_職員一覧!$K$13:$K$162,"〇")) | K26: =IF(B26="","",COUNTIFS(①【入力】別紙_職員一覧!$B$13:$B$162,①事業所別一覧!B26,①【入力】別紙_職員一覧!$L$13:$L$162,$K$6))
E27: 合計 | F27: =SUM(F7:F26) -> 0 | G27: =ROUNDDOWN(F27+ROUNDUP(F27*0.15,0),-3) -> 0 | H27: =SUM(H7:H26) -> 0 | I27: =SUM(I7:I26) -> 0 | J27: =SUM(J7:J26) -> 0 | K27: =SUM(K7:K26) -> 0
G28: ※「事業所ごとの交付申請額」の合計欄(G27セル)について
G29: 法人としての交付申請額合計を記載しているため、列の合計と一致しない場合があります。

Sheet ①【入力】提出内容確認書
B1: 交付申請書等提出内容確認書
V3: =【入力シート】!J5 -> 令和 | X3: =IF(【入力シート】!L5="","",【入力シート】!L5) | Y3: 年 | Z3: =IF(【入力シート】!O5="","",【入力シート】!O5) | AB3: 月 | AC3: =IF(【入力シート】!S5="","",【入力シート】!S5) | AE3: 日
L5: 法人名称 | P5: =IF(【入力シート】!J22="","",【入力シート】!J22)
B7: =" "&【入力シート】!C1&【入力シート】!D1&"年度品川区障害福祉サービス等居住支援手当事業補助金の交付申請にあたり、次の項目を確認したことを報告します。" -> 令和7年度品川区障害福祉サービス等居住支援手当事業補助金の交付申請にあたり、次の項目を確認したことを報告します。
B10: 対象となる職員
B11: 雇用形態 | F11: 職員はサービス事業所を運営する法人から直接雇用を受け、当該事業所で勤務する職員であるか。派遣職員、委託先職員は含まれていないか。 | AC11: □
B12: 職種 | F12: 直接支援及び相談支援の業務に従事する者（ホームヘルパー、生活支援員、児童指導員、指導員、保育士、世話人、職業指導員、地域移行支援員、就労支援員、訪問支援員、介護職員、相談支援専門員等）、サービス提供責任者、サービス管理責任者、児童発達支援管理責任者として配置されているか。 | AC12: □
F13: 看護師や栄養士、理学療法士、作業療法士、事務職員、送迎を行う職員が兼務している場合、上記の職員として配置があるか。 | AC13: □
B14: 勤務時間数 | F14: 福祉・介護職員としての勤務にかかる所定労働時間が週20時間以上又は月80時間以上であるか。また、所定労働時間が週20時間未満かつ月80時間未満である場合又は所定労働時間の定めのない場合は、実労働時間が週20時間以上又は月80時間以上であるか。 | AC14: □
F15: 事業所における役員（法人代表者を含む）は、福祉・介護職員としての業務に係る実労働時間が週20時間以上又は月80時間以上であるか。 | AC15: □
B16: その他 | F16: 東京都ならびに品川区の居住支援事業の補助金（下記）の交付を受けている利用者が含まれていないか。 ・東京都障害福祉サービス等職員宿舎借り上げ支援事業実施要綱に基づく助成金 ・品川区外国人受入環境整備における借り上げ宿舎家賃等助成金交付要綱に基づく補助金 ・その他事業者が雇用する職員を対象とした区が実施する居住支援のうち、当事業の実施目的と類似するもの | AC16: □
F17: 品川区社会福祉施設職員住宅（災害対策東品川職員待機寮、大井倉田わかくさ荘、グレースマンション、戸越台特別養護老人ホーム職員住宅）の入居者が含まれていないか。 | AC17: □
F18: 障害事業所と介護事業所で兼務している場合、重複して申請していないか。 | AC18: □
B19: 居住支援手当
B20: 改定 | F20: 就業規則または給与規程等の従業員の給与を定める規程を改定し、労働基準監督署へ提出しているか。 ※就業規則または給与規程等を定めていない場合を除く。 | AC20: □
B21: 規程 | F21: 就業規則または給与規程等は次のとおり改定されているか。 ①「品川区障害福祉サービス等居住支援手当」の創設 ②「品川区障害福祉サービス等居住支援手当の支給に係る補助事業実施要綱」の運用に準拠し支給すること ③具体的な支給額 | AC21: □
B22: 役員報酬 | F22: 役員は就業規則または給与規程等により定めることができないため、役員報酬において支給することとしているか。 | AC22: □

Sheet ①第１号様式_交付申請書
A1: 第１号様式（第６条関係）
V2: =【入力シート】!J5 -> 令和 | X2: =IF(【入力シート】!L5="","",【入力シート】!L5) | Y2: 年 | Z2: =IF(【入力シート】!O5="","",【入力シート】!O5) | AB2: 月 | AC2: =IF(【入力シート】!S5="","",【入力シート】!S5) | AE2: 日
A3: 品川区長 様
L4: 法人名称 | P4: =IF(【入力シート】!J22="","",【入力シート】!J22)
L6: 法人所在地 | P6: =IF(【入力シート】!M24="","",【入力シート】!M24)
L10: 代表者職名 | P10: =IF(【入力シート】!J25="","",【入力シート】!J25)
L12: 代表者氏名 | P12: =IF(【入力シート】!J26="","",【入力シート】!J26)
B14: =【入力シート】!C1&【入力シート】!D1&"年度品川区障害福祉サービス等居住支援手当事業補助金" -> 令和7年度品川区障害福祉サービス等居住支援手当事業補助金
B15: 交付申請書
B17: 品川区障害福祉サービス等居住支援手当の支給に係る補助事業実施要綱第６条に基づき、下記のとおり補助金の交付申請をします。
A20: 記
B22: １ 申請額 | L22: =①【入力】別紙_職員一覧!Q7 -> 0 | T22: 円
B24: ２ 内訳および添付書類 | L24: ="別紙「"&【入力シート】!C1&【入力シート】!D1&"年度品川区障害福祉サービス等居住支援手当事業補助金交付申請対象職員一覧」のとおり" -> 別紙「令和7年度品川区障害福祉サービス等居住支援手当事業補助金交付申請対象職員一覧」のとおり
B27: （提出書類）
C29: （１） | E29: =【入力シート】!C1&【入力シート】!D1&"年度品川区障害福祉サービス等居住支援手当事業補助金交付申請書（本紙）" -> 令和7年度品川区障害福祉サービス等居住支援手当事業補助金交付申請書（本紙）
C32: （２） | E32: =【入力シート】!C1&【入力シート】!D1&"年度品川区障害福祉サービス等居住支援手当事業補助金交付申請対象職員一覧（別紙）" -> 令和7年度品川区障害福祉サービス等居住支援手当事業補助金交付申請対象職員一覧（別紙）
C35: （３） | E35: 就業規則または給与規程等（本要綱に基づく「障害福祉サービス等居住支援手当」の支給について法人として規定していることの根拠資料）
C38: （４） | E38: 交付申請書等提出内容確認書
C40: （５） | E40: 支払金口座振替依頼書
C42: （６） | E42: その他関係書類
N45: 法人の事務担当者
N46: 部署名 | R46: =IF(【入力シート】!J29="","",【入力シート】!J29)
N47: 担当者 | R47: =IF(【入力シート】!J30="","",【入力シート】!J30)
N48: TEL | R48: =IF(【入力シート】!J31="","",【入力シート】!J31) | U48: - | V48: =IF(【入力シート】!P31="","",【入力シート】!P31) | Z48: - | AA48: =IF(【入力シート】!Y31="","",【入力シート】!Y31)
N49: e-mail | R49: =IF(【入力シート】!J32="","",【入力シート】!J32)

Sheet ②【入力】就業規則等一覧（変更）
B1: 就業規則または給与規程等一覧
U3: =【入力シート】!J8 -> 令和 | W3: =IF(【入力シート】!L8="","",【入力シート】!L8) | Y3: 年 | Z3: =IF(【入力シート】!O8="","",【入力シート】!O8) | AB3: 月 | AC3: =IF(【入力シート】!S8="","",【入力シート】!S8) | AE3: 日
L5: 法人名称 | P5: =IF(【入力シート】!J22="","",【入力シート】!J22)
B6: =" "&【入力シート】!C1&【入力シート】!D1&"年度品川区障害福祉サービス等職員居住支援手当の支給に係る補助事業実施要綱第４条に基づき定めた就業規則または給与規程等を提出します。" -> 令和7年度品川区障害福祉サービス等職員居住支援手当の支給に係る補助事業実施要綱第４条に基づき定めた就業規則または給与規程等を提出します。
B10: ※行が不足する場合は、事務局に連絡をして下さい。
B11: 就業規則等番号 (対象職員一覧に記載) | H11: 就業規則等名称 | S11: 就業規則等の適用年月日 | AA11: 支給月額 （円）
B13: a | S13: =IF(①【入力】就業規則等一覧!S13="","",①【入力】就業規則等一覧!S13)
B14: b | H14: =IF(①【入力】就業規則等一覧!H14="","",①【入力】就業規則等一覧!H14) | S14: =IF(①【入力】就業規則等一覧!S14="","",①【入力】就業規則等一覧!S14) | AA14: =IF(①【入力】就業規則等一覧!AA14="","",①【入力】就業規則等一覧!AA14)
B15: c | H15: =IF(①【入力】就業規則等一覧!H15="","",①【入力】就業規則等一覧!H15) | S15: =IF(①【入力】就業規則等一覧!S15="","",①【入力】就業規則等一覧!S15) | AA15: =IF(①【入力】就業規則等一覧!AA15="","",①【入力】就業規則等一覧!AA15)
B16: d | H16: =IF(①【入力】就業規則等一覧!H16="","",①【入力】就業規則等一覧!H16) | S16: =IF(①【入力】就業規則等一覧!S16="","",①【入力】就業規則等一覧!S16) | AA16: =IF(①【入力】就業規則等一覧!AA16="","",①【入力】就業規則等一覧!AA16)
B17: e | H17: =IF(①【入力】就業規則等一覧!H17="","",①【入力】就業規則等一覧!H17) | S17: =IF(①【入力】就業規則等一覧!S17="","",①【入力】就業規則等一覧!S17) | AA17: =IF(①【入力】就業規則等一覧!AA17="","",①【入力】就業規則等一覧!AA17)
B18: f | H18: =IF(①【入力】就業規則等一覧!H18="","",①【入力】就業規則等一覧!H18) | S18: =IF(①【入力】就業規則等一覧!S18="","",①【入力】就業規則等一覧!S18) | AA18: =IF(①【入力】就業規則等一覧!AA18="","",①【入力】就業規則等一覧!AA18)
B19: g | H19: =IF(①【入力】就業規則等一覧!H19="","",①【入力】就業規則等一覧!H19) | S19: =IF(①【入力】就業規則等一覧!S19="","",①【入力】就業規則等一覧!S19) | AA19: =IF(①【入力】就業規則等一覧!AA19="","",①【入力】就業規則等一覧!AA19)
B20: h | H20: =IF(①【入力】就業規則等一覧!H20="","",①【入力】就業規則等一覧!H20) | S20: =IF(①【入力】就業規則等一覧!S20="","",①【入力】就業規則等一覧!S20) | AA20: =IF(①【入力】就業規則等一覧!AA20="","",①【入力】就業規則等一覧!AA20)
B21: i | H21: =IF(①【入力】就業規則等一覧!H21="","",①【入力】就業規則等一覧!H21) | S21: =IF(①【入力】就業規則等一覧!S21="","",①【入力】就業規則等一覧!S21) | AA21: =IF(①【入力】就業規則等一覧!AA21="","",①【入力】就業規則等一覧!AA21)
B22: j | H22: =IF(①【入力】就業規則等一覧!H22="","",①【入力】就業規則等一覧!H22) | S22: =IF(①【入力】就業規則等一覧!S22="","",①【入力】就業規則等一覧!S22) | AA22: =IF(①【入力】就業規則等一覧!AA22="","",①【入力】就業規則等一覧!AA22)
B23: k | H23: =IF(①【入力】就業規則等一覧!H23="","",①【入力】就業規則等一覧!H23) | S23: =IF(①【入力】就業規則等一覧!S23="","",①【入力】就業規則等一覧!S23) | AA23: =IF(①【入力】就業規則等一覧!AA23="","",①【入力】就業規則等一覧!AA23)
B24: l | H24: =IF(①【入力】就業規則等一覧!H24="","",①【入力】就業規則等一覧!H24) | S24: =IF(①【入力】就業規則等一覧!S24="","",①【入力】就業規則等一覧!S24) | AA24: =IF(①【入力】就業規則等一覧!AA24="","",①【入力】就業規則等一覧!AA24)
B25: m | H25: =IF(①【入力】就業規則等一覧!H25="","",①【入力】就業規則等一覧!H25) | S25: =IF(①【入力】就業規則等一覧!S25="","",①【入力】就業規則等一覧!S25) | AA25: =IF(①【入力】就業規則等一覧!AA25="","",①【入力】就業規則等一覧!AA25)
... B27: o | H27: =IF(①【入力】就業規則等一覧!H27="","",①【入力】就業規則等一覧!H27) | S27: =IF(①【入力】就業規則等一覧!S27="","",①【入力】就業規則等一覧!S27) | AA27: =IF(①【入力】就業規則等一覧!AA27="","",①【入力】就業規則等一覧!AA27)
B28: 就業規則または給与規程等を定めていない役員（法人代表者含む）および従業員ごとに作成する労働条件通知書により当該手当の支給を定めている場合は下記のとおり対応します。
B30: 就業規則等番号 (対象職員一覧に記載) | H30: 種別 | AA30: 支給月額 （円）
B32: 1 | H32: 役員※就業規則等の添付は不要 | AA32: =IF(①【入力】就業規則等一覧!AA32="","",①【入力】就業規則等一覧!AA32)
B33: 2 | H33: 個別の労働条件通知書等※対象職員全員分を提出 | AA33: =IF(①【入力】就業規則等一覧!AA33="","",①【入力】就業規則等一覧!AA33)

Sheet ②【入力】別紙_職員一覧（変更）
A2: =【入力シート】!C1&【入力シート】!D1&"年度品川区障害福祉サービス等職員居住支援手当事業補助金交付申請対象職員一覧" -> 令和7年度品川区障害福祉サービス等職員居住支援手当事業補助金交付申請対象職員一覧 | Q2: 別紙（第３号様式）
C3: 法人名称： | D3: =IF(【入力シート】!J22="","",【入力シート】!J22)
P4: 手当支給にかかる補助対象額合計額(F) | Q4: =SUM(Q13:Q162) -> 0
C5: =IF(COUNTIF(T13:T112,"月数オーバー！")>0,"※黄色の行は申請対象月数が12か月を超えています。修正してから印刷してください。","") | P5: 社会保険料雇用主負担額に相当する額(G=F×15%) | Q5: =ROUNDUP(Q4*0.15,0) -> 0
P6: 補助対象額合計(H=F+G) | Q6: =Q4+Q5 -> 0
P7: 変更交付申請額(Hを千円未満切捨て) | Q7: =ROUNDDOWN((Q6),-3) -> 0
M10: A | N10: B | O10: C | P10: D | Q10: E＝A×D
A11: No. | C11: 事業所情報 | F11: 対象職員情報 | J11: 該当する 就業規則又は 給与規定等 一覧 | K11: 役員 （法人代表者含む） | L11: 福祉・介護職員 | M11: 申請対象 月数 | N11: 支給 月額 | O11: 補助基準月額 10,000円 | P11: 補助 月額 | Q11: 補助対象額 (円)
B12: ※作業用※ | C12: 事業所 指定番号 | D12: サービス種別 | E12: 事業所 名称 | F12: 採用 予定者 | G12: 姓 | H12: 名 | I12: 生年月日
A13: 1 | B13: =C13&D13 | C13: =IF(①【入力】別紙_職員一覧!C13="","",①【入力】別紙_職員一覧!C13) | D13: =IF(①【入力】別紙_職員一覧!D13="","",①【入力】別紙_職員一覧!D13) | E13: =IF(①【入力】別紙_職員一覧!E13="","",①【入力】別紙_職員一覧!E13) | F13: =IF(①【入力】別紙_職員一覧!F13="","",①【入力】別紙_職員一覧!F13) | G13: =IF(①【入力】別紙_職員一覧!G13="","",①【入力】別紙_職員一覧!G13) | H13: =IF(①【入力】別紙_職員一覧!H13="","",①【入力】別紙_職員一覧!H13) | I13: =IF(①【入力】別紙_職員一覧!I13="","",①【入力】別紙_職員一覧!I13) | J13: =IF(①【入力】別紙_職員一覧!J13="","",①【入力】別紙_職員一覧!J13) | K13: =IF(OR(J13="1",J13=1),"〇","") | L13: =IF(①【入力】別紙_職員一覧!L13="","",①【入力】別紙_職員一覧!L13) | M13: =IF(①【入力】別紙_職員一覧!M13="","",①【入力】別紙_職員一覧!M13) | N13: =IF(J13="","",IF(OR(J13="1",J13="2"),VLOOKUP(J13,①【入力】就業規則等一覧!$B$32:$AD$33,26,FALSE),VLOOKUP(J13,①【入力】就業規則等一覧!$B$13:$AD$27,26,FALSE))) | O13: =IF(M13="","",10000) | P13: =IF(N13="","",MIN(N13,10000)) | Q13: =IF(OR(M13="",N13=""),"",M13*P13)
A14: 2 | B14: =C14&D14 | C14: =IF(①【入力】別紙_職員一覧!C14="","",①【入力】別紙_職員一覧!C14) | D14: =IF(①【入力】別紙_職員一覧!D14="","",①【入力】別紙_職員一覧!D14) | E14: =IF(①【入力】別紙_職員一覧!E14="","",①【入力】別紙_職員一覧!E14) | F14: =IF(①【入力】別紙_職員一覧!F14="","",①【入力】別紙_職員一覧!F14) | G14: =IF(①【入力】別紙_職員一覧!G14="","",①【入力】別紙_職員一覧!G14) | H14: =IF(①【入力】別紙_職員一覧!H14="","",①【入力】別紙_職員一覧!H14) | I14: =IF(①【入力】別紙_職員一覧!I14="","",①【入力】別紙_職員一覧!I14) | J14: =IF(①【入力】別紙_職員一覧!J14="","",①【入力】別紙_職員一覧!J14) | K14: =IF(OR(J14="1",J14=1),"〇","") | L14: =IF(①【入力】別紙_職員一覧!L14="","",①【入力】別紙_職員一覧!L14) | M14: =IF(①【入力】別紙_職員一覧!M14="","",①【入力】別紙_職員一覧!M14) | N14: =IF(J14="","",IF(OR(J14="1",J14="2"),VLOOKUP(J14,①【入力】就業規則等一覧!$B$32:$AD$33,26,FALSE),VLOOKUP(J14,①【入力】就業規則等一覧!$B$13:$AD$27,26,FALSE))) | O14: =IF(M14="","",10000) | P14: =IF(N14="","",MIN(N14,10000)) | Q14: =IF(OR(M14="",N14=""),"",M14*P14)
A15: 3 | B15: =C15&D15 | C15: =IF(①【入力】別紙_職員一覧!C15="","",①【入力】別紙_職員一覧!C15) | D15: =IF(①【入力】別紙_職員一覧!D15="","",①【入力】別紙_職員一覧!D15) | E15: =IF(①【入力】別紙_職員一覧!E15="","",①【入力】別紙_職員一覧!E15) | F15: =IF(①【入力】別紙_職員一覧!F15="","",①【入力】別紙_職員一覧!F15) | G15: =IF(①【入力】別紙_職員一覧!G15="","",①【入力】別紙_職員一覧!G15) | H15: =IF(①【入力】別紙_職員一覧!H15="","",①【入力】別紙_職員一覧!H15) | I15: =IF(①【入力】別紙_職員一覧!I15="","",①【入力】別紙_職員一覧!I15) | J15: =IF(①【入力】別紙_職員一覧!J15="","",①【入力】別紙_職員一覧!J15) | K15: =IF(OR(J15="1",J15=1),"〇","") | L15: =IF(①【入力】別紙_職員一覧!L15="","",①【入力】別紙_職員一覧!L15) | M15: =IF(①【入力】別紙_職員一覧!M15="","",①【入力】別紙_職員一覧!M15) | N15: =IF(J15="","",IF(OR(J15="1",J15="2"),VLOOKUP(J15,①【入力】就業規則等一覧!$B$32:$AD$33,26,FALSE),VLOOKUP(J15,①【入力】就業規則等一覧!$B$13:$AD$27,26,FALSE))) | O15: =IF(M15="","",10000) | P15: =IF(N15="","",MIN(N15,10000)) | Q15: =IF(OR(M15="",N15=""),"",M15*P15)
A16: 4 | B16: =C16&D16 | C16: =IF(①【入力】別紙_職員一覧!C16="","",①【入力】別紙_職員一覧!C16) | D16: =IF(①【入力】別紙_職員一覧!D16="","",①【入力】別紙_職員一覧!D16) | E16: =IF(①【入力】別紙_職員一覧!E16="","",①【入力】別紙_職員一覧!E16) | F16: =IF(①【入力】別紙_職員一覧!F16="","",①【入力】別紙_職員一覧!F16) | G16: =IF(①【入力】別紙_職員一覧!G16="","",①【入力】別紙_職員一覧!G16) | H16: =IF(①【入力】別紙_職員一覧!H16="","",①【入力】別紙_職員一覧!H16) | I16: =IF(①【入力】別紙_職員一覧!I16="","",①【入力】別紙_職員一覧!I16) | J16: =IF(①【入力】別紙_職員一覧!J16="","",①【入力】別紙_職員一覧!J16) | K16: =IF(OR(J16="1",J16=1),"〇","") | L16: =IF(①【入力】別紙_職員一覧!L16="","",①【入力】別紙_職員一覧!L16) | M16: =IF(①【入力】別紙_職員一覧!M16="","",①【入力】別紙_職員一覧!M16) | N16: =IF(J16="","",IF(OR(J16="1",J16="2"),VLOOKUP(J16,①【入力】就業規則等一覧!$B$32:$AD$33,26,FALSE),VLOOKUP(J16,①【入力】就業規則等一覧!$B$13:$AD$27,26,FALSE))) | O16: =IF(M16="","",10000) | P16: =IF(N16="","",MIN(N16,10000)) | Q16: =IF(OR(M16="",N16=""),"",M16*P16)
A17: 5 | B17: =C17&D17 | C17: =IF(①【入力】別紙_職員一覧!C17="","",①【入力】別紙_職員一覧!C17) | D17: =IF(①【入力】別紙_職員一覧!D17="","",①【入力】別紙_職員一覧!D17) | E17: =IF(①【入力】別紙_職員一覧!E17="","",①【入力】別紙_職員一覧!E17) | F17: =IF(①【入力】別紙_職員一覧!F17="","",①【入力】別紙_職員一覧!F17) | G17: =IF(①【入力】別紙_職員一覧!G17="","",①【入力】別紙_職員一覧!G17) | H17: =IF(①【入力】別紙_職員一覧!H17="","",①【入力】別紙_職員一覧!H17) | I17: =IF(①【入力】別紙_職員一覧!I17="","",①【入力】別紙_職員一覧!I17) | J17: =IF(①【入力】別紙_職員一覧!J17="","",①【入力】別紙_職員一覧!J17) | K17: =IF(OR(J17="1",J17=1),"〇","") | L17: =IF(①【入力】別紙_職員一覧!L17="","",①【入力】別紙_職員一覧!L17) | M17: =IF(①【入力】別紙_職員一覧!M17="","",①【入力】別紙_職員一覧!M17) | N17: =IF(J17="","",IF(OR(J17="1",J17="2"),VLOOKUP(J17,①【入力】就業規則等一覧!$B$32:$AD$33,26,FALSE),VLOOKUP(J17,①【入力】就業規則等一覧!$B$13:$AD$27,26,FALSE))) | O17: =IF(M17="","",10000) | P17: =IF(N17="","",MIN(N17,10000)) | Q17: =IF(OR(M17="",N17=""),"",M17*P17)
A18: 6 | B18: =C18&D18 | C18: =IF(①【入力】別紙_職員一覧!C18="","",①【入力】別紙_職員一覧!C18) | D18: =IF(①【入力】別紙_職員一覧!D18="","",①【入力】別紙_職員一覧!D18) | E18: =IF(①【入力】別紙_職員一覧!E18="","",①【入力】別紙_職員一覧!E18) | F18: =IF(①【入力】別紙_職員一覧!F18="","",①【入力】別紙_職員一覧!F18) | G18: =IF(①【入力】別紙_職員一覧!G18="","",①【入力】別紙_職員一覧!G18) | H18: =IF(①【入力】別紙_職員一覧!H18="","",①【入力】別紙_職員一覧!H18) | I18: =IF(①【入力】別紙_職員一覧!I18="","",①【入力】別紙_職員一覧!I18) | J18: =IF(①【入力】別紙_職員一覧!J18="","",①【入力】別紙_職員一覧!J18) | K18: =IF(OR(J18="1",J18=1),"〇","") | L18: =IF(①【入力】別紙_職員一覧!L18="","",①【入力】別紙_職員一覧!L18) | M18: =IF(①【入力】別紙_職員一覧!M18="","",①【入力】別紙_職員一覧!M18) | N18: =IF(J18="","",IF(OR(J18="1",J18="2"),VLOOKUP(J18,①【入力】就業規則等一覧!$B$32:$AD$33,26,FALSE),VLOOKUP(J18,①【入力】就業規則等一覧!$B$13:$AD$27,26,FALSE))) | O18: =IF(M18="","",10000) | P18: =IF(N18="","",MIN(N18,10000)) | Q18: =IF(OR(M18="",N18=""),"",M18*P18)
A19: 7 | B19: =C19&D19 | C19: =IF(①【入力】別紙_職員一覧!C19="","",①【入力】別紙_職員一覧!C19) | D19: =IF(①【入力】別紙_職員一覧!D19="","",①【入力】別紙_職員一覧!D19) | E19: =IF(①【入力】別紙_職員一覧!E19="","",①【入力】別紙_職員一覧!E19) | F19: =IF(①【入力】別紙_職員一覧!F19="","",①【入力】別紙_職員一覧!F19) | G19: =IF(①【入力】別紙_職員一覧!G19="","",①【入力】別紙_職員一覧!G19) | H19: =IF(①【入力】別紙_職員一覧!H19="","",①【入力】別紙_職員一覧!H19) | I19: =IF(①【入力】別紙_職員一覧!I19="","",①【入力】別紙_職員一覧!I19) | J19: =IF(①【入力】別紙_職員一覧!J19="","",①【入力】別紙_職員一覧!J19) | K19: =IF(OR(J19="1",J19=1),"〇","") | L19: =IF(①【入力】別紙_職員一覧!L19="","",①【入力】別紙_職員一覧!L19) | M19: =IF(①【入力】別紙_職員一覧!M19="","",①【入力】別紙_職員一覧!M19) | N19: =IF(J19="","",IF(OR(J19="1",J19="2"),VLOOKUP(J19,①【入力】就業規則等一覧!$B$32:$AD$33,26,FALSE),VLOOKUP(J19,①【入力】就業規則等一覧!$B$13:$AD$27,26,FALSE))) | O19: =IF(M19="","",10000) | P19: =IF(N19="","",MIN(N19,10000)) | Q19: =IF(OR(M19="",N19=""),"",M19*P19)
A20: 8 | B20: =C20&D20 | C20: =IF(①【入力】別紙_職員一覧!C20="","",①【入力】別紙_職員一覧!C20) | D20: =IF(①【入力】別紙_職員一覧!D20="","",①【入力】別紙_職員一覧!D20) | E20: =IF(①【入力】別紙_職員一覧!E20="","",①【入力】別紙_職員一覧!E20) | F20: =IF(①【入力】別紙_職員一覧!F20="","",①【入力】別紙_職員一覧!F20) | G20: =IF(①【入力】別紙_職員一覧!G20="","",①【入力】別紙_職員一覧!G20) | H20: =IF(①【入力】別紙_職員一覧!H20="","",①【入力】別紙_職員一覧!H20) | I20: =IF(①【入力】別紙_職員一覧!I20="","",①【入力】別紙_職員一覧!I20) | J20: =IF(①【入力】別紙_職員一覧!J20="","",①【入力】別紙_職員一覧!J20) | K20: =IF(OR(J20="1",J20=1),"〇","") | L20: =IF(①【入力】別紙_職員一覧!L20="","",①【入力】別紙_職員一覧!L20) | M20: =IF(①【入力】別紙_職員一覧!M20="","",①【入力】別紙_職員一覧!M20) | N20: =IF(J20="","",IF(OR(J20="1",J20="2"),VLOOKUP(J20,①【入力】就業規則等一覧!$B$32:$AD$33,26,FALSE),VLOOKUP(J20,①【入力】就業規則等一覧!$B$13:$AD$27,26,FALSE))) | O20: =IF(M20="","",10000) | P20: =IF(N20="","",MIN(N20,10000)) | Q20: =IF(OR(M20="",N20=""),"",M20*P20)
A21: 9 | B21: =C21&D21 | C21: =IF(①【入力】別紙_職員一覧!C21="","",①【入力】別紙_職員一覧!C21) | D21: =IF(①【入力】別紙_職員一覧!D21="","",①【入力】別紙_職員一覧!D21) | E21: =IF(①【入力】別紙_職員一覧!E21="","",①【入力】別紙_職員一覧!E21) | F21: =IF(①【入力】別紙_職員一覧!F21="","",①【入力】別紙_職員一覧!F21) | G21: =IF(①【入力】別紙_職員一覧!G21="","",①【入力】別紙_職員一覧!G21) | H21: =IF(①【入力】別紙_職員一覧!H21="","",①【入力】別紙_職員一覧!H21) | I21: =IF(①【入力】別紙_職員一覧!I21="","",①【入力】別紙_職員一覧!I21) | J21: =IF(①【入力】別紙_職員一覧!J21="","",①【入力】別紙_職員一覧!J21) | K21: =IF(OR(J21="1",J21=1),"〇","") | L21: =IF(①【入力】別紙_職員一覧!L21="","",①【入力】別紙_職員一覧!L21) | M21: =IF(①【入力】別紙_職員一覧!M21="","",①【入力】別紙_職員一覧!M21) | N21: =IF(J21="","",IF(OR(J21="1",J21="2"),VLOOKUP(J21,①【入力】就業規則等一覧!$B$32:$AD$33,26,FALSE),VLOOKUP(J21,①【入力】就業規則等一覧!$B$13:$AD$27,26,FALSE))) | O21: =IF(M21="","",10000) | P21: =IF(N21="","",MIN(N21,10000)) | Q21: =IF(OR(M21="",N21=""),"",M21*P21)
A22: 10 | B22: =C22&D22 | C22: =IF(①【入力】別紙_職員一覧!C22="","",①【入力】別紙_職員一覧!C22) | D22: =IF(①【入力】別紙_職員一覧!D22="","",①【入力】別紙_職員一覧!D22) | E22: =IF(①【入力】別紙_職員一覧!E22="","",①【入力】別紙_職員一覧!E22) | F22: =IF(①【入力】別紙_職員一覧!F22="","",①【入力】別紙_職員一覧!F22) | G22: =IF(①【入力】別紙_職員一覧!G22="","",①【入力】別紙_職員一覧!G22) | H22: =IF(①【入力】別紙_職員一覧!H22="","",①【入力】別紙_職員一覧!H22) | I22: =IF(①【入力】別紙_職員一覧!I22="","",①【入力】別紙_職員一覧!I22) | J22: =IF(①【入力】別紙_職員一覧!J22="","",①【入力】別紙_職員一覧!J22) | K22: =IF(OR(J22="1",J22=1),"〇","") | L22: =IF(①【入力】別紙_職員一覧!L22="","",①【入力】別紙_職員一覧!L22) | M22: =IF(①【入力】別紙_職員一覧!M22="","",①【入力】別紙_職員一覧!M22) | N22: =IF(J22="","",IF(OR(J22="1",J22="2"),VLOOKUP(J22,①【入力】就業規則等一覧!$B$32:$AD$33,26,FALSE),VLOOKUP(J22,①【入力】就業規則等一覧!$B$13:$AD$27,26,FALSE))) | O22: =IF(M22="","",10000) | P22: =IF(N22="","",MIN(N22,10000)) | Q22: =IF(OR(M22="",N22=""),"",M22*P22)
A23: 11 | B23: =C23&D23 | C23: =IF(①【入力】別紙_職員一覧!C23="","",①【入力】別紙_職員一覧!C23) | D23: =IF(①【入力】別紙_職員一覧!D23="","",①【入力】別紙_職員一覧!D23) | E23: =IF(①【入力】別紙_職員一覧!E23="","",①【入力】別紙_職員一覧!E23) | F23: =IF(①【入力】別紙_職員一覧!F23="","",①【入力】別紙_職員一覧!F23) | G23: =IF(①【入力】別紙_職員一覧!G23="","",①【入力】別紙_職員一覧!G23) | H23: =IF(①【入力】別紙_職員一覧!H23="","",①【入力】別紙_職員一覧!H23) | I23: =IF(①【入力】別紙_職員一覧!I23="","",①【入力】別紙_職員一覧!I23) | J23: =IF(①【入力】別紙_職員一覧!J23="","",①【入力】別紙_職員一覧!J23) | K23: =IF(OR(J23="1",J23=1),"〇","") | L23: =IF(①【入力】別紙_職員一覧!L23="","",①【入力】別紙_職員一覧!L23) | M23: =IF(①【入力】別紙_職員一覧!M23="","",①【入力】別紙_職員一覧!M23) | N23: =IF(J23="","",IF(OR(J23="1",J23="2"),VLOOKUP(J23,①【入力】就業規則等一覧!$B$32:$AD$33,26,FALSE),VLOOKUP(J23,①【入力】就業規則等一覧!$B$13:$AD$27,26,FALSE))) | O23: =IF(M23="","",10000) | P23: =IF(N23="","",MIN(N23,10000)) | Q23: =IF(OR(M23="",N23=""),"",M23*P23)
A24: 12 | B24: =C24&D24 | C24: =IF(①【入力】別紙_職員一覧!C24="","",①【入力】別紙_職員一覧!C24) | D24: =IF(①【入力】別紙_職員一覧!D24="","",①【入力】別紙_職員一覧!D24) | E24: =IF(①【入力】別紙_職員一覧!E24="","",①【入力】別紙_職員一覧!E24) | F24: =IF(①【入力】別紙_職員一覧!F24="","",①【入力】別紙_職員一覧!F24) | G24: =IF(①【入力】別紙_職員一覧!G24="","",①【入力】別紙_職員一覧!G24) | H24: =IF(①【入力】別紙_職員一覧!H24="","",①【入力】別紙_職員一覧!H24) | I24: =IF(①【入力】別紙_職員一覧!I24="","",①【入力】別紙_職員一覧!I24) | J24: =IF(①【入力】別紙_職員一覧!J24="","",①【入力】別紙_職員一覧!J24) | K24: =IF(OR(J24="1",J24=1),"〇","") | L24: =IF(①【入力】別紙_職員一覧!L24="","",①【入力】別紙_職員一覧!L24) | M24: =IF(①【入力】別紙_職員一覧!M24="","",①【入力】別紙_職員一覧!M24) | N24: =IF(J24="","",IF(OR(J24="1",J24="2"),VLOOKUP(J24,①【入力】就業規則等一覧!$B$32:$AD$33,26,FALSE),VLOOKUP(J24,①【入力】就業規則等一覧!$B$13:$AD$27,26,FALSE))) | O24: =IF(M24="","",10000) | P24: =IF(N24="","",MIN(N24,10000)) | Q24: =IF(OR(M24="",N24=""),"",M24*P24)
... A41: 29 | B41: =C41&D41 | C41: =IF(①【入力】別紙_職員一覧!C41="","",①【入力】別紙_職員一覧!C41) | D41: =IF(①【入力】別紙_職員一覧!D41="","",①【入力】別紙_職員一覧!D41) | E41: =IF(①【入力】別紙_職員一覧!E41="","",①【入力】別紙_職員一覧!E41) | F41: =IF(①【入力】別紙_職員一覧!F41="","",①【入力】別紙_職員一覧!F41) | G41: =IF(①【入力】別紙_職員一覧!G41="","",①【入力】別紙_職員一覧!G41) | H41: =IF(①【入力】別紙_職員一覧!H41="","",①【入力】別紙_職員一覧!H41) | I41: =IF(①【入力】別紙_職員一覧!I41="","",①【入力】別紙_職員一覧!I41) | J41: =IF(①【入力】別紙_職員一覧!J41="","",①【入力】別紙_職員一覧!J41) | K41: =IF(OR(J41="1",J41=1),"〇","") | L41: =IF(①【入力】別紙_職員一覧!L41="","",①【入力】別紙_職員一覧!L41) | M41: =IF(①【入力】別紙_職員一覧!M41="","",①【入力】別紙_職員一覧!M41) | N41: =IF(J41="","",IF(OR(J41="1",J41="2"),VLOOKUP(J41,①【入力】就業規則等一覧!$B$32:$AD$33,26,FALSE),VLOOKUP(J41,①【入力】就業規則等一覧!$B$13:$AD$27,26,FALSE))) | O41: =IF(M41="","",10000) | P41: =IF(N41="","",MIN(N41,10000)) | Q41: =IF(OR(M41="",N41=""),"",M41*P41)
A42: 30 | B42: =C42&D42 | C42: =IF(①【入力】別紙_職員一覧!C42="","",①【入力】別紙_職員一覧!C42) | D42: =IF(①【入力】別紙_職員一覧!D42="","",①【入力】別紙_職員一覧!D42) | E42: =IF(①【入力】別紙_職員一覧!E42="","",①【入力】別紙_職員一覧!E42) | G42: =IF(①【入力】別紙_職員一覧!G42="","",①【入力】別紙_職員一覧!G42) | H42: =IF(①【入力】別紙_職員一覧!H42="","",①【入力】別紙_職員一覧!H42) | I42: =IF(①【入力】別紙_職員一覧!I42="","",①【入力】別紙_職員一覧!I42) | J42: =IF(①【入力】別紙_職員一覧!J42="","",①【入力】別紙_職員一覧!J42) | K42: =IF(OR(J42="1",J42=1),"〇","") | L42: =IF(①【入力】別紙_職員一覧!L42="","",①【入力】別紙_職員一覧!L42) | M42: =IF(①【入力】別紙_職員一覧!M42="","",①【入力】別紙_職員一覧!M42) | N42: =IF(J42="","",IF(OR(J42="1",J42="2"),VLOOKUP(J42,①【入力】就業規則等一覧!$B$32:$AD$33,26,FALSE),VLOOKUP(J42,①【入力】就業規則等一覧!$B$13:$AD$27,26,FALSE))) | O42: =IF(M42="","",10000) | P42: =IF(N42="","",MIN(N42,10000)) | Q42: =IF(OR(M42="",N42=""),"",M42*P42)
A43: 31 | B43: =C43&D43 | C43: =IF(①【入力】別紙_職員一覧!C43="","",①【入力】別紙_職員一覧!C43) | D43: =IF(①【入力】別紙_職員一覧!D43="","",①【入力】別紙_職員一覧!D43) | E43: =IF(①【入力】別紙_職員一覧!E43="","",①【入力】別紙_職員一覧!E43) | G43: =IF(①【入力】別紙_職員一覧!G43="","",①【入力】別紙_職員一覧!G43) | H43: =IF(①【入力】別紙_職員一覧!H43="","",①【入力】別紙_職員一覧!H43) | I43: =IF(①【入力】別紙_職員一覧!I43="","",①【入力】別紙_職員一覧!I43) | J43: =IF(①【入力】別紙_職員一覧!J43="","",①【入力】別紙_職員一覧!J43) | K43: =IF(OR(J43="1",J43=1),"〇","") | L43: =IF(①【入力】別紙_職員一覧!L43="","",①【入力】別紙_職員一覧!L43) | M43: =IF(①【入力】別紙_職員一覧!M43="","",①【入力】別紙_職員一覧!M43) | N43: =IF(J43="","",IF(OR(J43="1",J43="2"),VLOOKUP(J43,①【入力】就業規則等一覧!$B$32:$AD$33,26,FALSE),VLOOKUP(J43,①【入力】就業規則等一覧!$B$13:$AD$27,26,FALSE))) | O43: =IF(M43="","",10000) | P43: =IF(N43="","",MIN(N43,10000)) | Q43: =IF(OR(M43="",N43=""),"",M43*P43)
A44: 32 | B44: =C44&D44 | C44: =IF(①【入力】別紙_職員一覧!C44="","",①【入力】別紙_職員一覧!C44) | D44: =IF(①【入力】別紙_職員一覧!D44="","",①【入力】別紙_職員一覧!D44) | E44: =IF(①【入力】別紙_職員一覧!E44="","",①【入力】別紙_職員一覧!E44) | G44: =IF(①【入力】別紙_職員一覧!G44="","",①【入力】別紙_職員一覧!G44) | H44: =IF(①【入力】別紙_職員一覧!H44="","",①【入力】別紙_職員一覧!H44) | I44: =IF(①【入力】別紙_職員一覧!I44="","",①【入力】別紙_職員一覧!I44) | J44: =IF(①【入力】別紙_職員一覧!J44="","",①【入力】別紙_職員一覧!J44) | K44: =IF(OR(J44="1",J44=1),"〇","") | L44: =IF(①【入力】別紙_職員一覧!L44="","",①【入力】別紙_職員一覧!L44) | M44: =IF(①【入力】別紙_職員一覧!M44="","",①【入力】別紙_職員一覧!M44) | N44: =IF(J44="","",IF(OR(J44="1",J44="2"),VLOOKUP(J44,①【入力】就業規則等一覧!$B$32:$AD$33,26,FALSE),VLOOKUP(J44,①【入力】就業規則等一覧!$B$13:$AD$27,26,FALSE))) | O44: =IF(M44="","",10000) | P44: =IF(N44="","",MIN(N44,10000)) | Q44: =IF(OR(M44="",N44=""),"",M44*P44)
A45: 33 | B45: =C45&D45 | C45: =IF(①【入力】別紙_職員一覧!C45="","",①【入力】別紙_職員一覧!C45) | D45: =IF(①【入力】別紙_職員一覧!D45="","",①【入力】別紙_職員一覧!D45) | E45: =IF(①【入力】別紙_職員一覧!E45="","",①【入力】別紙_職員一覧!E45) | F45: =IF(①【入力】別紙_職員一覧!F45="","",①【入力】別紙_職員一覧!F45) | G45: =IF(①【入力】別紙_職員一覧!G45="","",①【入力】別紙_職員一覧!G45) | H45: =IF(①【入力】別紙_職員一覧!H45="","",①【入力】別紙_職員一覧!H45) | I45: =IF(①【入力】別紙_職員一覧!I45="","",①【入力】別紙_職員一覧!I45) | J45: =IF(①【入力】別紙_職員一覧!J45="","",①【入力】別紙_職員一覧!J45) | K45: =IF(OR(J45="1",J45=1),"〇","") | L45: =IF(①【入力】別紙_職員一覧!L45="","",①【入力】別紙_職員一覧!L45) | M45: =IF(①【入力】別紙_職員一覧!M45="","",①【入力】別紙_職員一覧!M45) | N45: =IF(J45="","",IF(OR(J45="1",J45="2"),VLOOKUP(J45,①【入力】就業規則等一覧!$B$32:$AD$33,26,FALSE),VLOOKUP(J45,①【入力】就業規則等一覧!$B$13:$AD$27,26,FALSE))) | O45: =IF(M45="","",10000) | P45: =IF(N45="","",MIN(N45,10000)) | Q45: =IF(OR(M45="",N45=""),"",M45*P45)
A46: 34 | B46: =C46&D46 | C46: =IF(①【入力】別紙_職員一覧!C46="","",①【入力】別紙_職員一覧!C46) | D46: =IF(①【入力】別紙_職員一覧!D46="","",①【入力】別紙_職員一覧!D46) | E46: =IF(①【入力】別紙_職員一覧!E46="","",①【入力】別紙_職員一覧!E46) | F46: =IF(①【入力】別紙_職員一覧!F46="","",①【入力】別紙_職員一覧!F46) | G46: =IF(①【入力】別紙_職員一覧!G46="","",①【入力】別紙_職員一覧!G46) | H46: =IF(①【入力】別紙_職員一覧!H46="","",①【入力】別紙_職員一覧!H46) | I46: =IF(①【入力】別紙_職員一覧!I46="","",①【入力】別紙_職員一覧!I46) | J46: =IF(①【入力】別紙_職員一覧!J46="","",①【入力】別紙_職員一覧!J46) | K46: =IF(OR(J46="1",J46=1),"〇","") | L46: =IF(①【入力】別紙_職員一覧!L46="","",①【入力】別紙_職員一覧!L46) | M46: =IF(①【入力】別紙_職員一覧!M46="","",①【入力】別紙_職員一覧!M46) | N46: =IF(J46="","",IF(OR(J46="1",J46="2"),VLOOKUP(J46,①【入力】就業規則等一覧!$B$32:$AD$33,26,FALSE),VLOOKUP(J46,①【入力】就業規則等一覧!$B$13:$AD$27,26,FALSE))) | O46: =IF(M46="","",10000) | P46: =IF(N46="","",MIN(N46,10000)) | Q46: =IF(OR(M46="",N46=""),"",M46*P46)
A47: 35 | B47: =C47&D47 | C47: =IF(①【入力】別紙_職員一覧!C47="","",①【入力】別紙_職員一覧!C47) | D47: =IF(①【入力】別紙_職員一覧!D47="","",①【入力】別紙_職員一覧!D47) | E47: =IF(①【入力】別紙_職員一覧!E47="","",①【入力】別紙_職員一覧!E47) | F47: =IF(①【入力】別紙_職員一覧!F47="","",①【入力】別紙_職員一覧!F47) | G47: =IF(①【入力】別紙_職員一覧!G47="","",①【入力】別紙_職員一覧!G47) | H47: =IF(①【入力】別紙_職員一覧!H47="","",①【入力】別紙_職員一覧!H47) | I47: =IF(①【入力】別紙_職員一覧!I47="","",①【入力】別紙_職員一覧!I47) | J47: =IF(①【入力】別紙_職員一覧!J47="","",①【入力】別紙_職員一覧!J47) | K47: =IF(OR(J47="1",J47=1),"〇","") | L47: =IF(①【入力】別紙_職員一覧!L47="","",①【入力】別紙_職員一覧!L47) | M47: =IF(①【入力】別紙_職員一覧!M47="","",①【入力】別紙_職員一覧!M47) | N47: =IF(J47="","",IF(OR(J47="1",J47="2"),VLOOKUP(J47,①【入力】就業規則等一覧!$B$32:$AD$33,26,FALSE),VLOOKUP(J47,①【入力】就業規則等一覧!$B$13:$AD$27,26,FALSE))) | O47: =IF(M47="","",10000) | P47: =IF(N47="","",MIN(N47,10000)) | Q47: =IF(OR(M47="",N47=""),"",M47*P47)
A48: 36 | B48: =C48&D48 | C48: =IF(①【入力】別紙_職員一覧!C48="","",①【入力】別紙_職員一覧!C48) | D48: =IF(①【入力】別紙_職員一覧!D48="","",①【入力】別紙_職員一覧!D48) | E48: =IF(①【入力】別紙_職員一覧!E48="","",①【入力】別紙_職員一覧!E48) | F48: =IF(①【入力】別紙_職員一覧!F48="","",①【入力】別紙_職員一覧!F48) | G48: =IF(①【入力】別紙_職員一覧!G48="","",①【入力】別紙_職員一覧!G48) | H48: =IF(①【入力】別紙_職員一覧!H48="","",①【入力】別紙_職員一覧!H48) | I48: =IF(①【入力】別紙_職員一覧!I48="","",①【入力】別紙_職員一覧!I48) | J48: =IF(①【入力】別紙_職員一覧!J48="","",①【入力】別紙_職員一覧!J48) | K48: =IF(OR(J48="1",J48=1),"〇","") | L48: =IF(①【入力】別紙_職員一覧!L48="","",①【入力】別紙_職員一覧!L48) | M48: =IF(①【入力】別紙_職員一覧!M48="","",①【入力】別紙_職員一覧!M48) | N48: =IF(J48="","",IF(OR(J48="1",J48="2"),VLOOKUP(J48,①【入力】就業規則等一覧!$B$32:$AD$33,26,FALSE),VLOOKUP(J48,①【入力】就業規則等一覧!$B$13:$AD$27,26,FALSE))) | O48: =IF(M48="","",10000) | P48: =IF(N48="","",MIN(N48,10000)) | Q48: =IF(OR(M48="",N48=""),"",M48*P48)
A49: 37 | B49: =C49&D49 | C49: =IF(①【入力】別紙_職員一覧!C49="","",①【入力】別紙_職員一覧!C49) | D49: =IF(①【入力】別紙_職員一覧!D49="","",①【入力】別紙_職員一覧!D49) | E49: =IF(①【入力】別紙_職員一覧!E49="","",①【入力】別紙_職員一覧!E49) | F49: =IF(①【入力】別紙_職員一覧!F49="","",①【入力】別紙_職員一覧!F49) | G49: =IF(①【入力】別紙_職員一覧!G49="","",①【入力】別紙_職員一覧!G49) | H49: =IF(①【入力】別紙_職員一覧!H49="","",①【入力】別紙_職員一覧!H49) | I49: =IF(①【入力】別紙_職員一覧!I49="","",①【入力】別紙_職員一覧!I49) | J49: =IF(①【入力】別紙_職員一覧!J49="","",①【入力】別紙_職員一覧!J49) | K49: =IF(OR(J49="1",J49=1),"〇","") | L49: =IF(①【入力】別紙_職員一覧!L49="","",①【入力】別紙_職員一覧!L49) | M49: =IF(①【入力】別紙_職員一覧!M49="","",①【入力】別紙_職員一覧!M49) | N49: =IF(J49="","",IF(OR(J49="1",J49="2"),VLOOKUP(J49,①【入力】就業規則等一覧!$B$32:$AD$33,26,FALSE),VLOOKUP(J49,①【入力】就業規則等一覧!$B$13:$AD$27,26,FALSE))) | O49: =IF(M49="","",10000) | P49: =IF(N49="","",MIN(N49,10000)) | Q49: =IF(OR(M49="",N49=""),"",M49*P49)
A50: 38 | B50: =C50&D50 | C50: =IF(①【入力】別紙_職員一覧!C50="","",①【入力】別紙_職員一覧!C50) | D50: =IF(①【入力】別紙_職員一覧!D50="","",①【入力】別紙_職員一覧!D50) | E50: =IF(①【入力】別紙_職員一覧!E50="","",①【入力】別紙_職員一覧!E50) | F50: =IF(①【入力】別紙_職員一覧!F50="","",①【入力】別紙_職員一覧!F50) | G50: =IF(①【入力】別紙_職員一覧!G50="","",①【入力】別紙_職員一覧!G50) | H50: =IF(①【入力】別紙_職員一覧!H50="","",①【入力】別紙_職員一覧!H50) | I50: =IF(①【入力】別紙_職員一覧!I50="","",①【入力】別紙_職員一覧!I50) | J50: =IF(①【入力】別紙_職員一覧!J50="","",①【入力】別紙_職員一覧!J50) | K50: =IF(OR(J50="1",J50=1),"〇","") | L50: =IF(①【入力】別紙_職員一覧!L50="","",①【入力】別紙_職員一覧!L50) | M50: =IF(①【入力】別紙_職員一覧!M50="","",①【入力】別紙_職員一覧!M50) | N50: =IF(J50="","",IF(OR(J50="1",J50="2"),VLOOKUP(J50,①【入力】就業規則等一覧!$B$32:$AD$33,26,FALSE),VLOOKUP(J50,①【入力】就業規則等一覧!$B$13:$AD$27,26,FALSE))) | O50: =IF(M50="","",10000) | P50: =IF(N50="","",MIN(N50,10000)) | Q50: =IF(OR(M50="",N50=""),"",M50*P50)
A51: 39 | B51: =C51&D51 | C51: =IF(①【入力】別紙_職員一覧!C51="","",①【入力】別紙_職員一覧!C51) | D51: =IF(①【入力】別紙_職員一覧!D51="","",①【入力】別紙_職員一覧!D51) | E51: =IF(①【入力】別紙_職員一覧!E51="","",①【入力】別紙_職員一覧!E51) | F51: =IF(①【入力】別紙_職員一覧!F51="","",①【入力】別紙_職員一覧!F51) | G51: =IF(①【入力】別紙_職員一覧!G51="","",①【入力】別紙_職員一覧!G51) | H51: =IF(①【入力】別紙_職員一覧!H51="","",①【入力】別紙_職員一覧!H51) | I51: =IF(①【入力】別紙_職員一覧!I51="","",①【入力】別紙_職員一覧!I51) | J51: =IF(①【入力】別紙_職員一覧!J51="","",①【入力】別紙_職員一覧!J51) | K51: =IF(OR(J51="1",J51=1),"〇","") | L51: =IF(①【入力】別紙_職員一覧!L51="","",①【入力】別紙_職員一覧!L51) | M51: =IF(①【入力】別紙_職員一覧!M51="","",①【入力】別紙_職員一覧!M51) | N51: =IF(J51="","",IF(OR(J51="1",J51="2"),VLOOKUP(J51,①【入力】就業規則等一覧!$B$32:$AD$33,26,FALSE),VLOOKUP(J51,①【入力】就業規則等一覧!$B$13:$AD$27,26,FALSE))) | O51: =IF(M51="","",10000) | P51: =IF(N51="","",MIN(N51,10000)) | Q51: =IF(OR(M51="",N51=""),"",M51*P51)
A52: 40 | B52: =C52&D52 | C52: =IF(①【入力】別紙_職員一覧!C52="","",①【入力】別紙_職員一覧!C52) | D52: =IF(①【入力】別紙_職員一覧!D52="","",①【入力】別紙_職員一覧!D52) | E52: =IF(①【入力】別紙_職員一覧!E52="","",①【入力】別紙_職員一覧!E52) | F52: =IF(①【入力】別紙_職員一覧!F52="","",①【入力】別紙_職員一覧!F52) | G52: =IF(①【入力】別紙_職員一覧!G52="","",①【入力】別紙_職員一覧!G52) | H52: =IF(①【入力】別紙_職員一覧!H52="","",①【入力】別紙_職員一覧!H52) | I52: =IF(①【入力】別紙_職員一覧!I52="","",①【入力】別紙_職員一覧!I52) | J52: =IF(①【入力】別紙_職員一覧!J52="","",①【入力】別紙_職員一覧!J52) | K52: =IF(OR(J52="1",J52=1),"〇","") | L52: =IF(①【入力】別紙_職員一覧!L52="","",①【入力】別紙_職員一覧!L52) | M52: =IF(①【入力】別紙_職員一覧!M52="","",①【入力】別紙_職員一覧!M52) | N52: =IF(J52="","",IF(OR(J52="1",J52="2"),VLOOKUP(J52,①【入力】就業規則等一覧!$B$32:$AD$33,26,FALSE),VLOOKUP(J52,①【入力】就業規則等一覧!$B$13:$AD$27,26,FALSE))) | O52: =IF(M52="","",10000) | P52: =IF(N52="","",MIN(N52,10000)) | Q52: =IF(OR(M52="",N52=""),"",M52*P52)
A53: 41 | B53: =C53&D53 | C53: =IF(①【入力】別紙_職員一覧!C53="","",①【入力】別紙_職員一覧!C53) | D53: =IF(①【入力】別紙_職員一覧!D53="","",①【入力】別紙_職員一覧!D53) | E53: =IF(①【入力】別紙_職員一覧!E53="","",①【入力】別紙_職員一覧!E53) | F53: =IF(①【入力】別紙_職員一覧!F53="","",①【入力】別紙_職員一覧!F53) | G53: =IF(①【入力】別紙_職員一覧!G53="","",①【入力】別紙_職員一覧!G53) | H53: =IF(①【入力】別紙_職員一覧!H53="","",①【入力】別紙_職員一覧!H53) | I53: =IF(①【入力】別紙_職員一覧!I53="","",①【入力】別紙_職員一覧!I53) | J53: =IF(①【入力】別紙_職員一覧!J53="","",①【入力】別紙_職員一覧!J53) | K53: =IF(OR(J53="1",J53=1),"〇","") | L53: =IF(①【入力】別紙_職員一覧!L53="","",①【入力】別紙_職員一覧!L53) | M53: =IF(①【入力】別紙_職員一覧!M53="","",①【入力】別紙_職員一覧!M53) | N53: =IF(J53="","",IF(OR(J53="1",J53="2"),VLOOKUP(J53,①【入力】就業規則等一覧!$B$32:$AD$33,26,FALSE),VLOOKUP(J53,①【入力】就業規則等一覧!$B$13:$AD$27,26,FALSE))) | O53: =IF(M53="","",10000) | P53: =IF(N53="","",MIN(N53,10000)) | Q53: =IF(OR(M53="",N53=""),"",M53*P53)
A54: 42 | B54: =C54&D54 | C54: =IF(①【入力】別紙_職員一覧!C54="","",①【入力】別紙_職員一覧!C54) | D54: =IF(①【入力】別紙_職員一覧!D54="","",①【入力】別紙_職員一覧!D54) | E54: =IF(①【入力】別紙_職員一覧!E54="","",①【入力】別紙_職員一覧!E54) | F54: =IF(①【入力】別紙_職員一覧!F54="","",①【入力】別紙_職員一覧!F54) | G54: =IF(①【入力】別紙_職員一覧!G54="","",①【入力】別紙_職員一覧!G54) | H54: =IF(①【入力】別紙_職員一覧!H54="","",①【入力】別紙_職員一覧!H54) | I54: =IF(①【入力】別紙_職員一覧!I54="","",①【入力】別紙_職員一覧!I54) | J54: =IF(①【入力】別紙_職員一覧!J54="","",①【入力】別紙_職員一覧!J54) | K54: =IF(OR(J54="1",J54=1),"〇","") | L54: =IF(①【入力】別紙_職員一覧!L54="","",①【入力】別紙_職員一覧!L54) | M54: =IF(①【入力】別紙_職員一覧!M54="","",①【入力】別紙_職員一覧!M54) | N54: =IF(J54="","",IF(OR(J54="1",J54="2"),VLOOKUP(J54,①【入力】就業規則等一覧!$B$32:$AD$33,26,FALSE),VLOOKUP(J54,①【入力】就業規則等一覧!$B$13:$AD$27,26,FALSE))) | O54: =IF(M54="","",10000) | P54: =IF(N54="","",MIN(N54,10000)) | Q54: =IF(OR(M54="",N54=""),"",M54*P54)
A55: 43 | B55: =C55&D55 | C55: =IF(①【入力】別紙_職員一覧!C55="","",①【入力】別紙_職員一覧!C55) | D55: =IF(①【入力】別紙_職員一覧!D55="","",①【入力】別紙_職員一覧!D55) | E55: =IF(①【入力】別紙_職員一覧!E55="","",①【入力】別紙_職員一覧!E55) | F55: =IF(①【入力】別紙_職員一覧!F55="","",①【入力】別紙_職員一覧!F55) | G55: =IF(①【入力】別紙_職員一覧!G55="","",①【入力】別紙_職員一覧!G55) | H55: =IF(①【入力】別紙_職員一覧!H55="","",①【入力】別紙_職員一覧!H55) | I55: =IF(①【入力】別紙_職員一覧!I55="","",①【入力】別紙_職員一覧!I55) | J55: =IF(①【入力】別紙_職員一覧!J55="","",①【入力】別紙_職員一覧!J55) | K55: =IF(OR(J55="1",J55=1),"〇","") | L55: =IF(①【入力】別紙_職員一覧!L55="","",①【入力】別紙_職員一覧!L55) | M55: =IF(①【入力】別紙_職員一覧!M55="","",①【入力】別紙_職員一覧!M55) | N55: =IF(J55="","",IF(OR(J55="1",J55="2"),VLOOKUP(J55,①【入力】就業規則等一覧!$B$32:$AD$33,26,FALSE),VLOOKUP(J55,①【入力】就業規則等一覧!$B$13:$AD$27,26,FALSE))) | O55: =IF(M55="","",10000) | P55: =IF(N55="","",MIN(N55,10000)) | Q55: =IF(OR(M55="",N55=""),"",M55*P55)
A56: 44 | B56: =C56&D56 | C56: =IF(①【入力】別紙_職員一覧!C56="","",①【入力】別紙_職員一覧!C56) | D56: =IF(①【入力】別紙_職員一覧!D56="","",①【入力】別紙_職員一覧!D56) | E56: =IF(①【入力】別紙_職員一覧!E56="","",①【入力】別紙_職員一覧!E56) | F56: =IF(①【入力】別紙_職員一覧!F56="","",①【入力】別紙_職員一覧!F56) | G56: =IF(①【入力】別紙_職員一覧!G56="","",①【入力】別紙_職員一覧!G56) | H56: =IF(①【入力】別紙_職員一覧!H56="","",①【入力】別紙_職員一覧!H56) | I56: =IF(①【入力】別紙_職員一覧!I56="","",①【入力】別紙_職員一覧!I56) | J56: =IF(①【入力】別紙_職員一覧!J56="","",①【入力】別紙_職員一覧!J56) | K56: =IF(OR(J56="1",J56=1),"〇","") | L56: =IF(①【入力】別紙_職員一覧!L56="","",①【入力】別紙_職員一覧!L56) | M56: =IF(①【入力】別紙_職員一覧!M56="","",①【入力】別紙_職員一覧!M56) | N56: =IF(J56="","",IF(OR(J56="1",J56="2"),VLOOKUP(J56,①【入力】就業規則等一覧!$B$32:$AD$33,26,FALSE),VLOOKUP(J56,①【入力】就業規則等一覧!$B$13:$AD$27,26,FALSE))) | O56: =IF(M56="","",10000) | P56: =IF(N56="","",MIN(N56,10000)) | Q56: =IF(OR(M56="",N56=""),"",M56*P56)
... A162: 150 | B162: =C162&D162 | C162: =IF(①【入力】別紙_職員一覧!C162="","",①【入力】別紙_職員一覧!C162) | D162: =IF(①【入力】別紙_職員一覧!D162="","",①【入力】別紙_職員一覧!D162) | E162: =IF(①【入力】別紙_職員一覧!E162="","",①【入力】別紙_職員一覧!E162) | F162: =IF(①【入力】別紙_職員一覧!F162="","",①【入力】別紙_職員一覧!F162) | G162: =IF(①【入力】別紙_職員一覧!G162="","",①【入力】別紙_職員一覧!G162) | H162: =IF(①【入力】別紙_職員一覧!H162="","",①【入力】別紙_職員一覧!H162) | I162: =IF(①【入力】別紙_職員一覧!I162="","",①【入力】別紙_職員一覧!I162) | J162: =IF(①【入力】別紙_職員一覧!J162="","",①【入力】別紙_職員一覧!J162) | K162: =IF(OR(J162="1",J162=1),"〇","") | L162: =IF(①【入力】別紙_職員一覧!L162="","",①【入力】別紙_職員一覧!L162) | M162: =IF(①【入力】別紙_職員一覧!M162="","",①【入力】別紙_職員一覧!M162) | N162: =IF(J162="","",IF(OR(J162="1",J162="2"),VLOOKUP(J162,①【入力】就業規則等一覧!$B$32:$AD$33,26,FALSE),VLOOKUP(J162,①【入力】就業規則等一覧!$B$13:$AD$27,26,FALSE))) | O162: =IF(M162="","",10000) | P162: =IF(N162="","",MIN(N162,10000)) | Q162: =IF(OR(M162="",N162=""),"",M162*P162)

Sheet ②事業所別一覧 (変更)
C1: =【入力シート】!C1&【入力シート】!D1&"年度品川区障害福祉サービス等居住支援手当事業補助金変更交付申請書 事業所別補助対象額一覧" -> 令和7年度品川区障害福祉サービス等居住支援手当事業補助金変更交付申請書 事業所別補助対象額一覧
J3: 法人名称： | K3: =IF(【入力シート】!J22="","",【入力シート】!J22)
A6: No | B6: ※作業用※ 配列数式は編集後はCtrl+Shift+Enter | C6: 事業所 指定番号 | D6: サービス種別 | E6: 事業所名称 | F6: 事業所ごとの 補助対象額 | G6: 事業所ごとの 交付申請額 | H6: 職員総数 | I6: 採用予定者 | J6: 役員 | K6: 福祉・介護職員
A7: 1 | B7: =IF('②【入力】別紙_職員一覧（変更）'!B13="","",'②【入力】別紙_職員一覧（変更）'!B13) | C7: =IF(B7="","",VLOOKUP($B7,'②【入力】別紙_職員一覧（変更）'!$B$13:$Q$162,2,FALSE)) | D7: =IF(B7="","",VLOOKUP($B7,'②【入力】別紙_職員一覧（変更）'!$B$13:$Q$162,3,FALSE)) | E7: =IF(B7="","",VLOOKUP($B7,'②【入力】別紙_職員一覧（変更）'!$B$13:$Q$162,4,FALSE)) | F7: =IF(B7="","",SUMIF('②【入力】別紙_職員一覧（変更）'!$B$13:$B$162,'②事業所別一覧 (変更)'!B7,'②【入力】別紙_職員一覧（変更）'!$Q$13:$Q$162)) | G7: =IF(C7="","",ROUNDDOWN(F7+ROUNDUP(F7*0.15,0),-3)) | H7: =IF(B7="","",COUNTIF('②【入力】別紙_職員一覧（変更）'!$B$13:$B$162,'②事業所別一覧 (変更)'!B7)) | I7: =IF(B7="","",COUNTIFS('②【入力】別紙_職員一覧（変更）'!$B$13:$B$162,'②事業所別一覧 (変更)'!B7,'②【入力】別紙_職員一覧（変更）'!$F$13:$F$162,"〇")) | J7: =IF(B7="","",COUNTIFS('②【入力】別紙_職員一覧（変更）'!$B$13:$B$162,'②事業所別一覧 (変更)'!B7,'②【入力】別紙_職員一覧（変更）'!$K$13:$K$162,"〇")) | K7: =IF(B7="","",COUNTIFS('②【入力】別紙_職員一覧（変更）'!$B$13:$B$162,'②事業所別一覧 (変更)'!B7,'②【入力】別紙_職員一覧（変更）'!$L$13:$L$162,$K$6)) | L7: =IF(B7="","",COUNTIFS('②【入力】別紙_職員一覧（変更）'!$B$13:$B$112,'②事業所別一覧 (変更)'!B7,'②【入力】別紙_職員一覧（変更）'!$L$13:$L$112,$L$6)) | M7: =IF(B7="","",COUNTIFS('②【入力】別紙_職員一覧（変更）'!$B$13:$B$112,'②事業所別一覧 (変更)'!B7,'②【入力】別紙_職員一覧（変更）'!$L$13:$L$112,$M$6))
