Workbook

Sheet 計算シート
B9: No | C9: 品番号 | D9: 商品名 | E9: あっせん価格（補助前） | F9: 個数 | G9: 小計金額
B10: 1 | D10: =VLOOKUP(C10,リスト!A2:B19,2,0) -> #N/A | E10: =VLOOKUP(C10,リスト!A2:C19,3,0) -> #N/A | G10: =E10*F10 -> #N/A | I10: ="No."&B10&" 品番号："&C10&" 商品名："&D10&" あっせん価格："&E10&" 個数："&F10&" 小計金額："&G10 -> #N/A
B11: 2 | D11: =VLOOKUP(C11,リスト!A3:B20,2,0) -> #N/A | E11: =VLOOKUP(C11,リスト!A3:C20,3,0) -> #N/A | G11: =E11*F11 -> #N/A | I11: ="No."&B11&" 品番号："&C11&" 商品名："&D11&" あっせん価格："&E11&" 個数："&F11&" 小計金額："&G11 -> #N/A
B12: 3 | D12: =VLOOKUP(C12,リスト!A4:B21,2,0) -> #N/A | E12: =VLOOKUP(C12,リスト!A4:C21,3,0) -> #N/A | G12: =E12*F12 -> #N/A | I12: ="No."&B12&" 品番号："&C12&" 商品名："&D12&" あっせん価格："&E12&" 個数："&F12&" 小計金額："&G12 -> #N/A
B13: 4 | D13: =VLOOKUP(C13,リスト!A5:B22,2,0) -> #N/A | E13: =VLOOKUP(C13,リスト!A5:C22,3,0) -> #N/A | G13: =E13*F13 -> #N/A | I13: ="No."&B13&" 品番号："&C13&" 商品名："&D13&" あっせん価格："&E13&" 個数："&F13&" 小計金額："&G13 -> #N/A
B14: 5 | D14: =VLOOKUP(C14,リスト!A6:B23,2,0) -> #N/A | E14: =VLOOKUP(C14,リスト!A6:C23,3,0) -> #N/A | G14: =E14*F14 -> #N/A | I14: ="No."&B14&" 品番号："&C14&" 商品名："&D14&" あっせん価格："&E14&" 個数："&F14&" 小計金額："&G14 -> #N/A
B15: 6 | D15: =VLOOKUP(C15,リスト!A7:B24,2,0) -> #N/A | E15: =VLOOKUP(C15,リスト!A7:C24,3,0) -> #N/A | G15: =E15*F15 -> #N/A | I15: ="No."&B15&" 品番号："&C15&" 商品名："&D15&" あっせん価格："&E15&" 個数："&F15&" 小計金額："&G15 -> #N/A
B16: 7 | D16: =VLOOKUP(C16,リスト!A8:B25,2,0) -> #N/A | E16: =VLOOKUP(C16,リスト!A8:C25,3,0) -> #N/A | G16: =E16*F16 -> #N/A | I16: ="No."&B16&" 品番号："&C16&" 商品名："&D16&" あっせん価格："&E16&" 個数："&F16&" 小計金額："&G16 -> #N/A
B17: 8 | D17: =VLOOKUP(C17,リスト!A9:B26,2,0) -> #N/A | E17: =VLOOKUP(C17,リスト!A9:C26,3,0) -> #N/A | G17: =E17*F17 -> #N/A | I17: ="No."&B17&" 品番号："&C17&" 商品名："&D17&" あっせん価格："&E17&" 個数："&F17&" 小計金額："&G17 -> #N/A
B18: 9 | D18: =VLOOKUP(C18,リスト!A10:B27,2,0) -> #N/A | E18: =VLOOKUP(C18,リスト!A10:C27,3,0) -> #N/A | G18: =E18*F18 -> #N/A | I18: ="No."&B18&" 品番号："&C18&" 商品名："&D18&" あっせん価格："&E18&" 個数："&F18&" 小計金額："&G18 -> #N/A
B19: 10 | D19: =VLOOKUP(C19,リスト!A11:B28,2,0) -> #N/A | E19: =VLOOKUP(C19,リスト!A11:C28,3,0) -> #N/A | G19: =E19*F19 -> #N/A | I19: ="No."&B19&" 品番号："&C19&" 商品名："&D19&" あっせん価格："&E19&" 個数："&F19&" 小計金額："&G19 -> #N/A
F21: 合計金額 | G21: =_xlfn.AGGREGATE(9,6,G10:G18) -> 0 | H21: ←こちらの金額を代引きでお支払いください
E22: 参考： | F22: 申請者負担 | G22: =IF(G21<10000,ROUNDUP(G21/2,0),G21-5000) -> 0 | H22: ←こちらの金額が最終的な申請者負担額となります。
F23: 区補助 | G23: =G21-G22 -> 0
B24: ↓メールの作成等にご使用ください
B25: {=_xlfn.TEXTJOIN(CHAR(10),TRUE,_xlfn._xlws.FILTER("No."&B10:B19&" 品番号："&C10:C19&" 商品名："&D10:D19&" あっせん価格："&E10:E19&" 個数："&F10:F19&" 小計金額："&G10:G19,ISNUMBER(G10:G19)))&CHAR(10)&CHAR(10)&"合計金額："&TEXT(G21,"#,##0")} -> #VALUE!

Sheet リスト
A1: 品番号 | B1: 商品名 | C1: 補助前金額
A2: 7930 | B2: マグニチュード７（ML-35）〈25㎝～35㎝〉 | C2: 8883 | E2: 1
A3: 7931 | B3: マグニチュード７（ML-50）〈35㎝～50㎝〉 | C3: 9163 | E3: 2
A4: 7932 | B4: マグニチュード７（ML-80）〈50㎝～80㎝〉 | C4: 9818 | E4: 3
A5: 7933 | B5: マグニチュード７（ML-110）〈80㎝～110㎝〉 | C5: 11500 | E5: 4
A6: 7091 | B6: ふんばりくんZ | C6: 3834 | E6: 5
A7: 7341 | B7: 転倒防止ベルト〈ビヨンタ〉 | C7: 3198 | E7: 6
A8: 7058 | B8: 転倒防止ベルト〈tafucaラックフラット〉 | C8: 3254 | E8: 7
A9: 7420 | B9: 不動王T型固定式 | C9: 3273 | E9: 8
A10: 7425 | B10: スーパー不動王ホールド | C10: 6078 | E10: 9
A11: 7045 | B11: タンスガードⅡ | C11: 1964 | E11: 10
A12: 7099 | B12: 家具転倒防止具〈L字型金具〉 | C12: 2338
A13: 7050 | B13: 家具転倒防止具〈ふんばる君〉 | C13: 2057
A14: 7039 | B14: とびらロック | C14: 1870
A15: 7047 | B15: エコストッパーゼロ | C15: 3721
A16: 7345 | B16: OA型機器用耐震固定バンド〈リンクストッパー〉（２本１組） | C16: 2029
A17: 7336 | B17: OA型機器用耐震固定バンド〈リンクストッパー〉（４本１組） | C17: 3207
A18: 7328 | B18: 透明耐震ゴム〈G-BLOXゲル〉 | C18: 2338
A19: 7037 | B19: ガラス飛散防止フィルム | C19: 3086
